BEGIN:VCALENDAR
VERSION:2.0
PRODID:-//Midland United Methodist Church - ECPv6.15.20//NONSGML v1.0//EN
CALSCALE:GREGORIAN
METHOD:PUBLISH
X-WR-CALNAME:Midland United Methodist Church
X-ORIGINAL-URL:https://midlandunitedmethodist.com
X-WR-CALDESC:Events for Midland United Methodist Church
REFRESH-INTERVAL;VALUE=DURATION:PT1H
X-Robots-Tag:noindex
X-PUBLISHED-TTL:PT1H
BEGIN:VTIMEZONE
TZID:America/Chicago
BEGIN:DAYLIGHT
TZOFFSETFROM:-0600
TZOFFSETTO:-0500
TZNAME:CDT
DTSTART:20240310T080000
END:DAYLIGHT
BEGIN:STANDARD
TZOFFSETFROM:-0500
TZOFFSETTO:-0600
TZNAME:CST
DTSTART:20241103T070000
END:STANDARD
BEGIN:DAYLIGHT
TZOFFSETFROM:-0600
TZOFFSETTO:-0500
TZNAME:CDT
DTSTART:20250309T080000
END:DAYLIGHT
BEGIN:STANDARD
TZOFFSETFROM:-0500
TZOFFSETTO:-0600
TZNAME:CST
DTSTART:20251102T070000
END:STANDARD
BEGIN:DAYLIGHT
TZOFFSETFROM:-0600
TZOFFSETTO:-0500
TZNAME:CDT
DTSTART:20260308T080000
END:DAYLIGHT
BEGIN:STANDARD
TZOFFSETFROM:-0500
TZOFFSETTO:-0600
TZNAME:CST
DTSTART:20261101T070000
END:STANDARD
END:VTIMEZONE
BEGIN:VEVENT
DTSTART;TZID=America/Chicago:20250323T090000
DTEND;TZID=America/Chicago:20250323T120000
DTSTAMP:20260417T115004
CREATED:20250323T160030Z
LAST-MODIFIED:20250323T160030Z
UID:10000075-1742720400-1742731200@midlandunitedmethodist.com
SUMMARY:Social Action Day
DESCRIPTION:Social Action Day by United Women in Faith. \nThis year’s Social Action Day will take place on Saturday\, April 12\, 2025\, from 9:00 AM to Noon. \nWe encourage you to invite other women from your church and neighboring churches to join us for a morning of learning\, connection\, and action. Find local watch parties or register to join in person. For information copy this URL into your web browser. \n  \nhttps://www.wisconsinumc.org/files/tables/content/18923046/fields/files/f04e11f111e04302adfce94a7664bb34/final+registration+2025+social+action+day+april+12+005+with+watch+parties++20250302.pdf
URL:https://midlandunitedmethodist.com/event/social-action-day/
LOCATION:Midland United Methodist Church\, 10235 County Rd KP\, Mazomanie\, WI\, 53560\, United States
ORGANIZER;CN="Midland UMC":MAILTO:midlandumc@gmail.com
GEO:43.1501599;-89.775204
X-APPLE-STRUCTURED-LOCATION;VALUE=URI;X-ADDRESS=Midland United Methodist Church 10235 County Rd KP Mazomanie WI 53560 United States;X-APPLE-RADIUS=500;X-TITLE=10235 County Rd KP:geo:-89.775204,43.1501599
END:VEVENT
BEGIN:VEVENT
DTSTART;TZID=America/Chicago:20250326T180000
DTEND;TZID=America/Chicago:20250326T190000
DTSTAMP:20260417T115004
CREATED:20250309T154507Z
LAST-MODIFIED:20250309T154507Z
UID:10000345-1743012000-1743015600@midlandunitedmethodist.com
SUMMARY:Lenten Series: When Christians Get It Wrong
DESCRIPTION:Lenten Series: When Christians Get It Wrong \nBy: Adam Hamilton \n  \nWednesdays at 6:00pm during Lent
URL:https://midlandunitedmethodist.com/event/lenten-series-when-christians-get-it-wrong/2025-03-26/
LOCATION:Midland United Methodist Church\, 10235 County Rd KP\, Mazomanie\, WI\, 53560\, United States
ORGANIZER;CN="Midland UMC":MAILTO:midlandumc@gmail.com
GEO:43.1501599;-89.775204
X-APPLE-STRUCTURED-LOCATION;VALUE=URI;X-ADDRESS=Midland United Methodist Church 10235 County Rd KP Mazomanie WI 53560 United States;X-APPLE-RADIUS=500;X-TITLE=10235 County Rd KP:geo:-89.775204,43.1501599
END:VEVENT
END:VCALENDAR