BEGIN:VCALENDAR
VERSION:2.0
PRODID:-//Midland United Methodist Church - ECPv6.15.20//NONSGML v1.0//EN
CALSCALE:GREGORIAN
METHOD:PUBLISH
X-ORIGINAL-URL:https://midlandunitedmethodist.com
X-WR-CALDESC:Events for Midland United Methodist Church
REFRESH-INTERVAL;VALUE=DURATION:PT1H
X-Robots-Tag:noindex
X-PUBLISHED-TTL:PT1H
BEGIN:VTIMEZONE
TZID:America/Chicago
BEGIN:DAYLIGHT
TZOFFSETFROM:-0600
TZOFFSETTO:-0500
TZNAME:CDT
DTSTART:20230312T080000
END:DAYLIGHT
BEGIN:STANDARD
TZOFFSETFROM:-0500
TZOFFSETTO:-0600
TZNAME:CST
DTSTART:20231105T070000
END:STANDARD
BEGIN:DAYLIGHT
TZOFFSETFROM:-0600
TZOFFSETTO:-0500
TZNAME:CDT
DTSTART:20240310T080000
END:DAYLIGHT
BEGIN:STANDARD
TZOFFSETFROM:-0500
TZOFFSETTO:-0600
TZNAME:CST
DTSTART:20241103T070000
END:STANDARD
BEGIN:DAYLIGHT
TZOFFSETFROM:-0600
TZOFFSETTO:-0500
TZNAME:CDT
DTSTART:20250309T080000
END:DAYLIGHT
BEGIN:STANDARD
TZOFFSETFROM:-0500
TZOFFSETTO:-0600
TZNAME:CST
DTSTART:20251102T070000
END:STANDARD
END:VTIMEZONE
BEGIN:VEVENT
DTSTART;TZID=America/Chicago:20241017T183000
DTEND;TZID=America/Chicago:20241017T200000
DTSTAMP:20260419T083715
CREATED:20220903T164409Z
LAST-MODIFIED:20220903T164409Z
UID:10000121-1729189800-1729195200@midlandunitedmethodist.com
SUMMARY:UMW Meeting
DESCRIPTION:Midland UMW meeting will be held at 6:30 p.m. in the Community Room at the Church on Thursday\, September 15th.  Program Leader is Marilyn DeWitt and Hostess is Linda Richter.
URL:https://midlandunitedmethodist.com/event/umw-meeting/2024-10-17/
LOCATION:Midland United Methodist Church\, 10235 County Rd KP\, Mazomanie\, WI\, 53560\, United States
ORGANIZER;CN="Midland UMC":MAILTO:midlandumc@gmail.com
GEO:43.1501599;-89.775204
X-APPLE-STRUCTURED-LOCATION;VALUE=URI;X-ADDRESS=Midland United Methodist Church 10235 County Rd KP Mazomanie WI 53560 United States;X-APPLE-RADIUS=500;X-TITLE=10235 County Rd KP:geo:-89.775204,43.1501599
END:VEVENT
BEGIN:VEVENT
DTSTART;TZID=America/Chicago:20241017T183000
DTEND;TZID=America/Chicago:20241017T200000
DTSTAMP:20260419T083715
CREATED:20240416T155613Z
LAST-MODIFIED:20240416T160633Z
UID:10000292-1729189800-1729195200@midlandunitedmethodist.com
SUMMARY:UWF Meeting
DESCRIPTION:United Women in Faith Monthly Meeting \nAll ladies are welcome to attend.  You need not be a Midland UMC Member. \nLeader: Charlotte Argraves \nHostess: Louise Fosshage & Paula Kelter
URL:https://midlandunitedmethodist.com/event/uwf-meeting-2-2024-10-17/
LOCATION:Midland United Methodist Church\, 10235 County Rd KP\, Mazomanie\, WI\, 53560\, United States
ORGANIZER;CN="Midland UMC":MAILTO:midlandumc@gmail.com
GEO:43.1501599;-89.775204
X-APPLE-STRUCTURED-LOCATION;VALUE=URI;X-ADDRESS=Midland United Methodist Church 10235 County Rd KP Mazomanie WI 53560 United States;X-APPLE-RADIUS=500;X-TITLE=10235 County Rd KP:geo:-89.775204,43.1501599
END:VEVENT
BEGIN:VEVENT
DTSTART;TZID=America/Chicago:20241019T100000
DTEND;TZID=America/Chicago:20241019T150000
DTSTAMP:20260419T083715
CREATED:20240901T161023Z
LAST-MODIFIED:20240901T161023Z
UID:10000066-1729332000-1729350000@midlandunitedmethodist.com
SUMMARY:Lord's Acre Acution & Garage Sale
DESCRIPTION:Lord’s Acre Auction\n& Garage Sale\nOctober 19\n10:00am -3:00pm \nBake Sale 10:00\nLuncheon 11:30am – 1:00pm\nSpaghetti & Garlic Bread\n$10 Adults\, $5 Kids 5-12yo\,\nUnder 5 Free \nAuction 1:00pm
URL:https://midlandunitedmethodist.com/event/lords-acre-acution-garage-sale/
LOCATION:Midland United Methodist Church\, 10235 County Rd KP\, Mazomanie\, WI\, 53560\, United States
ORGANIZER;CN="Midland UMC":MAILTO:midlandumc@gmail.com
GEO:43.1501599;-89.775204
X-APPLE-STRUCTURED-LOCATION;VALUE=URI;X-ADDRESS=Midland United Methodist Church 10235 County Rd KP Mazomanie WI 53560 United States;X-APPLE-RADIUS=500;X-TITLE=10235 County Rd KP:geo:-89.775204,43.1501599
END:VEVENT
END:VCALENDAR