BEGIN:VCALENDAR
VERSION:2.0
PRODID:-//Midland United Methodist Church - ECPv6.15.20//NONSGML v1.0//EN
CALSCALE:GREGORIAN
METHOD:PUBLISH
X-ORIGINAL-URL:https://midlandunitedmethodist.com
X-WR-CALDESC:Events for Midland United Methodist Church
REFRESH-INTERVAL;VALUE=DURATION:PT1H
X-Robots-Tag:noindex
X-PUBLISHED-TTL:PT1H
BEGIN:VTIMEZONE
TZID:America/Chicago
BEGIN:DAYLIGHT
TZOFFSETFROM:-0600
TZOFFSETTO:-0500
TZNAME:CDT
DTSTART:20210314T080000
END:DAYLIGHT
BEGIN:STANDARD
TZOFFSETFROM:-0500
TZOFFSETTO:-0600
TZNAME:CST
DTSTART:20211107T070000
END:STANDARD
BEGIN:DAYLIGHT
TZOFFSETFROM:-0600
TZOFFSETTO:-0500
TZNAME:CDT
DTSTART:20220313T080000
END:DAYLIGHT
BEGIN:STANDARD
TZOFFSETFROM:-0500
TZOFFSETTO:-0600
TZNAME:CST
DTSTART:20221106T070000
END:STANDARD
BEGIN:DAYLIGHT
TZOFFSETFROM:-0600
TZOFFSETTO:-0500
TZNAME:CDT
DTSTART:20230312T080000
END:DAYLIGHT
BEGIN:STANDARD
TZOFFSETFROM:-0500
TZOFFSETTO:-0600
TZNAME:CST
DTSTART:20231105T070000
END:STANDARD
END:VTIMEZONE
BEGIN:VEVENT
DTSTART;TZID=America/Chicago:20220821T093000
DTEND;TZID=America/Chicago:20220821T103000
DTSTAMP:20260420T211424
CREATED:20220729T132447Z
LAST-MODIFIED:20221117T160039Z
UID:10000166-1661074200-1661077800@midlandunitedmethodist.com
SUMMARY:Worship
DESCRIPTION:A blended\, multi-sensory worship experience that offers a variety of music and worship elements such as drama\, which allows God’s Word to be heard in a way that relates to people today.
URL:https://midlandunitedmethodist.com/event/worship/2022-08-21/
LOCATION:Midland United Methodist Church\, 10235 County Rd KP\, Mazomanie\, WI\, 53560\, United States
CATEGORIES:Worship
GEO:43.1501599;-89.775204
X-APPLE-STRUCTURED-LOCATION;VALUE=URI;X-ADDRESS=Midland United Methodist Church 10235 County Rd KP Mazomanie WI 53560 United States;X-APPLE-RADIUS=500;X-TITLE=10235 County Rd KP:geo:-89.775204,43.1501599
END:VEVENT
END:VCALENDAR