BEGIN:VCALENDAR
VERSION:2.0
PRODID:-//Midland United Methodist Church - ECPv6.15.20//NONSGML v1.0//EN
CALSCALE:GREGORIAN
METHOD:PUBLISH
X-WR-CALNAME:Midland United Methodist Church
X-ORIGINAL-URL:https://midlandunitedmethodist.com
X-WR-CALDESC:Events for Midland United Methodist Church
REFRESH-INTERVAL;VALUE=DURATION:PT1H
X-Robots-Tag:noindex
X-PUBLISHED-TTL:PT1H
BEGIN:VTIMEZONE
TZID:America/Chicago
BEGIN:DAYLIGHT
TZOFFSETFROM:-0600
TZOFFSETTO:-0500
TZNAME:CDT
DTSTART:20230312T080000
END:DAYLIGHT
BEGIN:STANDARD
TZOFFSETFROM:-0500
TZOFFSETTO:-0600
TZNAME:CST
DTSTART:20231105T070000
END:STANDARD
BEGIN:DAYLIGHT
TZOFFSETFROM:-0600
TZOFFSETTO:-0500
TZNAME:CDT
DTSTART:20240310T080000
END:DAYLIGHT
BEGIN:STANDARD
TZOFFSETFROM:-0500
TZOFFSETTO:-0600
TZNAME:CST
DTSTART:20241103T070000
END:STANDARD
BEGIN:DAYLIGHT
TZOFFSETFROM:-0600
TZOFFSETTO:-0500
TZNAME:CDT
DTSTART:20250309T080000
END:DAYLIGHT
BEGIN:STANDARD
TZOFFSETFROM:-0500
TZOFFSETTO:-0600
TZNAME:CST
DTSTART:20251102T070000
END:STANDARD
END:VTIMEZONE
BEGIN:VEVENT
DTSTART;TZID=America/Chicago:20240601T080000
DTEND;TZID=America/Chicago:20240601T120000
DTSTAMP:20260422T023700
CREATED:20240324T161453Z
LAST-MODIFIED:20240324T161736Z
UID:10000022-1717228800-1717243200@midlandunitedmethodist.com
SUMMARY:Midland UMC Blood Drive
DESCRIPTION:Midland UMC Blood Drive\nSaturday\, April 6\n8:00am -12:00pm \nClick the link below to sign up!\nhttps://www.redcrossblood.org/give.html/drive-results?zipSponsor=MazomanieWI&utm_source=Midland%20UM&utm_campaign=85a00eeade-EMAIL_CAMPAIGN_2019_10_12_10_31_COPY_01&utm_medium=email&utm_term=0_9c97ed3b64-85a00eeade-132580605 \nGive blood 3/25 to 4/7\nfor an exclusiveGODZILLA x KONG:\nTHE NEW EMPIRE\nand Red Cross\nshirt ltd qty! \n(Next blood drive will be 6/1)
URL:https://midlandunitedmethodist.com/event/midland-umc-blood-drive-4/2024-06-01/
LOCATION:Midland United Methodist Church\, 10235 County Rd KP\, Mazomanie\, WI\, 53560\, United States
ORGANIZER;CN="Midland UMC":MAILTO:midlandumc@gmail.com
GEO:43.1501599;-89.775204
X-APPLE-STRUCTURED-LOCATION;VALUE=URI;X-ADDRESS=Midland United Methodist Church 10235 County Rd KP Mazomanie WI 53560 United States;X-APPLE-RADIUS=500;X-TITLE=10235 County Rd KP:geo:-89.775204,43.1501599
END:VEVENT
BEGIN:VEVENT
DTSTART;TZID=America/Chicago:20240601T080000
DTEND;TZID=America/Chicago:20240601T120000
DTSTAMP:20260422T023700
CREATED:20240411T131553Z
LAST-MODIFIED:20240411T132942Z
UID:10000006-1717228800-1717243200@midlandunitedmethodist.com
SUMMARY:Midland Blood Drive
DESCRIPTION:Midland UMC Blood Drive\nSaturday\, June 1\n8:00am -12:00pm \nClick the link below to sign up!\nhttps://www.redcrossblood.org/give.html/drive-results?zipSponsor=MazomanieWI&utm_source=Midland%20UM&utm_campaign=85a00eeade-EMAIL_CAMPAIGN_2019_10_12_10_31_COPY_01&utm_medium=email&utm_term=0_9c97ed3b64-85a00eeade-132580605
URL:https://midlandunitedmethodist.com/event/midland-blood-drive/
LOCATION:Midland United Methodist Church\, 10235 County Rd KP\, Mazomanie\, WI\, 53560\, United States
ORGANIZER;CN="Midland UMC":MAILTO:midlandumc@gmail.com
GEO:43.1501599;-89.775204
X-APPLE-STRUCTURED-LOCATION;VALUE=URI;X-ADDRESS=Midland United Methodist Church 10235 County Rd KP Mazomanie WI 53560 United States;X-APPLE-RADIUS=500;X-TITLE=10235 County Rd KP:geo:-89.775204,43.1501599
END:VEVENT
BEGIN:VEVENT
DTSTART;TZID=America/Chicago:20240605T180000
DTEND;TZID=America/Chicago:20240605T190000
DTSTAMP:20260422T023700
CREATED:20240411T134751Z
LAST-MODIFIED:20240411T134751Z
UID:10000030-1717610400-1717614000@midlandunitedmethodist.com
SUMMARY:Confirmation Class
DESCRIPTION:New Wednesday Confirmation Class Time
URL:https://midlandunitedmethodist.com/event/confirmation-class-2/2024-06-05/
LOCATION:Midland United Methodist Church\, 10235 County Rd KP\, Mazomanie\, WI\, 53560\, United States
ORGANIZER;CN="Midland UMC":MAILTO:midlandumc@gmail.com
GEO:43.1501599;-89.775204
X-APPLE-STRUCTURED-LOCATION;VALUE=URI;X-ADDRESS=Midland United Methodist Church 10235 County Rd KP Mazomanie WI 53560 United States;X-APPLE-RADIUS=500;X-TITLE=10235 County Rd KP:geo:-89.775204,43.1501599
END:VEVENT
BEGIN:VEVENT
DTSTART;VALUE=DATE:20240609
DTEND;VALUE=DATE:20240610
DTSTAMP:20260422T023700
CREATED:20240411T134917Z
LAST-MODIFIED:20240411T134917Z
UID:10000002-1717891200-1717977599@midlandunitedmethodist.com
SUMMARY:Confirmation Sunday!
DESCRIPTION:Welcome to our new Confirmands
URL:https://midlandunitedmethodist.com/event/confirmation-sunday/
LOCATION:Midland United Methodist Church\, 10235 County Rd KP\, Mazomanie\, WI\, 53560\, United States
ORGANIZER;CN="Midland UMC":MAILTO:midlandumc@gmail.com
GEO:43.1501599;-89.775204
X-APPLE-STRUCTURED-LOCATION;VALUE=URI;X-ADDRESS=Midland United Methodist Church 10235 County Rd KP Mazomanie WI 53560 United States;X-APPLE-RADIUS=500;X-TITLE=10235 County Rd KP:geo:-89.775204,43.1501599
END:VEVENT
BEGIN:VEVENT
DTSTART;TZID=America/Chicago:20240620T183000
DTEND;TZID=America/Chicago:20240620T200000
DTSTAMP:20260422T023700
CREATED:20220903T164409Z
LAST-MODIFIED:20220903T164409Z
UID:10000117-1718908200-1718913600@midlandunitedmethodist.com
SUMMARY:UMW Meeting
DESCRIPTION:Midland UMW meeting will be held at 6:30 p.m. in the Community Room at the Church on Thursday\, September 15th.  Program Leader is Marilyn DeWitt and Hostess is Linda Richter.
URL:https://midlandunitedmethodist.com/event/umw-meeting/2024-06-20/
LOCATION:Midland United Methodist Church\, 10235 County Rd KP\, Mazomanie\, WI\, 53560\, United States
ORGANIZER;CN="Midland UMC":MAILTO:midlandumc@gmail.com
GEO:43.1501599;-89.775204
X-APPLE-STRUCTURED-LOCATION;VALUE=URI;X-ADDRESS=Midland United Methodist Church 10235 County Rd KP Mazomanie WI 53560 United States;X-APPLE-RADIUS=500;X-TITLE=10235 County Rd KP:geo:-89.775204,43.1501599
END:VEVENT
BEGIN:VEVENT
DTSTART;TZID=America/Chicago:20240620T183000
DTEND;TZID=America/Chicago:20240620T200000
DTSTAMP:20260422T023700
CREATED:20240416T155613Z
LAST-MODIFIED:20240416T160153Z
UID:10000289-1718908200-1718913600@midlandunitedmethodist.com
SUMMARY:UWF Meeting
DESCRIPTION:United Women in Faith Monthly Meeting \nAll ladies are welcome to attend.  You need not be a Midland UMC Member. \nProgram: Shoe Box Brat Fry June 29\,2024 \nHostess: Elizabeth Guyer
URL:https://midlandunitedmethodist.com/event/uwf-meeting-2-2024-06-20/
LOCATION:Midland United Methodist Church\, 10235 County Rd KP\, Mazomanie\, WI\, 53560\, United States
ORGANIZER;CN="Midland UMC":MAILTO:midlandumc@gmail.com
GEO:43.1501599;-89.775204
X-APPLE-STRUCTURED-LOCATION;VALUE=URI;X-ADDRESS=Midland United Methodist Church 10235 County Rd KP Mazomanie WI 53560 United States;X-APPLE-RADIUS=500;X-TITLE=10235 County Rd KP:geo:-89.775204,43.1501599
END:VEVENT
BEGIN:VEVENT
DTSTART;TZID=America/Chicago:20240629T080000
DTEND;TZID=America/Chicago:20240629T140000
DTSTAMP:20260422T023700
CREATED:20240416T161223Z
LAST-MODIFIED:20240416T161223Z
UID:10000295-1719648000-1719669600@midlandunitedmethodist.com
SUMMARY:UWF Brat Fry @ The Shoe Box
DESCRIPTION:UWF Brat Fry @ The Shoe Box fund raiser \nUnited Women in Faith: \nWe shall be a Community of Women whose purpose is to know God and to experience freedom as whole persons through Jesus Christ; to develop a Creative Supportive Fellowship; and to expand Concepts of Mission through Participation in the Global Ministiries of the Church.
URL:https://midlandunitedmethodist.com/event/uwf-brat-fry-the-shoe-box/
LOCATION:Midland United Methodist Church\, 10235 County Rd KP\, Mazomanie\, WI\, 53560\, United States
ORGANIZER;CN="Midland UMC":MAILTO:midlandumc@gmail.com
GEO:43.1501599;-89.775204
X-APPLE-STRUCTURED-LOCATION;VALUE=URI;X-ADDRESS=Midland United Methodist Church 10235 County Rd KP Mazomanie WI 53560 United States;X-APPLE-RADIUS=500;X-TITLE=10235 County Rd KP:geo:-89.775204,43.1501599
END:VEVENT
END:VCALENDAR