BEGIN:VCALENDAR
VERSION:2.0
PRODID:-//Midland United Methodist Church - ECPv6.15.20//NONSGML v1.0//EN
CALSCALE:GREGORIAN
METHOD:PUBLISH
X-ORIGINAL-URL:https://midlandunitedmethodist.com
X-WR-CALDESC:Events for Midland United Methodist Church
REFRESH-INTERVAL;VALUE=DURATION:PT1H
X-Robots-Tag:noindex
X-PUBLISHED-TTL:PT1H
BEGIN:VTIMEZONE
TZID:America/Chicago
BEGIN:DAYLIGHT
TZOFFSETFROM:-0600
TZOFFSETTO:-0500
TZNAME:CDT
DTSTART:20230312T080000
END:DAYLIGHT
BEGIN:STANDARD
TZOFFSETFROM:-0500
TZOFFSETTO:-0600
TZNAME:CST
DTSTART:20231105T070000
END:STANDARD
BEGIN:DAYLIGHT
TZOFFSETFROM:-0600
TZOFFSETTO:-0500
TZNAME:CDT
DTSTART:20240310T080000
END:DAYLIGHT
BEGIN:STANDARD
TZOFFSETFROM:-0500
TZOFFSETTO:-0600
TZNAME:CST
DTSTART:20241103T070000
END:STANDARD
BEGIN:DAYLIGHT
TZOFFSETFROM:-0600
TZOFFSETTO:-0500
TZNAME:CDT
DTSTART:20250309T080000
END:DAYLIGHT
BEGIN:STANDARD
TZOFFSETFROM:-0500
TZOFFSETTO:-0600
TZNAME:CST
DTSTART:20251102T070000
END:STANDARD
END:VTIMEZONE
BEGIN:VEVENT
DTSTART;TZID=America/Chicago:20240303T140000
DTEND;TZID=America/Chicago:20240303T153000
DTSTAMP:20260423T135710
CREATED:20240218T170141Z
LAST-MODIFIED:20240218T170141Z
UID:10000140-1709474400-1709479800@midlandunitedmethodist.com
SUMMARY:Hymn Sing!
DESCRIPTION:Community Hymn Sing! Bring a friend and a request list. Free will donations welcome.
URL:https://midlandunitedmethodist.com/event/hymn-sing-3/
LOCATION:Midland United Methodist Church\, 10235 County Rd KP\, Mazomanie\, WI\, 53560\, United States
ORGANIZER;CN="Midland UMC":MAILTO:midlandumc@gmail.com
GEO:43.1501599;-89.775204
X-APPLE-STRUCTURED-LOCATION;VALUE=URI;X-ADDRESS=Midland United Methodist Church 10235 County Rd KP Mazomanie WI 53560 United States;X-APPLE-RADIUS=500;X-TITLE=10235 County Rd KP:geo:-89.775204,43.1501599
END:VEVENT
BEGIN:VEVENT
DTSTART;TZID=America/Chicago:20240310T080000
DTEND;TZID=America/Chicago:20240310T170000
DTSTAMP:20260423T135710
CREATED:20240310T154438Z
LAST-MODIFIED:20240310T154438Z
UID:10000094-1710057600-1710090000@midlandunitedmethodist.com
SUMMARY:Midland UMC Blood Drive
DESCRIPTION:8:00 am – 12:00 pm \nTo schedule your appointment: \nhttps://www.redcrossblood.org/give.html/drive-results?zipSponsor=MazomanieWI&utm_source=Midland%20UM&utm_campaign=624841c7f1-EMAIL_CAMPAIGN_2019_10_12_10_31_COPY_01&utm_medium=email&utm_term=0_9c97ed3b64-624841c7f1-132580605 \nGive blood 3/25 to 4/7\nfor an exclusive\nGODZILLA x KONG:\nTHE NEW EMPIRE\nand Red Cross\nshirt ltd qty! \n 
URL:https://midlandunitedmethodist.com/event/midland-umc-blood-drive-3/
LOCATION:Midland United Methodist Church\, 10235 County Rd KP\, Mazomanie\, WI\, 53560\, United States
ORGANIZER;CN="Midland UMC":MAILTO:midlandumc@gmail.com
GEO:43.1501599;-89.775204
X-APPLE-STRUCTURED-LOCATION;VALUE=URI;X-ADDRESS=Midland United Methodist Church 10235 County Rd KP Mazomanie WI 53560 United States;X-APPLE-RADIUS=500;X-TITLE=10235 County Rd KP:geo:-89.775204,43.1501599
END:VEVENT
BEGIN:VEVENT
DTSTART;TZID=America/Chicago:20240310T143000
DTEND;TZID=America/Chicago:20240310T160000
DTSTAMP:20260423T135710
CREATED:20240310T154703Z
LAST-MODIFIED:20240310T154703Z
UID:10000001-1710081000-1710086400@midlandunitedmethodist.com
SUMMARY:Hymn Sing!
DESCRIPTION:All are welcome to Midland’s Hymn Sing! \nBring a fiend and a request list.
URL:https://midlandunitedmethodist.com/event/hymn-sing-6/
LOCATION:Midland United Methodist Church\, 10235 County Rd KP\, Mazomanie\, WI\, 53560\, United States
ORGANIZER;CN="Midland UMC":MAILTO:midlandumc@gmail.com
GEO:43.1501599;-89.775204
X-APPLE-STRUCTURED-LOCATION;VALUE=URI;X-ADDRESS=Midland United Methodist Church 10235 County Rd KP Mazomanie WI 53560 United States;X-APPLE-RADIUS=500;X-TITLE=10235 County Rd KP:geo:-89.775204,43.1501599
END:VEVENT
BEGIN:VEVENT
DTSTART;TZID=America/Chicago:20240321T183000
DTEND;TZID=America/Chicago:20240321T200000
DTSTAMP:20260423T135710
CREATED:20220903T164409Z
LAST-MODIFIED:20220903T164409Z
UID:10000114-1711045800-1711051200@midlandunitedmethodist.com
SUMMARY:UMW Meeting
DESCRIPTION:Midland UMW meeting will be held at 6:30 p.m. in the Community Room at the Church on Thursday\, September 15th.  Program Leader is Marilyn DeWitt and Hostess is Linda Richter.
URL:https://midlandunitedmethodist.com/event/umw-meeting/2024-03-21/
LOCATION:Midland United Methodist Church\, 10235 County Rd KP\, Mazomanie\, WI\, 53560\, United States
ORGANIZER;CN="Midland UMC":MAILTO:midlandumc@gmail.com
GEO:43.1501599;-89.775204
X-APPLE-STRUCTURED-LOCATION;VALUE=URI;X-ADDRESS=Midland United Methodist Church 10235 County Rd KP Mazomanie WI 53560 United States;X-APPLE-RADIUS=500;X-TITLE=10235 County Rd KP:geo:-89.775204,43.1501599
END:VEVENT
BEGIN:VEVENT
DTSTART;TZID=America/Chicago:20240321T183000
DTEND;TZID=America/Chicago:20240321T200000
DTSTAMP:20260423T135710
CREATED:20240310T154542Z
LAST-MODIFIED:20240310T154542Z
UID:10000004-1711045800-1711051200@midlandunitedmethodist.com
SUMMARY:UWF Meeting
DESCRIPTION:United Women in Faith at Midland UMC
URL:https://midlandunitedmethodist.com/event/uwf-meeting/
LOCATION:Midland United Methodist Church\, 10235 County Rd KP\, Mazomanie\, WI\, 53560\, United States
ORGANIZER;CN="Midland UMC":MAILTO:midlandumc@gmail.com
GEO:43.1501599;-89.775204
X-APPLE-STRUCTURED-LOCATION;VALUE=URI;X-ADDRESS=Midland United Methodist Church 10235 County Rd KP Mazomanie WI 53560 United States;X-APPLE-RADIUS=500;X-TITLE=10235 County Rd KP:geo:-89.775204,43.1501599
END:VEVENT
BEGIN:VEVENT
DTSTART;TZID=America/Chicago:20240329T183000
DTEND;TZID=America/Chicago:20240329T193000
DTSTAMP:20260423T135710
CREATED:20240225T164531Z
LAST-MODIFIED:20240225T164531Z
UID:10000131-1711737000-1711740600@midlandunitedmethodist.com
SUMMARY:Good Friday Service
DESCRIPTION:
URL:https://midlandunitedmethodist.com/event/good-friday-service/
LOCATION:Midland United Methodist Church\, 10235 County Rd KP\, Mazomanie\, WI\, 53560\, United States
ORGANIZER;CN="Midland UMC":MAILTO:midlandumc@gmail.com
GEO:43.1501599;-89.775204
X-APPLE-STRUCTURED-LOCATION;VALUE=URI;X-ADDRESS=Midland United Methodist Church 10235 County Rd KP Mazomanie WI 53560 United States;X-APPLE-RADIUS=500;X-TITLE=10235 County Rd KP:geo:-89.775204,43.1501599
END:VEVENT
END:VCALENDAR