BEGIN:VCALENDAR
VERSION:2.0
PRODID:-//Midland United Methodist Church - ECPv6.15.20//NONSGML v1.0//EN
CALSCALE:GREGORIAN
METHOD:PUBLISH
X-WR-CALNAME:Midland United Methodist Church
X-ORIGINAL-URL:https://midlandunitedmethodist.com
X-WR-CALDESC:Events for Midland United Methodist Church
REFRESH-INTERVAL;VALUE=DURATION:PT1H
X-Robots-Tag:noindex
X-PUBLISHED-TTL:PT1H
BEGIN:VTIMEZONE
TZID:America/Chicago
BEGIN:DAYLIGHT
TZOFFSETFROM:-0600
TZOFFSETTO:-0500
TZNAME:CDT
DTSTART:20240310T080000
END:DAYLIGHT
BEGIN:STANDARD
TZOFFSETFROM:-0500
TZOFFSETTO:-0600
TZNAME:CST
DTSTART:20241103T070000
END:STANDARD
BEGIN:DAYLIGHT
TZOFFSETFROM:-0600
TZOFFSETTO:-0500
TZNAME:CDT
DTSTART:20250309T080000
END:DAYLIGHT
BEGIN:STANDARD
TZOFFSETFROM:-0500
TZOFFSETTO:-0600
TZNAME:CST
DTSTART:20251102T070000
END:STANDARD
BEGIN:DAYLIGHT
TZOFFSETFROM:-0600
TZOFFSETTO:-0500
TZNAME:CDT
DTSTART:20260308T080000
END:DAYLIGHT
BEGIN:STANDARD
TZOFFSETFROM:-0500
TZOFFSETTO:-0600
TZNAME:CST
DTSTART:20261101T070000
END:STANDARD
END:VTIMEZONE
BEGIN:VEVENT
DTSTART;TZID=America/Chicago:20250708T170000
DTEND;TZID=America/Chicago:20250708T180000
DTSTAMP:20260421T212111
CREATED:20240811T154849Z
LAST-MODIFIED:20240811T154849Z
UID:10018280-1751994000-1751997600@midlandunitedmethodist.com
SUMMARY:Finance Committee Budget Meeting
DESCRIPTION:
URL:https://midlandunitedmethodist.com/event/finance-committee-meeting-2-2025-05-13-66/
LOCATION:Midland United Methodist Church\, 10235 County Rd KP\, Mazomanie\, WI\, 53560\, United States
ORGANIZER;CN="Midland UMC":MAILTO:midlandumc@gmail.com
GEO:43.1501599;-89.775204
X-APPLE-STRUCTURED-LOCATION;VALUE=URI;X-ADDRESS=Midland United Methodist Church 10235 County Rd KP Mazomanie WI 53560 United States;X-APPLE-RADIUS=500;X-TITLE=10235 County Rd KP:geo:-89.775204,43.1501599
END:VEVENT
BEGIN:VEVENT
DTSTART;TZID=America/Chicago:20250708T170000
DTEND;TZID=America/Chicago:20250708T180000
DTSTAMP:20260421T212111
CREATED:20240811T154849Z
LAST-MODIFIED:20240811T154849Z
UID:10022531-1751994000-1751997600@midlandunitedmethodist.com
SUMMARY:Finance Committee Budget Meeting
DESCRIPTION:
URL:https://midlandunitedmethodist.com/event/finance-committee-meeting-2-2025-02-11-70/
LOCATION:Midland United Methodist Church\, 10235 County Rd KP\, Mazomanie\, WI\, 53560\, United States
ORGANIZER;CN="Midland UMC":MAILTO:midlandumc@gmail.com
GEO:43.1501599;-89.775204
X-APPLE-STRUCTURED-LOCATION;VALUE=URI;X-ADDRESS=Midland United Methodist Church 10235 County Rd KP Mazomanie WI 53560 United States;X-APPLE-RADIUS=500;X-TITLE=10235 County Rd KP:geo:-89.775204,43.1501599
END:VEVENT
BEGIN:VEVENT
DTSTART;TZID=America/Chicago:20250708T170000
DTEND;TZID=America/Chicago:20250708T180000
DTSTAMP:20260421T212111
CREATED:20240811T154849Z
LAST-MODIFIED:20240811T154849Z
UID:10018401-1751994000-1751997600@midlandunitedmethodist.com
SUMMARY:Finance Committee Budget Meeting
DESCRIPTION:
URL:https://midlandunitedmethodist.com/event/finance-committee-meeting-2-2025-07-08-66/
LOCATION:Midland United Methodist Church\, 10235 County Rd KP\, Mazomanie\, WI\, 53560\, United States
ORGANIZER;CN="Midland UMC":MAILTO:midlandumc@gmail.com
GEO:43.1501599;-89.775204
X-APPLE-STRUCTURED-LOCATION;VALUE=URI;X-ADDRESS=Midland United Methodist Church 10235 County Rd KP Mazomanie WI 53560 United States;X-APPLE-RADIUS=500;X-TITLE=10235 County Rd KP:geo:-89.775204,43.1501599
END:VEVENT
BEGIN:VEVENT
DTSTART;TZID=America/Chicago:20250708T170000
DTEND;TZID=America/Chicago:20250708T180000
DTSTAMP:20260421T212111
CREATED:20240811T154849Z
LAST-MODIFIED:20240811T154849Z
UID:10022658-1751994000-1751997600@midlandunitedmethodist.com
SUMMARY:Finance Committee Budget Meeting
DESCRIPTION:
URL:https://midlandunitedmethodist.com/event/finance-committee-meeting-2-2025-04-08-70/
LOCATION:Midland United Methodist Church\, 10235 County Rd KP\, Mazomanie\, WI\, 53560\, United States
ORGANIZER;CN="Midland UMC":MAILTO:midlandumc@gmail.com
GEO:43.1501599;-89.775204
X-APPLE-STRUCTURED-LOCATION;VALUE=URI;X-ADDRESS=Midland United Methodist Church 10235 County Rd KP Mazomanie WI 53560 United States;X-APPLE-RADIUS=500;X-TITLE=10235 County Rd KP:geo:-89.775204,43.1501599
END:VEVENT
BEGIN:VEVENT
DTSTART;TZID=America/Chicago:20250708T170000
DTEND;TZID=America/Chicago:20250708T180000
DTSTAMP:20260421T212111
CREATED:20240811T154849Z
LAST-MODIFIED:20240811T154849Z
UID:10001852-1751994000-1751997600@midlandunitedmethodist.com
SUMMARY:Finance Committee Budget Meeting
DESCRIPTION:
URL:https://midlandunitedmethodist.com/event/finance-committee-meeting-2-2024-10-08-2/
LOCATION:Midland United Methodist Church\, 10235 County Rd KP\, Mazomanie\, WI\, 53560\, United States
ORGANIZER;CN="Midland UMC":MAILTO:midlandumc@gmail.com
GEO:43.1501599;-89.775204
X-APPLE-STRUCTURED-LOCATION;VALUE=URI;X-ADDRESS=Midland United Methodist Church 10235 County Rd KP Mazomanie WI 53560 United States;X-APPLE-RADIUS=500;X-TITLE=10235 County Rd KP:geo:-89.775204,43.1501599
END:VEVENT
BEGIN:VEVENT
DTSTART;TZID=America/Chicago:20250708T170000
DTEND;TZID=America/Chicago:20250708T180000
DTSTAMP:20260421T212111
CREATED:20240811T154849Z
LAST-MODIFIED:20240811T154849Z
UID:10022781-1751994000-1751997600@midlandunitedmethodist.com
SUMMARY:Finance Committee Budget Meeting
DESCRIPTION:
URL:https://midlandunitedmethodist.com/event/finance-committee-meeting-2-2025-06-10-70/
LOCATION:Midland United Methodist Church\, 10235 County Rd KP\, Mazomanie\, WI\, 53560\, United States
ORGANIZER;CN="Midland UMC":MAILTO:midlandumc@gmail.com
GEO:43.1501599;-89.775204
X-APPLE-STRUCTURED-LOCATION;VALUE=URI;X-ADDRESS=Midland United Methodist Church 10235 County Rd KP Mazomanie WI 53560 United States;X-APPLE-RADIUS=500;X-TITLE=10235 County Rd KP:geo:-89.775204,43.1501599
END:VEVENT
BEGIN:VEVENT
DTSTART;TZID=America/Chicago:20250708T170000
DTEND;TZID=America/Chicago:20250708T180000
DTSTAMP:20260421T212111
CREATED:20240811T154849Z
LAST-MODIFIED:20240811T154849Z
UID:10022910-1751994000-1751997600@midlandunitedmethodist.com
SUMMARY:Finance Committee Budget Meeting
DESCRIPTION:
URL:https://midlandunitedmethodist.com/event/finance-committee-meeting-2-2025-03-11-73/
LOCATION:Midland United Methodist Church\, 10235 County Rd KP\, Mazomanie\, WI\, 53560\, United States
ORGANIZER;CN="Midland UMC":MAILTO:midlandumc@gmail.com
GEO:43.1501599;-89.775204
X-APPLE-STRUCTURED-LOCATION;VALUE=URI;X-ADDRESS=Midland United Methodist Church 10235 County Rd KP Mazomanie WI 53560 United States;X-APPLE-RADIUS=500;X-TITLE=10235 County Rd KP:geo:-89.775204,43.1501599
END:VEVENT
BEGIN:VEVENT
DTSTART;TZID=America/Chicago:20250708T170000
DTEND;TZID=America/Chicago:20250708T180000
DTSTAMP:20260421T212111
CREATED:20240811T154849Z
LAST-MODIFIED:20240811T154849Z
UID:10014906-1751994000-1751997600@midlandunitedmethodist.com
SUMMARY:Finance Committee Budget Meeting
DESCRIPTION:
URL:https://midlandunitedmethodist.com/event/finance-committee-meeting-2-2025-04-08-13/
LOCATION:Midland United Methodist Church\, 10235 County Rd KP\, Mazomanie\, WI\, 53560\, United States
ORGANIZER;CN="Midland UMC":MAILTO:midlandumc@gmail.com
GEO:43.1501599;-89.775204
X-APPLE-STRUCTURED-LOCATION;VALUE=URI;X-ADDRESS=Midland United Methodist Church 10235 County Rd KP Mazomanie WI 53560 United States;X-APPLE-RADIUS=500;X-TITLE=10235 County Rd KP:geo:-89.775204,43.1501599
END:VEVENT
BEGIN:VEVENT
DTSTART;TZID=America/Chicago:20250708T170000
DTEND;TZID=America/Chicago:20250708T180000
DTSTAMP:20260421T212111
CREATED:20240811T154849Z
LAST-MODIFIED:20240811T154849Z
UID:10012847-1751994000-1751997600@midlandunitedmethodist.com
SUMMARY:Finance Committee Budget Meeting
DESCRIPTION:
URL:https://midlandunitedmethodist.com/event/finance-committee-meeting-2-2025-06-10-11/
LOCATION:Midland United Methodist Church\, 10235 County Rd KP\, Mazomanie\, WI\, 53560\, United States
ORGANIZER;CN="Midland UMC":MAILTO:midlandumc@gmail.com
GEO:43.1501599;-89.775204
X-APPLE-STRUCTURED-LOCATION;VALUE=URI;X-ADDRESS=Midland United Methodist Church 10235 County Rd KP Mazomanie WI 53560 United States;X-APPLE-RADIUS=500;X-TITLE=10235 County Rd KP:geo:-89.775204,43.1501599
END:VEVENT
BEGIN:VEVENT
DTSTART;TZID=America/Chicago:20250708T170000
DTEND;TZID=America/Chicago:20250708T180000
DTSTAMP:20260421T212111
CREATED:20240811T154849Z
LAST-MODIFIED:20240811T154849Z
UID:10017045-1751994000-1751997600@midlandunitedmethodist.com
SUMMARY:Finance Committee Budget Meeting
DESCRIPTION:
URL:https://midlandunitedmethodist.com/event/finance-committee-meeting-2-2025-03-11-65/
LOCATION:Midland United Methodist Church\, 10235 County Rd KP\, Mazomanie\, WI\, 53560\, United States
ORGANIZER;CN="Midland UMC":MAILTO:midlandumc@gmail.com
GEO:43.1501599;-89.775204
X-APPLE-STRUCTURED-LOCATION;VALUE=URI;X-ADDRESS=Midland United Methodist Church 10235 County Rd KP Mazomanie WI 53560 United States;X-APPLE-RADIUS=500;X-TITLE=10235 County Rd KP:geo:-89.775204,43.1501599
END:VEVENT
BEGIN:VEVENT
DTSTART;TZID=America/Chicago:20250708T170000
DTEND;TZID=America/Chicago:20250708T180000
DTSTAMP:20260421T212111
CREATED:20240811T154849Z
LAST-MODIFIED:20240811T154849Z
UID:10004634-1751994000-1751997600@midlandunitedmethodist.com
SUMMARY:Finance Committee Budget Meeting
DESCRIPTION:
URL:https://midlandunitedmethodist.com/event/finance-committee-meeting-2-2024-09-10-4/
LOCATION:Midland United Methodist Church\, 10235 County Rd KP\, Mazomanie\, WI\, 53560\, United States
ORGANIZER;CN="Midland UMC":MAILTO:midlandumc@gmail.com
GEO:43.1501599;-89.775204
X-APPLE-STRUCTURED-LOCATION;VALUE=URI;X-ADDRESS=Midland United Methodist Church 10235 County Rd KP Mazomanie WI 53560 United States;X-APPLE-RADIUS=500;X-TITLE=10235 County Rd KP:geo:-89.775204,43.1501599
END:VEVENT
BEGIN:VEVENT
DTSTART;TZID=America/Chicago:20250708T170000
DTEND;TZID=America/Chicago:20250708T180000
DTSTAMP:20260421T212111
CREATED:20240811T154849Z
LAST-MODIFIED:20240811T154849Z
UID:10017170-1751994000-1751997600@midlandunitedmethodist.com
SUMMARY:Finance Committee Budget Meeting
DESCRIPTION:
URL:https://midlandunitedmethodist.com/event/finance-committee-meeting-2-2025-05-13-65/
LOCATION:Midland United Methodist Church\, 10235 County Rd KP\, Mazomanie\, WI\, 53560\, United States
ORGANIZER;CN="Midland UMC":MAILTO:midlandumc@gmail.com
GEO:43.1501599;-89.775204
X-APPLE-STRUCTURED-LOCATION;VALUE=URI;X-ADDRESS=Midland United Methodist Church 10235 County Rd KP Mazomanie WI 53560 United States;X-APPLE-RADIUS=500;X-TITLE=10235 County Rd KP:geo:-89.775204,43.1501599
END:VEVENT
BEGIN:VEVENT
DTSTART;TZID=America/Chicago:20250708T170000
DTEND;TZID=America/Chicago:20250708T180000
DTSTAMP:20260421T212111
CREATED:20240811T154849Z
LAST-MODIFIED:20240811T154849Z
UID:10000494-1751994000-1751997600@midlandunitedmethodist.com
SUMMARY:Finance Committee Budget Meeting
DESCRIPTION:
URL:https://midlandunitedmethodist.com/event/finance-committee-meeting-2-2024-11-12/
LOCATION:Midland United Methodist Church\, 10235 County Rd KP\, Mazomanie\, WI\, 53560\, United States
ORGANIZER;CN="Midland UMC":MAILTO:midlandumc@gmail.com
GEO:43.1501599;-89.775204
X-APPLE-STRUCTURED-LOCATION;VALUE=URI;X-ADDRESS=Midland United Methodist Church 10235 County Rd KP Mazomanie WI 53560 United States;X-APPLE-RADIUS=500;X-TITLE=10235 County Rd KP:geo:-89.775204,43.1501599
END:VEVENT
BEGIN:VEVENT
DTSTART;TZID=America/Chicago:20250708T170000
DTEND;TZID=America/Chicago:20250708T180000
DTSTAMP:20260421T212111
CREATED:20240811T154849Z
LAST-MODIFIED:20240811T154849Z
UID:10021421-1751994000-1751997600@midlandunitedmethodist.com
SUMMARY:Finance Committee Budget Meeting
DESCRIPTION:
URL:https://midlandunitedmethodist.com/event/finance-committee-meeting-2-2025-02-11-69/
LOCATION:Midland United Methodist Church\, 10235 County Rd KP\, Mazomanie\, WI\, 53560\, United States
ORGANIZER;CN="Midland UMC":MAILTO:midlandumc@gmail.com
GEO:43.1501599;-89.775204
X-APPLE-STRUCTURED-LOCATION;VALUE=URI;X-ADDRESS=Midland United Methodist Church 10235 County Rd KP Mazomanie WI 53560 United States;X-APPLE-RADIUS=500;X-TITLE=10235 County Rd KP:geo:-89.775204,43.1501599
END:VEVENT
BEGIN:VEVENT
DTSTART;TZID=America/Chicago:20250708T170000
DTEND;TZID=America/Chicago:20250708T180000
DTSTAMP:20260421T212111
CREATED:20240811T154849Z
LAST-MODIFIED:20240811T154849Z
UID:10017291-1751994000-1751997600@midlandunitedmethodist.com
SUMMARY:Finance Committee Budget Meeting
DESCRIPTION:
URL:https://midlandunitedmethodist.com/event/finance-committee-meeting-2-2025-07-08-65/
LOCATION:Midland United Methodist Church\, 10235 County Rd KP\, Mazomanie\, WI\, 53560\, United States
ORGANIZER;CN="Midland UMC":MAILTO:midlandumc@gmail.com
GEO:43.1501599;-89.775204
X-APPLE-STRUCTURED-LOCATION;VALUE=URI;X-ADDRESS=Midland United Methodist Church 10235 County Rd KP Mazomanie WI 53560 United States;X-APPLE-RADIUS=500;X-TITLE=10235 County Rd KP:geo:-89.775204,43.1501599
END:VEVENT
BEGIN:VEVENT
DTSTART;TZID=America/Chicago:20250708T170000
DTEND;TZID=America/Chicago:20250708T180000
DTSTAMP:20260421T212111
CREATED:20240811T154849Z
LAST-MODIFIED:20240811T154849Z
UID:10021548-1751994000-1751997600@midlandunitedmethodist.com
SUMMARY:Finance Committee Budget Meeting
DESCRIPTION:
URL:https://midlandunitedmethodist.com/event/finance-committee-meeting-2-2025-04-08-69/
LOCATION:Midland United Methodist Church\, 10235 County Rd KP\, Mazomanie\, WI\, 53560\, United States
ORGANIZER;CN="Midland UMC":MAILTO:midlandumc@gmail.com
GEO:43.1501599;-89.775204
X-APPLE-STRUCTURED-LOCATION;VALUE=URI;X-ADDRESS=Midland United Methodist Church 10235 County Rd KP Mazomanie WI 53560 United States;X-APPLE-RADIUS=500;X-TITLE=10235 County Rd KP:geo:-89.775204,43.1501599
END:VEVENT
BEGIN:VEVENT
DTSTART;TZID=America/Chicago:20250708T170000
DTEND;TZID=America/Chicago:20250708T180000
DTSTAMP:20260421T212111
CREATED:20240811T154849Z
LAST-MODIFIED:20240811T154849Z
UID:10021671-1751994000-1751997600@midlandunitedmethodist.com
SUMMARY:Finance Committee Budget Meeting
DESCRIPTION:
URL:https://midlandunitedmethodist.com/event/finance-committee-meeting-2-2025-06-10-69/
LOCATION:Midland United Methodist Church\, 10235 County Rd KP\, Mazomanie\, WI\, 53560\, United States
ORGANIZER;CN="Midland UMC":MAILTO:midlandumc@gmail.com
GEO:43.1501599;-89.775204
X-APPLE-STRUCTURED-LOCATION;VALUE=URI;X-ADDRESS=Midland United Methodist Church 10235 County Rd KP Mazomanie WI 53560 United States;X-APPLE-RADIUS=500;X-TITLE=10235 County Rd KP:geo:-89.775204,43.1501599
END:VEVENT
BEGIN:VEVENT
DTSTART;TZID=America/Chicago:20250708T170000
DTEND;TZID=America/Chicago:20250708T180000
DTSTAMP:20260421T212111
CREATED:20240811T154849Z
LAST-MODIFIED:20240811T154849Z
UID:10007214-1751994000-1751997600@midlandunitedmethodist.com
SUMMARY:Finance Committee Budget Meeting
DESCRIPTION:
URL:https://midlandunitedmethodist.com/event/finance-committee-meeting-2-2025-03-11-6/
LOCATION:Midland United Methodist Church\, 10235 County Rd KP\, Mazomanie\, WI\, 53560\, United States
ORGANIZER;CN="Midland UMC":MAILTO:midlandumc@gmail.com
GEO:43.1501599;-89.775204
X-APPLE-STRUCTURED-LOCATION;VALUE=URI;X-ADDRESS=Midland United Methodist Church 10235 County Rd KP Mazomanie WI 53560 United States;X-APPLE-RADIUS=500;X-TITLE=10235 County Rd KP:geo:-89.775204,43.1501599
END:VEVENT
BEGIN:VEVENT
DTSTART;TZID=America/Chicago:20250708T170000
DTEND;TZID=America/Chicago:20250708T180000
DTSTAMP:20260421T212111
CREATED:20240811T154849Z
LAST-MODIFIED:20240811T154849Z
UID:10005157-1751994000-1751997600@midlandunitedmethodist.com
SUMMARY:Finance Committee Budget Meeting
DESCRIPTION:
URL:https://midlandunitedmethodist.com/event/finance-committee-meeting-2-2025-05-13-4/
LOCATION:Midland United Methodist Church\, 10235 County Rd KP\, Mazomanie\, WI\, 53560\, United States
ORGANIZER;CN="Midland UMC":MAILTO:midlandumc@gmail.com
GEO:43.1501599;-89.775204
X-APPLE-STRUCTURED-LOCATION;VALUE=URI;X-ADDRESS=Midland United Methodist Church 10235 County Rd KP Mazomanie WI 53560 United States;X-APPLE-RADIUS=500;X-TITLE=10235 County Rd KP:geo:-89.775204,43.1501599
END:VEVENT
BEGIN:VEVENT
DTSTART;TZID=America/Chicago:20250708T170000
DTEND;TZID=America/Chicago:20250708T180000
DTSTAMP:20260421T212111
CREATED:20240811T154849Z
LAST-MODIFIED:20240811T154849Z
UID:10000994-1751994000-1751997600@midlandunitedmethodist.com
SUMMARY:Finance Committee Budget Meeting
DESCRIPTION:
URL:https://midlandunitedmethodist.com/event/finance-committee-meeting-2-2025-07-08/
LOCATION:Midland United Methodist Church\, 10235 County Rd KP\, Mazomanie\, WI\, 53560\, United States
ORGANIZER;CN="Midland UMC":MAILTO:midlandumc@gmail.com
GEO:43.1501599;-89.775204
X-APPLE-STRUCTURED-LOCATION;VALUE=URI;X-ADDRESS=Midland United Methodist Church 10235 County Rd KP Mazomanie WI 53560 United States;X-APPLE-RADIUS=500;X-TITLE=10235 County Rd KP:geo:-89.775204,43.1501599
END:VEVENT
BEGIN:VEVENT
DTSTART;TZID=America/Chicago:20250708T170000
DTEND;TZID=America/Chicago:20250708T180000
DTSTAMP:20260421T212111
CREATED:20240811T154849Z
LAST-MODIFIED:20240811T154849Z
UID:10013877-1751994000-1751997600@midlandunitedmethodist.com
SUMMARY:Finance Committee Budget Meeting
DESCRIPTION:
URL:https://midlandunitedmethodist.com/event/finance-committee-meeting-2-2025-05-13-12/
LOCATION:Midland United Methodist Church\, 10235 County Rd KP\, Mazomanie\, WI\, 53560\, United States
ORGANIZER;CN="Midland UMC":MAILTO:midlandumc@gmail.com
GEO:43.1501599;-89.775204
X-APPLE-STRUCTURED-LOCATION;VALUE=URI;X-ADDRESS=Midland United Methodist Church 10235 County Rd KP Mazomanie WI 53560 United States;X-APPLE-RADIUS=500;X-TITLE=10235 County Rd KP:geo:-89.775204,43.1501599
END:VEVENT
BEGIN:VEVENT
DTSTART;TZID=America/Chicago:20250708T170000
DTEND;TZID=America/Chicago:20250708T180000
DTSTAMP:20260421T212111
CREATED:20240811T154849Z
LAST-MODIFIED:20240811T154849Z
UID:10011816-1751994000-1751997600@midlandunitedmethodist.com
SUMMARY:Finance Committee Budget Meeting
DESCRIPTION:
URL:https://midlandunitedmethodist.com/event/finance-committee-meeting-2-2025-07-08-10/
LOCATION:Midland United Methodist Church\, 10235 County Rd KP\, Mazomanie\, WI\, 53560\, United States
ORGANIZER;CN="Midland UMC":MAILTO:midlandumc@gmail.com
GEO:43.1501599;-89.775204
X-APPLE-STRUCTURED-LOCATION;VALUE=URI;X-ADDRESS=Midland United Methodist Church 10235 County Rd KP Mazomanie WI 53560 United States;X-APPLE-RADIUS=500;X-TITLE=10235 County Rd KP:geo:-89.775204,43.1501599
END:VEVENT
BEGIN:VEVENT
DTSTART;TZID=America/Chicago:20250708T170000
DTEND;TZID=America/Chicago:20250708T180000
DTSTAMP:20260421T212111
CREATED:20240811T154849Z
LAST-MODIFIED:20240811T154849Z
UID:10003602-1751994000-1751997600@midlandunitedmethodist.com
SUMMARY:Finance Committee Budget Meeting
DESCRIPTION:
URL:https://midlandunitedmethodist.com/event/finance-committee-meeting-2-2025-03-11-3/
LOCATION:Midland United Methodist Church\, 10235 County Rd KP\, Mazomanie\, WI\, 53560\, United States
ORGANIZER;CN="Midland UMC":MAILTO:midlandumc@gmail.com
GEO:43.1501599;-89.775204
X-APPLE-STRUCTURED-LOCATION;VALUE=URI;X-ADDRESS=Midland United Methodist Church 10235 County Rd KP Mazomanie WI 53560 United States;X-APPLE-RADIUS=500;X-TITLE=10235 County Rd KP:geo:-89.775204,43.1501599
END:VEVENT
BEGIN:VEVENT
DTSTART;TZID=America/Chicago:20250708T170000
DTEND;TZID=America/Chicago:20250708T180000
DTSTAMP:20260421T212111
CREATED:20240811T154849Z
LAST-MODIFIED:20240811T154849Z
UID:10008241-1751994000-1751997600@midlandunitedmethodist.com
SUMMARY:Finance Committee Budget Meeting
DESCRIPTION:
URL:https://midlandunitedmethodist.com/event/finance-committee-meeting-2-2025-02-11-7/
LOCATION:Midland United Methodist Church\, 10235 County Rd KP\, Mazomanie\, WI\, 53560\, United States
ORGANIZER;CN="Midland UMC":MAILTO:midlandumc@gmail.com
GEO:43.1501599;-89.775204
X-APPLE-STRUCTURED-LOCATION;VALUE=URI;X-ADDRESS=Midland United Methodist Church 10235 County Rd KP Mazomanie WI 53560 United States;X-APPLE-RADIUS=500;X-TITLE=10235 County Rd KP:geo:-89.775204,43.1501599
END:VEVENT
BEGIN:VEVENT
DTSTART;TZID=America/Chicago:20250708T170000
DTEND;TZID=America/Chicago:20250708T180000
DTSTAMP:20260421T212111
CREATED:20240811T154849Z
LAST-MODIFIED:20240811T154849Z
UID:10006186-1751994000-1751997600@midlandunitedmethodist.com
SUMMARY:Finance Committee Budget Meeting
DESCRIPTION:
URL:https://midlandunitedmethodist.com/event/finance-committee-meeting-2-2025-04-08-5/
LOCATION:Midland United Methodist Church\, 10235 County Rd KP\, Mazomanie\, WI\, 53560\, United States
ORGANIZER;CN="Midland UMC":MAILTO:midlandumc@gmail.com
GEO:43.1501599;-89.775204
X-APPLE-STRUCTURED-LOCATION;VALUE=URI;X-ADDRESS=Midland United Methodist Church 10235 County Rd KP Mazomanie WI 53560 United States;X-APPLE-RADIUS=500;X-TITLE=10235 County Rd KP:geo:-89.775204,43.1501599
END:VEVENT
BEGIN:VEVENT
DTSTART;TZID=America/Chicago:20250708T170000
DTEND;TZID=America/Chicago:20250708T180000
DTSTAMP:20260421T212111
CREATED:20240811T154849Z
LAST-MODIFIED:20240811T154849Z
UID:10002050-1751994000-1751997600@midlandunitedmethodist.com
SUMMARY:Finance Committee Budget Meeting
DESCRIPTION:
URL:https://midlandunitedmethodist.com/event/finance-committee-meeting-2-2025-01-14-2/
LOCATION:Midland United Methodist Church\, 10235 County Rd KP\, Mazomanie\, WI\, 53560\, United States
ORGANIZER;CN="Midland UMC":MAILTO:midlandumc@gmail.com
GEO:43.1501599;-89.775204
X-APPLE-STRUCTURED-LOCATION;VALUE=URI;X-ADDRESS=Midland United Methodist Church 10235 County Rd KP Mazomanie WI 53560 United States;X-APPLE-RADIUS=500;X-TITLE=10235 County Rd KP:geo:-89.775204,43.1501599
END:VEVENT
BEGIN:VEVENT
DTSTART;TZID=America/Chicago:20250708T170000
DTEND;TZID=America/Chicago:20250708T180000
DTSTAMP:20260421T212111
CREATED:20240811T154849Z
LAST-MODIFIED:20240811T154849Z
UID:10002239-1751994000-1751997600@midlandunitedmethodist.com
SUMMARY:Finance Committee Budget Meeting
DESCRIPTION:
URL:https://midlandunitedmethodist.com/event/finance-committee-meeting-2-2025-04-08-2/
LOCATION:Midland United Methodist Church\, 10235 County Rd KP\, Mazomanie\, WI\, 53560\, United States
ORGANIZER;CN="Midland UMC":MAILTO:midlandumc@gmail.com
GEO:43.1501599;-89.775204
X-APPLE-STRUCTURED-LOCATION;VALUE=URI;X-ADDRESS=Midland United Methodist Church 10235 County Rd KP Mazomanie WI 53560 United States;X-APPLE-RADIUS=500;X-TITLE=10235 County Rd KP:geo:-89.775204,43.1501599
END:VEVENT
BEGIN:VEVENT
DTSTART;TZID=America/Chicago:20250708T170000
DTEND;TZID=America/Chicago:20250708T180000
DTSTAMP:20260421T212111
CREATED:20240811T154849Z
LAST-MODIFIED:20240811T154849Z
UID:10027336-1751994000-1751997600@midlandunitedmethodist.com
SUMMARY:Finance Committee Budget Meeting
DESCRIPTION:
URL:https://midlandunitedmethodist.com/event/finance-committee-meeting-2-2025-02-11-129/
LOCATION:Midland United Methodist Church\, 10235 County Rd KP\, Mazomanie\, WI\, 53560\, United States
ORGANIZER;CN="Midland UMC":MAILTO:midlandumc@gmail.com
GEO:43.1501599;-89.775204
X-APPLE-STRUCTURED-LOCATION;VALUE=URI;X-ADDRESS=Midland United Methodist Church 10235 County Rd KP Mazomanie WI 53560 United States;X-APPLE-RADIUS=500;X-TITLE=10235 County Rd KP:geo:-89.775204,43.1501599
END:VEVENT
BEGIN:VEVENT
DTSTART;TZID=America/Chicago:20250708T170000
DTEND;TZID=America/Chicago:20250708T180000
DTSTAMP:20260421T212111
CREATED:20240811T154849Z
LAST-MODIFIED:20240811T154849Z
UID:10027463-1751994000-1751997600@midlandunitedmethodist.com
SUMMARY:Finance Committee Budget Meeting
DESCRIPTION:
URL:https://midlandunitedmethodist.com/event/finance-committee-meeting-2-2025-04-08-129/
LOCATION:Midland United Methodist Church\, 10235 County Rd KP\, Mazomanie\, WI\, 53560\, United States
ORGANIZER;CN="Midland UMC":MAILTO:midlandumc@gmail.com
GEO:43.1501599;-89.775204
X-APPLE-STRUCTURED-LOCATION;VALUE=URI;X-ADDRESS=Midland United Methodist Church 10235 County Rd KP Mazomanie WI 53560 United States;X-APPLE-RADIUS=500;X-TITLE=10235 County Rd KP:geo:-89.775204,43.1501599
END:VEVENT
BEGIN:VEVENT
DTSTART;TZID=America/Chicago:20250708T170000
DTEND;TZID=America/Chicago:20250708T180000
DTSTAMP:20260421T212111
CREATED:20240811T154849Z
LAST-MODIFIED:20240811T154849Z
UID:10027586-1751994000-1751997600@midlandunitedmethodist.com
SUMMARY:Finance Committee Budget Meeting
DESCRIPTION:
URL:https://midlandunitedmethodist.com/event/finance-committee-meeting-2-2025-06-10-129/
LOCATION:Midland United Methodist Church\, 10235 County Rd KP\, Mazomanie\, WI\, 53560\, United States
ORGANIZER;CN="Midland UMC":MAILTO:midlandumc@gmail.com
GEO:43.1501599;-89.775204
X-APPLE-STRUCTURED-LOCATION;VALUE=URI;X-ADDRESS=Midland United Methodist Church 10235 County Rd KP Mazomanie WI 53560 United States;X-APPLE-RADIUS=500;X-TITLE=10235 County Rd KP:geo:-89.775204,43.1501599
END:VEVENT
END:VCALENDAR