BEGIN:VCALENDAR
VERSION:2.0
PRODID:-//Midland United Methodist Church - ECPv6.15.20//NONSGML v1.0//EN
CALSCALE:GREGORIAN
METHOD:PUBLISH
X-WR-CALNAME:Midland United Methodist Church
X-ORIGINAL-URL:https://midlandunitedmethodist.com
X-WR-CALDESC:Events for Midland United Methodist Church
REFRESH-INTERVAL;VALUE=DURATION:PT1H
X-Robots-Tag:noindex
X-PUBLISHED-TTL:PT1H
BEGIN:VTIMEZONE
TZID:America/Chicago
BEGIN:DAYLIGHT
TZOFFSETFROM:-0600
TZOFFSETTO:-0500
TZNAME:CDT
DTSTART:20260308T080000
END:DAYLIGHT
BEGIN:STANDARD
TZOFFSETFROM:-0500
TZOFFSETTO:-0600
TZNAME:CST
DTSTART:20261101T070000
END:STANDARD
BEGIN:DAYLIGHT
TZOFFSETFROM:-0600
TZOFFSETTO:-0500
TZNAME:CDT
DTSTART:20270314T080000
END:DAYLIGHT
BEGIN:STANDARD
TZOFFSETFROM:-0500
TZOFFSETTO:-0600
TZNAME:CST
DTSTART:20271107T070000
END:STANDARD
BEGIN:DAYLIGHT
TZOFFSETFROM:-0600
TZOFFSETTO:-0500
TZNAME:CDT
DTSTART:20280312T080000
END:DAYLIGHT
BEGIN:STANDARD
TZOFFSETFROM:-0500
TZOFFSETTO:-0600
TZNAME:CST
DTSTART:20281105T070000
END:STANDARD
END:VTIMEZONE
BEGIN:VEVENT
DTSTART;TZID=America/Chicago:20270810T170000
DTEND;TZID=America/Chicago:20270810T180000
DTSTAMP:20260424T175210
CREATED:20240811T154849Z
LAST-MODIFIED:20240811T154849Z
UID:10007176-1817917200-1817920800@midlandunitedmethodist.com
SUMMARY:Finance Committee Budget Meeting
DESCRIPTION:
URL:https://midlandunitedmethodist.com/event/finance-committee-meeting-2-2025-02-11-6/
LOCATION:Midland United Methodist Church\, 10235 County Rd KP\, Mazomanie\, WI\, 53560\, United States
ORGANIZER;CN="Midland UMC":MAILTO:midlandumc@gmail.com
GEO:43.1501599;-89.775204
X-APPLE-STRUCTURED-LOCATION;VALUE=URI;X-ADDRESS=Midland United Methodist Church 10235 County Rd KP Mazomanie WI 53560 United States;X-APPLE-RADIUS=500;X-TITLE=10235 County Rd KP:geo:-89.775204,43.1501599
END:VEVENT
BEGIN:VEVENT
DTSTART;TZID=America/Chicago:20270810T170000
DTEND;TZID=America/Chicago:20270810T180000
DTSTAMP:20260424T175210
CREATED:20240811T154849Z
LAST-MODIFIED:20240811T154849Z
UID:10003869-1817917200-1817920800@midlandunitedmethodist.com
SUMMARY:Finance Committee Budget Meeting
DESCRIPTION:
URL:https://midlandunitedmethodist.com/event/finance-committee-meeting-2-2025-07-08-3/
LOCATION:Midland United Methodist Church\, 10235 County Rd KP\, Mazomanie\, WI\, 53560\, United States
ORGANIZER;CN="Midland UMC":MAILTO:midlandumc@gmail.com
GEO:43.1501599;-89.775204
X-APPLE-STRUCTURED-LOCATION;VALUE=URI;X-ADDRESS=Midland United Methodist Church 10235 County Rd KP Mazomanie WI 53560 United States;X-APPLE-RADIUS=500;X-TITLE=10235 County Rd KP:geo:-89.775204,43.1501599
END:VEVENT
BEGIN:VEVENT
DTSTART;TZID=America/Chicago:20270810T170000
DTEND;TZID=America/Chicago:20270810T180000
DTSTAMP:20260424T175210
CREATED:20240811T154849Z
LAST-MODIFIED:20240811T154849Z
UID:10000384-1817917200-1817920800@midlandunitedmethodist.com
SUMMARY:Finance Committee Budget Meeting
DESCRIPTION:
URL:https://midlandunitedmethodist.com/event/finance-committee-meeting-2-2024-09-10/
LOCATION:Midland United Methodist Church\, 10235 County Rd KP\, Mazomanie\, WI\, 53560\, United States
ORGANIZER;CN="Midland UMC":MAILTO:midlandumc@gmail.com
GEO:43.1501599;-89.775204
X-APPLE-STRUCTURED-LOCATION;VALUE=URI;X-ADDRESS=Midland United Methodist Church 10235 County Rd KP Mazomanie WI 53560 United States;X-APPLE-RADIUS=500;X-TITLE=10235 County Rd KP:geo:-89.775204,43.1501599
END:VEVENT
BEGIN:VEVENT
DTSTART;TZID=America/Chicago:20270810T170000
DTEND;TZID=America/Chicago:20270810T180000
DTSTAMP:20260424T175210
CREATED:20240811T154849Z
LAST-MODIFIED:20240811T154849Z
UID:10020336-1817917200-1817920800@midlandunitedmethodist.com
SUMMARY:Finance Committee Budget Meeting
DESCRIPTION:
URL:https://midlandunitedmethodist.com/event/finance-committee-meeting-2-2025-02-11-68/
LOCATION:Midland United Methodist Church\, 10235 County Rd KP\, Mazomanie\, WI\, 53560\, United States
ORGANIZER;CN="Midland UMC":MAILTO:midlandumc@gmail.com
GEO:43.1501599;-89.775204
X-APPLE-STRUCTURED-LOCATION;VALUE=URI;X-ADDRESS=Midland United Methodist Church 10235 County Rd KP Mazomanie WI 53560 United States;X-APPLE-RADIUS=500;X-TITLE=10235 County Rd KP:geo:-89.775204,43.1501599
END:VEVENT
BEGIN:VEVENT
DTSTART;TZID=America/Chicago:20270810T170000
DTEND;TZID=America/Chicago:20270810T180000
DTSTAMP:20260424T175210
CREATED:20240811T154849Z
LAST-MODIFIED:20240811T154849Z
UID:10013962-1817917200-1817920800@midlandunitedmethodist.com
SUMMARY:Finance Committee Budget Meeting
DESCRIPTION:
URL:https://midlandunitedmethodist.com/event/finance-committee-meeting-2-2025-06-10-12/
LOCATION:Midland United Methodist Church\, 10235 County Rd KP\, Mazomanie\, WI\, 53560\, United States
ORGANIZER;CN="Midland UMC":MAILTO:midlandumc@gmail.com
GEO:43.1501599;-89.775204
X-APPLE-STRUCTURED-LOCATION;VALUE=URI;X-ADDRESS=Midland United Methodist Church 10235 County Rd KP Mazomanie WI 53560 United States;X-APPLE-RADIUS=500;X-TITLE=10235 County Rd KP:geo:-89.775204,43.1501599
END:VEVENT
BEGIN:VEVENT
DTSTART;TZID=America/Chicago:20270810T170000
DTEND;TZID=America/Chicago:20270810T180000
DTSTAMP:20260424T175210
CREATED:20240811T154849Z
LAST-MODIFIED:20240811T154849Z
UID:10010692-1817917200-1817920800@midlandunitedmethodist.com
SUMMARY:Finance Committee Budget Meeting
DESCRIPTION:
URL:https://midlandunitedmethodist.com/event/finance-committee-meeting-2-2025-06-10-9/
LOCATION:Midland United Methodist Church\, 10235 County Rd KP\, Mazomanie\, WI\, 53560\, United States
ORGANIZER;CN="Midland UMC":MAILTO:midlandumc@gmail.com
GEO:43.1501599;-89.775204
X-APPLE-STRUCTURED-LOCATION;VALUE=URI;X-ADDRESS=Midland United Methodist Church 10235 County Rd KP Mazomanie WI 53560 United States;X-APPLE-RADIUS=500;X-TITLE=10235 County Rd KP:geo:-89.775204,43.1501599
END:VEVENT
BEGIN:VEVENT
DTSTART;TZID=America/Chicago:20270810T170000
DTEND;TZID=America/Chicago:20270810T180000
DTSTAMP:20260424T175210
CREATED:20240811T154849Z
LAST-MODIFIED:20240811T154849Z
UID:10007422-1817917200-1817920800@midlandunitedmethodist.com
SUMMARY:Finance Committee Budget Meeting
DESCRIPTION:
URL:https://midlandunitedmethodist.com/event/finance-committee-meeting-2-2025-06-10-6/
LOCATION:Midland United Methodist Church\, 10235 County Rd KP\, Mazomanie\, WI\, 53560\, United States
ORGANIZER;CN="Midland UMC":MAILTO:midlandumc@gmail.com
GEO:43.1501599;-89.775204
X-APPLE-STRUCTURED-LOCATION;VALUE=URI;X-ADDRESS=Midland United Methodist Church 10235 County Rd KP Mazomanie WI 53560 United States;X-APPLE-RADIUS=500;X-TITLE=10235 County Rd KP:geo:-89.775204,43.1501599
END:VEVENT
BEGIN:VEVENT
DTSTART;TZID=America/Chicago:20270810T170000
DTEND;TZID=America/Chicago:20270810T180000
DTSTAMP:20260424T175210
CREATED:20240811T154849Z
LAST-MODIFIED:20240811T154849Z
UID:10017256-1817917200-1817920800@midlandunitedmethodist.com
SUMMARY:Finance Committee Budget Meeting
DESCRIPTION:
URL:https://midlandunitedmethodist.com/event/finance-committee-meeting-2-2025-06-10-65/
LOCATION:Midland United Methodist Church\, 10235 County Rd KP\, Mazomanie\, WI\, 53560\, United States
ORGANIZER;CN="Midland UMC":MAILTO:midlandumc@gmail.com
GEO:43.1501599;-89.775204
X-APPLE-STRUCTURED-LOCATION;VALUE=URI;X-ADDRESS=Midland United Methodist Church 10235 County Rd KP Mazomanie WI 53560 United States;X-APPLE-RADIUS=500;X-TITLE=10235 County Rd KP:geo:-89.775204,43.1501599
END:VEVENT
BEGIN:VEVENT
DTSTART;TZID=America/Chicago:20270810T170000
DTEND;TZID=America/Chicago:20270810T180000
DTSTAMP:20260424T175210
CREATED:20240811T154849Z
LAST-MODIFIED:20240811T154849Z
UID:10004095-1817917200-1817920800@midlandunitedmethodist.com
SUMMARY:Finance Committee Budget Meeting
DESCRIPTION:
URL:https://midlandunitedmethodist.com/event/finance-committee-meeting-2-2025-11-11-3/
LOCATION:Midland United Methodist Church\, 10235 County Rd KP\, Mazomanie\, WI\, 53560\, United States
ORGANIZER;CN="Midland UMC":MAILTO:midlandumc@gmail.com
GEO:43.1501599;-89.775204
X-APPLE-STRUCTURED-LOCATION;VALUE=URI;X-ADDRESS=Midland United Methodist Church 10235 County Rd KP Mazomanie WI 53560 United States;X-APPLE-RADIUS=500;X-TITLE=10235 County Rd KP:geo:-89.775204,43.1501599
END:VEVENT
BEGIN:VEVENT
DTSTART;TZID=America/Chicago:20270810T170000
DTEND;TZID=America/Chicago:20270810T180000
DTSTAMP:20260424T175210
CREATED:20240811T154849Z
LAST-MODIFIED:20240811T154849Z
UID:10000650-1817917200-1817920800@midlandunitedmethodist.com
SUMMARY:Finance Committee Budget Meeting
DESCRIPTION:
URL:https://midlandunitedmethodist.com/event/finance-committee-meeting-2-2025-01-14/
LOCATION:Midland United Methodist Church\, 10235 County Rd KP\, Mazomanie\, WI\, 53560\, United States
ORGANIZER;CN="Midland UMC":MAILTO:midlandumc@gmail.com
GEO:43.1501599;-89.775204
X-APPLE-STRUCTURED-LOCATION;VALUE=URI;X-ADDRESS=Midland United Methodist Church 10235 County Rd KP Mazomanie WI 53560 United States;X-APPLE-RADIUS=500;X-TITLE=10235 County Rd KP:geo:-89.775204,43.1501599
END:VEVENT
BEGIN:VEVENT
DTSTART;TZID=America/Chicago:20270810T170000
DTEND;TZID=America/Chicago:20270810T180000
DTSTAMP:20260424T175210
CREATED:20240811T154849Z
LAST-MODIFIED:20240811T154849Z
UID:10027296-1817917200-1817920800@midlandunitedmethodist.com
SUMMARY:Finance Committee Budget Meeting
DESCRIPTION:
URL:https://midlandunitedmethodist.com/event/finance-committee-meeting-2-2025-06-10-128/
LOCATION:Midland United Methodist Church\, 10235 County Rd KP\, Mazomanie\, WI\, 53560\, United States
ORGANIZER;CN="Midland UMC":MAILTO:midlandumc@gmail.com
GEO:43.1501599;-89.775204
X-APPLE-STRUCTURED-LOCATION;VALUE=URI;X-ADDRESS=Midland United Methodist Church 10235 County Rd KP Mazomanie WI 53560 United States;X-APPLE-RADIUS=500;X-TITLE=10235 County Rd KP:geo:-89.775204,43.1501599
END:VEVENT
BEGIN:VEVENT
DTSTART;TZID=America/Chicago:20270810T170000
DTEND;TZID=America/Chicago:20270810T180000
DTSTAMP:20260424T175210
CREATED:20240811T154849Z
LAST-MODIFIED:20240811T154849Z
UID:10023916-1817917200-1817920800@midlandunitedmethodist.com
SUMMARY:Finance Committee Budget Meeting
DESCRIPTION:
URL:https://midlandunitedmethodist.com/event/finance-committee-meeting-2-2026-09-08-60/
LOCATION:Midland United Methodist Church\, 10235 County Rd KP\, Mazomanie\, WI\, 53560\, United States
ORGANIZER;CN="Midland UMC":MAILTO:midlandumc@gmail.com
GEO:43.1501599;-89.775204
X-APPLE-STRUCTURED-LOCATION;VALUE=URI;X-ADDRESS=Midland United Methodist Church 10235 County Rd KP Mazomanie WI 53560 United States;X-APPLE-RADIUS=500;X-TITLE=10235 County Rd KP:geo:-89.775204,43.1501599
END:VEVENT
BEGIN:VEVENT
DTSTART;TZID=America/Chicago:20270810T170000
DTEND;TZID=America/Chicago:20270810T180000
DTSTAMP:20260424T175210
CREATED:20240811T154849Z
LAST-MODIFIED:20240811T154849Z
UID:10014192-1817917200-1817920800@midlandunitedmethodist.com
SUMMARY:Finance Committee Budget Meeting
DESCRIPTION:
URL:https://midlandunitedmethodist.com/event/finance-committee-meeting-2-2025-10-14-12/
LOCATION:Midland United Methodist Church\, 10235 County Rd KP\, Mazomanie\, WI\, 53560\, United States
ORGANIZER;CN="Midland UMC":MAILTO:midlandumc@gmail.com
GEO:43.1501599;-89.775204
X-APPLE-STRUCTURED-LOCATION;VALUE=URI;X-ADDRESS=Midland United Methodist Church 10235 County Rd KP Mazomanie WI 53560 United States;X-APPLE-RADIUS=500;X-TITLE=10235 County Rd KP:geo:-89.775204,43.1501599
END:VEVENT
BEGIN:VEVENT
DTSTART;TZID=America/Chicago:20270810T170000
DTEND;TZID=America/Chicago:20270810T180000
DTSTAMP:20260424T175210
CREATED:20240811T154849Z
LAST-MODIFIED:20240811T154849Z
UID:10010922-1817917200-1817920800@midlandunitedmethodist.com
SUMMARY:Finance Committee Budget Meeting
DESCRIPTION:
URL:https://midlandunitedmethodist.com/event/finance-committee-meeting-2-2025-10-14-9/
LOCATION:Midland United Methodist Church\, 10235 County Rd KP\, Mazomanie\, WI\, 53560\, United States
ORGANIZER;CN="Midland UMC":MAILTO:midlandumc@gmail.com
GEO:43.1501599;-89.775204
X-APPLE-STRUCTURED-LOCATION;VALUE=URI;X-ADDRESS=Midland United Methodist Church 10235 County Rd KP Mazomanie WI 53560 United States;X-APPLE-RADIUS=500;X-TITLE=10235 County Rd KP:geo:-89.775204,43.1501599
END:VEVENT
BEGIN:VEVENT
DTSTART;TZID=America/Chicago:20270810T170000
DTEND;TZID=America/Chicago:20270810T180000
DTSTAMP:20260424T175210
CREATED:20240811T154849Z
LAST-MODIFIED:20240811T154849Z
UID:10007652-1817917200-1817920800@midlandunitedmethodist.com
SUMMARY:Finance Committee Budget Meeting
DESCRIPTION:
URL:https://midlandunitedmethodist.com/event/finance-committee-meeting-2-2025-10-14-6/
LOCATION:Midland United Methodist Church\, 10235 County Rd KP\, Mazomanie\, WI\, 53560\, United States
ORGANIZER;CN="Midland UMC":MAILTO:midlandumc@gmail.com
GEO:43.1501599;-89.775204
X-APPLE-STRUCTURED-LOCATION;VALUE=URI;X-ADDRESS=Midland United Methodist Church 10235 County Rd KP Mazomanie WI 53560 United States;X-APPLE-RADIUS=500;X-TITLE=10235 County Rd KP:geo:-89.775204,43.1501599
END:VEVENT
BEGIN:VEVENT
DTSTART;TZID=America/Chicago:20270810T170000
DTEND;TZID=America/Chicago:20270810T180000
DTSTAMP:20260424T175210
CREATED:20240811T154849Z
LAST-MODIFIED:20240811T154849Z
UID:10004305-1817917200-1817920800@midlandunitedmethodist.com
SUMMARY:Finance Committee Budget Meeting
DESCRIPTION:
URL:https://midlandunitedmethodist.com/event/finance-committee-meeting-2-2026-03-10-3/
LOCATION:Midland United Methodist Church\, 10235 County Rd KP\, Mazomanie\, WI\, 53560\, United States
ORGANIZER;CN="Midland UMC":MAILTO:midlandumc@gmail.com
GEO:43.1501599;-89.775204
X-APPLE-STRUCTURED-LOCATION;VALUE=URI;X-ADDRESS=Midland United Methodist Church 10235 County Rd KP Mazomanie WI 53560 United States;X-APPLE-RADIUS=500;X-TITLE=10235 County Rd KP:geo:-89.775204,43.1501599
END:VEVENT
BEGIN:VEVENT
DTSTART;TZID=America/Chicago:20270810T170000
DTEND;TZID=America/Chicago:20270810T180000
DTSTAMP:20260424T175210
CREATED:20240811T154849Z
LAST-MODIFIED:20240811T154849Z
UID:10000900-1817917200-1817920800@midlandunitedmethodist.com
SUMMARY:Finance Committee Budget Meeting
DESCRIPTION:
URL:https://midlandunitedmethodist.com/event/finance-committee-meeting-2-2025-05-13/
LOCATION:Midland United Methodist Church\, 10235 County Rd KP\, Mazomanie\, WI\, 53560\, United States
ORGANIZER;CN="Midland UMC":MAILTO:midlandumc@gmail.com
GEO:43.1501599;-89.775204
X-APPLE-STRUCTURED-LOCATION;VALUE=URI;X-ADDRESS=Midland United Methodist Church 10235 County Rd KP Mazomanie WI 53560 United States;X-APPLE-RADIUS=500;X-TITLE=10235 County Rd KP:geo:-89.775204,43.1501599
END:VEVENT
BEGIN:VEVENT
DTSTART;TZID=America/Chicago:20270810T170000
DTEND;TZID=America/Chicago:20270810T180000
DTSTAMP:20260424T175210
CREATED:20240811T154849Z
LAST-MODIFIED:20240811T154849Z
UID:10020820-1817917200-1817920800@midlandunitedmethodist.com
SUMMARY:Finance Committee Budget Meeting
DESCRIPTION:
URL:https://midlandunitedmethodist.com/event/finance-committee-meeting-2-2025-10-14-58/
LOCATION:Midland United Methodist Church\, 10235 County Rd KP\, Mazomanie\, WI\, 53560\, United States
ORGANIZER;CN="Midland UMC":MAILTO:midlandumc@gmail.com
GEO:43.1501599;-89.775204
X-APPLE-STRUCTURED-LOCATION;VALUE=URI;X-ADDRESS=Midland United Methodist Church 10235 County Rd KP Mazomanie WI 53560 United States;X-APPLE-RADIUS=500;X-TITLE=10235 County Rd KP:geo:-89.775204,43.1501599
END:VEVENT
BEGIN:VEVENT
DTSTART;TZID=America/Chicago:20270810T170000
DTEND;TZID=America/Chicago:20270810T180000
DTSTAMP:20260424T175210
CREATED:20240811T154849Z
LAST-MODIFIED:20240811T154849Z
UID:10014406-1817917200-1817920800@midlandunitedmethodist.com
SUMMARY:Finance Committee Budget Meeting
DESCRIPTION:
URL:https://midlandunitedmethodist.com/event/finance-committee-meeting-2-2026-02-10-12/
LOCATION:Midland United Methodist Church\, 10235 County Rd KP\, Mazomanie\, WI\, 53560\, United States
ORGANIZER;CN="Midland UMC":MAILTO:midlandumc@gmail.com
GEO:43.1501599;-89.775204
X-APPLE-STRUCTURED-LOCATION;VALUE=URI;X-ADDRESS=Midland United Methodist Church 10235 County Rd KP Mazomanie WI 53560 United States;X-APPLE-RADIUS=500;X-TITLE=10235 County Rd KP:geo:-89.775204,43.1501599
END:VEVENT
BEGIN:VEVENT
DTSTART;TZID=America/Chicago:20270810T170000
DTEND;TZID=America/Chicago:20270810T180000
DTSTAMP:20260424T175210
CREATED:20240811T154849Z
LAST-MODIFIED:20240811T154849Z
UID:10011136-1817917200-1817920800@midlandunitedmethodist.com
SUMMARY:Finance Committee Budget Meeting
DESCRIPTION:
URL:https://midlandunitedmethodist.com/event/finance-committee-meeting-2-2026-02-10-9/
LOCATION:Midland United Methodist Church\, 10235 County Rd KP\, Mazomanie\, WI\, 53560\, United States
ORGANIZER;CN="Midland UMC":MAILTO:midlandumc@gmail.com
GEO:43.1501599;-89.775204
X-APPLE-STRUCTURED-LOCATION;VALUE=URI;X-ADDRESS=Midland United Methodist Church 10235 County Rd KP Mazomanie WI 53560 United States;X-APPLE-RADIUS=500;X-TITLE=10235 County Rd KP:geo:-89.775204,43.1501599
END:VEVENT
BEGIN:VEVENT
DTSTART;TZID=America/Chicago:20270810T170000
DTEND;TZID=America/Chicago:20270810T180000
DTSTAMP:20260424T175210
CREATED:20240811T154849Z
LAST-MODIFIED:20240811T154849Z
UID:10007866-1817917200-1817920800@midlandunitedmethodist.com
SUMMARY:Finance Committee Budget Meeting
DESCRIPTION:
URL:https://midlandunitedmethodist.com/event/finance-committee-meeting-2-2026-02-10-6/
LOCATION:Midland United Methodist Church\, 10235 County Rd KP\, Mazomanie\, WI\, 53560\, United States
ORGANIZER;CN="Midland UMC":MAILTO:midlandumc@gmail.com
GEO:43.1501599;-89.775204
X-APPLE-STRUCTURED-LOCATION;VALUE=URI;X-ADDRESS=Midland United Methodist Church 10235 County Rd KP Mazomanie WI 53560 United States;X-APPLE-RADIUS=500;X-TITLE=10235 County Rd KP:geo:-89.775204,43.1501599
END:VEVENT
BEGIN:VEVENT
DTSTART;TZID=America/Chicago:20270810T170000
DTEND;TZID=America/Chicago:20270810T180000
DTSTAMP:20260424T175210
CREATED:20240811T154849Z
LAST-MODIFIED:20240811T154849Z
UID:10004499-1817917200-1817920800@midlandunitedmethodist.com
SUMMARY:Finance Committee Budget Meeting
DESCRIPTION:
URL:https://midlandunitedmethodist.com/event/finance-committee-meeting-2-2026-07-14-3/
LOCATION:Midland United Methodist Church\, 10235 County Rd KP\, Mazomanie\, WI\, 53560\, United States
ORGANIZER;CN="Midland UMC":MAILTO:midlandumc@gmail.com
GEO:43.1501599;-89.775204
X-APPLE-STRUCTURED-LOCATION;VALUE=URI;X-ADDRESS=Midland United Methodist Church 10235 County Rd KP Mazomanie WI 53560 United States;X-APPLE-RADIUS=500;X-TITLE=10235 County Rd KP:geo:-89.775204,43.1501599
END:VEVENT
BEGIN:VEVENT
DTSTART;TZID=America/Chicago:20270810T170000
DTEND;TZID=America/Chicago:20270810T180000
DTSTAMP:20260424T175210
CREATED:20240811T154849Z
LAST-MODIFIED:20240811T154849Z
UID:10017708-1817917200-1817920800@midlandunitedmethodist.com
SUMMARY:Finance Committee Budget Meeting
DESCRIPTION:
URL:https://midlandunitedmethodist.com/event/finance-committee-meeting-2-2026-02-10-55/
LOCATION:Midland United Methodist Church\, 10235 County Rd KP\, Mazomanie\, WI\, 53560\, United States
ORGANIZER;CN="Midland UMC":MAILTO:midlandumc@gmail.com
GEO:43.1501599;-89.775204
X-APPLE-STRUCTURED-LOCATION;VALUE=URI;X-ADDRESS=Midland United Methodist Church 10235 County Rd KP Mazomanie WI 53560 United States;X-APPLE-RADIUS=500;X-TITLE=10235 County Rd KP:geo:-89.775204,43.1501599
END:VEVENT
BEGIN:VEVENT
DTSTART;TZID=America/Chicago:20270810T170000
DTEND;TZID=America/Chicago:20270810T180000
DTSTAMP:20260424T175210
CREATED:20240811T154849Z
LAST-MODIFIED:20240811T154849Z
UID:10001134-1817917200-1817920800@midlandunitedmethodist.com
SUMMARY:Finance Committee Budget Meeting
DESCRIPTION:
URL:https://midlandunitedmethodist.com/event/finance-committee-meeting-2-2025-09-09/
LOCATION:Midland United Methodist Church\, 10235 County Rd KP\, Mazomanie\, WI\, 53560\, United States
ORGANIZER;CN="Midland UMC":MAILTO:midlandumc@gmail.com
GEO:43.1501599;-89.775204
X-APPLE-STRUCTURED-LOCATION;VALUE=URI;X-ADDRESS=Midland United Methodist Church 10235 County Rd KP Mazomanie WI 53560 United States;X-APPLE-RADIUS=500;X-TITLE=10235 County Rd KP:geo:-89.775204,43.1501599
END:VEVENT
BEGIN:VEVENT
DTSTART;TZID=America/Chicago:20270810T170000
DTEND;TZID=America/Chicago:20270810T180000
DTSTAMP:20260424T175210
CREATED:20240811T154849Z
LAST-MODIFIED:20240811T154849Z
UID:10027803-1817917200-1817920800@midlandunitedmethodist.com
SUMMARY:Finance Committee Budget Meeting
DESCRIPTION:
URL:https://midlandunitedmethodist.com/event/finance-committee-meeting-2-2025-04-08-131/
LOCATION:Midland United Methodist Church\, 10235 County Rd KP\, Mazomanie\, WI\, 53560\, United States
ORGANIZER;CN="Midland UMC":MAILTO:midlandumc@gmail.com
GEO:43.1501599;-89.775204
X-APPLE-STRUCTURED-LOCATION;VALUE=URI;X-ADDRESS=Midland United Methodist Church 10235 County Rd KP Mazomanie WI 53560 United States;X-APPLE-RADIUS=500;X-TITLE=10235 County Rd KP:geo:-89.775204,43.1501599
END:VEVENT
BEGIN:VEVENT
DTSTART;TZID=America/Chicago:20270810T170000
DTEND;TZID=America/Chicago:20270810T180000
DTSTAMP:20260424T175210
CREATED:20240811T154849Z
LAST-MODIFIED:20240811T154849Z
UID:10024425-1817917200-1817920800@midlandunitedmethodist.com
SUMMARY:Finance Committee Budget Meeting
DESCRIPTION:
URL:https://midlandunitedmethodist.com/event/finance-committee-meeting-2-2025-03-11-120/
LOCATION:Midland United Methodist Church\, 10235 County Rd KP\, Mazomanie\, WI\, 53560\, United States
ORGANIZER;CN="Midland UMC":MAILTO:midlandumc@gmail.com
GEO:43.1501599;-89.775204
X-APPLE-STRUCTURED-LOCATION;VALUE=URI;X-ADDRESS=Midland United Methodist Church 10235 County Rd KP Mazomanie WI 53560 United States;X-APPLE-RADIUS=500;X-TITLE=10235 County Rd KP:geo:-89.775204,43.1501599
END:VEVENT
BEGIN:VEVENT
DTSTART;TZID=America/Chicago:20270810T170000
DTEND;TZID=America/Chicago:20270810T180000
DTSTAMP:20260424T175210
CREATED:20240811T154849Z
LAST-MODIFIED:20240811T154849Z
UID:10014604-1817917200-1817920800@midlandunitedmethodist.com
SUMMARY:Finance Committee Budget Meeting
DESCRIPTION:
URL:https://midlandunitedmethodist.com/event/finance-committee-meeting-2-2026-06-09-12/
LOCATION:Midland United Methodist Church\, 10235 County Rd KP\, Mazomanie\, WI\, 53560\, United States
ORGANIZER;CN="Midland UMC":MAILTO:midlandumc@gmail.com
GEO:43.1501599;-89.775204
X-APPLE-STRUCTURED-LOCATION;VALUE=URI;X-ADDRESS=Midland United Methodist Church 10235 County Rd KP Mazomanie WI 53560 United States;X-APPLE-RADIUS=500;X-TITLE=10235 County Rd KP:geo:-89.775204,43.1501599
END:VEVENT
BEGIN:VEVENT
DTSTART;TZID=America/Chicago:20270810T170000
DTEND;TZID=America/Chicago:20270810T180000
DTSTAMP:20260424T175210
CREATED:20240811T154849Z
LAST-MODIFIED:20240811T154849Z
UID:10011334-1817917200-1817920800@midlandunitedmethodist.com
SUMMARY:Finance Committee Budget Meeting
DESCRIPTION:
URL:https://midlandunitedmethodist.com/event/finance-committee-meeting-2-2026-06-09-9/
LOCATION:Midland United Methodist Church\, 10235 County Rd KP\, Mazomanie\, WI\, 53560\, United States
ORGANIZER;CN="Midland UMC":MAILTO:midlandumc@gmail.com
GEO:43.1501599;-89.775204
X-APPLE-STRUCTURED-LOCATION;VALUE=URI;X-ADDRESS=Midland United Methodist Church 10235 County Rd KP Mazomanie WI 53560 United States;X-APPLE-RADIUS=500;X-TITLE=10235 County Rd KP:geo:-89.775204,43.1501599
END:VEVENT
BEGIN:VEVENT
DTSTART;TZID=America/Chicago:20270810T170000
DTEND;TZID=America/Chicago:20270810T180000
DTSTAMP:20260424T175210
CREATED:20240811T154849Z
LAST-MODIFIED:20240811T154849Z
UID:10008064-1817917200-1817920800@midlandunitedmethodist.com
SUMMARY:Finance Committee Budget Meeting
DESCRIPTION:
URL:https://midlandunitedmethodist.com/event/finance-committee-meeting-2-2026-06-09-6/
LOCATION:Midland United Methodist Church\, 10235 County Rd KP\, Mazomanie\, WI\, 53560\, United States
ORGANIZER;CN="Midland UMC":MAILTO:midlandumc@gmail.com
GEO:43.1501599;-89.775204
X-APPLE-STRUCTURED-LOCATION;VALUE=URI;X-ADDRESS=Midland United Methodist Church 10235 County Rd KP Mazomanie WI 53560 United States;X-APPLE-RADIUS=500;X-TITLE=10235 County Rd KP:geo:-89.775204,43.1501599
END:VEVENT
BEGIN:VEVENT
DTSTART;TZID=America/Chicago:20270810T170000
DTEND;TZID=America/Chicago:20270810T180000
DTSTAMP:20260424T175210
CREATED:20240811T154849Z
LAST-MODIFIED:20240811T154849Z
UID:10004727-1817917200-1817920800@midlandunitedmethodist.com
SUMMARY:Finance Committee Budget Meeting
DESCRIPTION:
URL:https://midlandunitedmethodist.com/event/finance-committee-meeting-2-2024-10-08-4/
LOCATION:Midland United Methodist Church\, 10235 County Rd KP\, Mazomanie\, WI\, 53560\, United States
ORGANIZER;CN="Midland UMC":MAILTO:midlandumc@gmail.com
GEO:43.1501599;-89.775204
X-APPLE-STRUCTURED-LOCATION;VALUE=URI;X-ADDRESS=Midland United Methodist Church 10235 County Rd KP Mazomanie WI 53560 United States;X-APPLE-RADIUS=500;X-TITLE=10235 County Rd KP:geo:-89.775204,43.1501599
END:VEVENT
END:VCALENDAR