BEGIN:VCALENDAR
VERSION:2.0
PRODID:-//Midland United Methodist Church - ECPv6.15.20//NONSGML v1.0//EN
CALSCALE:GREGORIAN
METHOD:PUBLISH
X-WR-CALNAME:Midland United Methodist Church
X-ORIGINAL-URL:https://midlandunitedmethodist.com
X-WR-CALDESC:Events for Midland United Methodist Church
REFRESH-INTERVAL;VALUE=DURATION:PT1H
X-Robots-Tag:noindex
X-PUBLISHED-TTL:PT1H
BEGIN:VTIMEZONE
TZID:America/Chicago
BEGIN:DAYLIGHT
TZOFFSETFROM:-0600
TZOFFSETTO:-0500
TZNAME:CDT
DTSTART:20210314T080000
END:DAYLIGHT
BEGIN:STANDARD
TZOFFSETFROM:-0500
TZOFFSETTO:-0600
TZNAME:CST
DTSTART:20211107T070000
END:STANDARD
BEGIN:DAYLIGHT
TZOFFSETFROM:-0600
TZOFFSETTO:-0500
TZNAME:CDT
DTSTART:20220313T080000
END:DAYLIGHT
BEGIN:STANDARD
TZOFFSETFROM:-0500
TZOFFSETTO:-0600
TZNAME:CST
DTSTART:20221106T070000
END:STANDARD
BEGIN:DAYLIGHT
TZOFFSETFROM:-0600
TZOFFSETTO:-0500
TZNAME:CDT
DTSTART:20230312T080000
END:DAYLIGHT
BEGIN:STANDARD
TZOFFSETFROM:-0500
TZOFFSETTO:-0600
TZNAME:CST
DTSTART:20231105T070000
END:STANDARD
BEGIN:DAYLIGHT
TZOFFSETFROM:-0600
TZOFFSETTO:-0500
TZNAME:CDT
DTSTART:20240310T080000
END:DAYLIGHT
BEGIN:STANDARD
TZOFFSETFROM:-0500
TZOFFSETTO:-0600
TZNAME:CST
DTSTART:20241103T070000
END:STANDARD
END:VTIMEZONE
BEGIN:VEVENT
DTSTART;TZID=America/Chicago:20221106T081500
DTEND;TZID=America/Chicago:20221106T093000
DTSTAMP:20260423T034312
CREATED:20220903T165049Z
LAST-MODIFIED:20220903T165049Z
UID:10000255-1667722500-1667727000@midlandunitedmethodist.com
SUMMARY:Adult Sunday School
DESCRIPTION:
URL:https://midlandunitedmethodist.com/event/adult-sunday-school/2022-11-06/
LOCATION:Midland United Methodist Church\, 10235 County Rd KP\, Mazomanie\, WI\, 53560\, United States
ORGANIZER;CN="Midland UMC":MAILTO:midlandumc@gmail.com
GEO:43.1501599;-89.775204
X-APPLE-STRUCTURED-LOCATION;VALUE=URI;X-ADDRESS=Midland United Methodist Church 10235 County Rd KP Mazomanie WI 53560 United States;X-APPLE-RADIUS=500;X-TITLE=10235 County Rd KP:geo:-89.775204,43.1501599
END:VEVENT
BEGIN:VEVENT
DTSTART;TZID=America/Chicago:20221106T093000
DTEND;TZID=America/Chicago:20221106T103000
DTSTAMP:20260423T034312
CREATED:20220729T132447Z
LAST-MODIFIED:20221117T160039Z
UID:10000177-1667727000-1667730600@midlandunitedmethodist.com
SUMMARY:Worship
DESCRIPTION:A blended\, multi-sensory worship experience that offers a variety of music and worship elements such as drama\, which allows God’s Word to be heard in a way that relates to people today.
URL:https://midlandunitedmethodist.com/event/worship/2022-11-06/
LOCATION:Midland United Methodist Church\, 10235 County Rd KP\, Mazomanie\, WI\, 53560\, United States
CATEGORIES:Worship
GEO:43.1501599;-89.775204
X-APPLE-STRUCTURED-LOCATION;VALUE=URI;X-ADDRESS=Midland United Methodist Church 10235 County Rd KP Mazomanie WI 53560 United States;X-APPLE-RADIUS=500;X-TITLE=10235 County Rd KP:geo:-89.775204,43.1501599
END:VEVENT
BEGIN:VEVENT
DTSTART;TZID=America/Chicago:20221113T081500
DTEND;TZID=America/Chicago:20221113T093000
DTSTAMP:20260423T034312
CREATED:20220903T165049Z
LAST-MODIFIED:20220903T165049Z
UID:10000256-1668327300-1668331800@midlandunitedmethodist.com
SUMMARY:Adult Sunday School
DESCRIPTION:
URL:https://midlandunitedmethodist.com/event/adult-sunday-school/2022-11-13/
LOCATION:Midland United Methodist Church\, 10235 County Rd KP\, Mazomanie\, WI\, 53560\, United States
ORGANIZER;CN="Midland UMC":MAILTO:midlandumc@gmail.com
GEO:43.1501599;-89.775204
X-APPLE-STRUCTURED-LOCATION;VALUE=URI;X-ADDRESS=Midland United Methodist Church 10235 County Rd KP Mazomanie WI 53560 United States;X-APPLE-RADIUS=500;X-TITLE=10235 County Rd KP:geo:-89.775204,43.1501599
END:VEVENT
BEGIN:VEVENT
DTSTART;TZID=America/Chicago:20221113T093000
DTEND;TZID=America/Chicago:20221113T103000
DTSTAMP:20260423T034312
CREATED:20220729T132447Z
LAST-MODIFIED:20221117T160039Z
UID:10000178-1668331800-1668335400@midlandunitedmethodist.com
SUMMARY:Worship
DESCRIPTION:A blended\, multi-sensory worship experience that offers a variety of music and worship elements such as drama\, which allows God’s Word to be heard in a way that relates to people today.
URL:https://midlandunitedmethodist.com/event/worship/2022-11-13/
LOCATION:Midland United Methodist Church\, 10235 County Rd KP\, Mazomanie\, WI\, 53560\, United States
CATEGORIES:Worship
GEO:43.1501599;-89.775204
X-APPLE-STRUCTURED-LOCATION;VALUE=URI;X-ADDRESS=Midland United Methodist Church 10235 County Rd KP Mazomanie WI 53560 United States;X-APPLE-RADIUS=500;X-TITLE=10235 County Rd KP:geo:-89.775204,43.1501599
END:VEVENT
BEGIN:VEVENT
DTSTART;TZID=America/Chicago:20221117T183000
DTEND;TZID=America/Chicago:20221117T200000
DTSTAMP:20260423T034312
CREATED:20220903T164409Z
LAST-MODIFIED:20220903T164409Z
UID:10000098-1668709800-1668715200@midlandunitedmethodist.com
SUMMARY:UMW Meeting
DESCRIPTION:Midland UMW meeting will be held at 6:30 p.m. in the Community Room at the Church on Thursday\, September 15th.  Program Leader is Marilyn DeWitt and Hostess is Linda Richter.
URL:https://midlandunitedmethodist.com/event/umw-meeting/2022-11-17/
LOCATION:Midland United Methodist Church\, 10235 County Rd KP\, Mazomanie\, WI\, 53560\, United States
ORGANIZER;CN="Midland UMC":MAILTO:midlandumc@gmail.com
GEO:43.1501599;-89.775204
X-APPLE-STRUCTURED-LOCATION;VALUE=URI;X-ADDRESS=Midland United Methodist Church 10235 County Rd KP Mazomanie WI 53560 United States;X-APPLE-RADIUS=500;X-TITLE=10235 County Rd KP:geo:-89.775204,43.1501599
END:VEVENT
BEGIN:VEVENT
DTSTART;TZID=America/Chicago:20221120T080000
DTEND;TZID=America/Chicago:20221120T100000
DTSTAMP:20260423T034312
CREATED:20221117T153441Z
LAST-MODIFIED:20221117T155923Z
UID:10000154-1668931200-1668938400@midlandunitedmethodist.com
SUMMARY:Operation Christmas Child Shoeboxes Due
DESCRIPTION:OCC Shoeboxes Due Today 11/20: Operation Christmas Child delivers great joy and the Good News of Jesus Christ to children in need around the world through gift-filled shoeboxes. Each box packed full of quality toys\, school supplies\, and personal care items becomes a tangible expression of God’s immense love for the child. For many\, it is their first gift ever! Delivered by our local church partners\, shoebox gifts provide an opportunity to present the Gospel to boys and girls in a clear\, child-friendly way. Click the website link below for more information on choosing items and backing your box.
URL:https://midlandunitedmethodist.com/event/operation-christmas-child-shoeboxes-due/
LOCATION:Midland United Methodist Church\, 10235 County Rd KP\, Mazomanie\, WI\, 53560\, United States
ORGANIZER;CN="Midland UMC":MAILTO:midlandumc@gmail.com
GEO:43.1501599;-89.775204
X-APPLE-STRUCTURED-LOCATION;VALUE=URI;X-ADDRESS=Midland United Methodist Church 10235 County Rd KP Mazomanie WI 53560 United States;X-APPLE-RADIUS=500;X-TITLE=10235 County Rd KP:geo:-89.775204,43.1501599
END:VEVENT
BEGIN:VEVENT
DTSTART;TZID=America/Chicago:20221120T081500
DTEND;TZID=America/Chicago:20221120T093000
DTSTAMP:20260423T034312
CREATED:20220903T165049Z
LAST-MODIFIED:20220903T165049Z
UID:10000257-1668932100-1668936600@midlandunitedmethodist.com
SUMMARY:Adult Sunday School
DESCRIPTION:
URL:https://midlandunitedmethodist.com/event/adult-sunday-school/2022-11-20/
LOCATION:Midland United Methodist Church\, 10235 County Rd KP\, Mazomanie\, WI\, 53560\, United States
ORGANIZER;CN="Midland UMC":MAILTO:midlandumc@gmail.com
GEO:43.1501599;-89.775204
X-APPLE-STRUCTURED-LOCATION;VALUE=URI;X-ADDRESS=Midland United Methodist Church 10235 County Rd KP Mazomanie WI 53560 United States;X-APPLE-RADIUS=500;X-TITLE=10235 County Rd KP:geo:-89.775204,43.1501599
END:VEVENT
BEGIN:VEVENT
DTSTART;TZID=America/Chicago:20221120T093000
DTEND;TZID=America/Chicago:20221120T103000
DTSTAMP:20260423T034312
CREATED:20220729T132447Z
LAST-MODIFIED:20221117T160039Z
UID:10000179-1668936600-1668940200@midlandunitedmethodist.com
SUMMARY:Worship
DESCRIPTION:A blended\, multi-sensory worship experience that offers a variety of music and worship elements such as drama\, which allows God’s Word to be heard in a way that relates to people today.
URL:https://midlandunitedmethodist.com/event/worship/2022-11-20/
LOCATION:Midland United Methodist Church\, 10235 County Rd KP\, Mazomanie\, WI\, 53560\, United States
CATEGORIES:Worship
GEO:43.1501599;-89.775204
X-APPLE-STRUCTURED-LOCATION;VALUE=URI;X-ADDRESS=Midland United Methodist Church 10235 County Rd KP Mazomanie WI 53560 United States;X-APPLE-RADIUS=500;X-TITLE=10235 County Rd KP:geo:-89.775204,43.1501599
END:VEVENT
BEGIN:VEVENT
DTSTART;TZID=America/Chicago:20221126T090000
DTEND;TZID=America/Chicago:20221126T120000
DTSTAMP:20260423T034312
CREATED:20221117T154058Z
LAST-MODIFIED:20221117T160203Z
UID:10000155-1669453200-1669464000@midlandunitedmethodist.com
SUMMARY:Barn Clean Up Day
DESCRIPTION:Join us at the barn November 26th as we tidy up the manger for the arrival of baby Jesus and our Live Nativity December 1oth.
URL:https://midlandunitedmethodist.com/event/barn-clean-up-day/
LOCATION:Midland United Methodist Church\, 10235 County Rd KP\, Mazomanie\, WI\, 53560\, United States
ORGANIZER;CN="Midland UMC":MAILTO:midlandumc@gmail.com
GEO:43.1501599;-89.775204
X-APPLE-STRUCTURED-LOCATION;VALUE=URI;X-ADDRESS=Midland United Methodist Church 10235 County Rd KP Mazomanie WI 53560 United States;X-APPLE-RADIUS=500;X-TITLE=10235 County Rd KP:geo:-89.775204,43.1501599
END:VEVENT
BEGIN:VEVENT
DTSTART;TZID=America/Chicago:20221127T081500
DTEND;TZID=America/Chicago:20221127T093000
DTSTAMP:20260423T034312
CREATED:20220903T165049Z
LAST-MODIFIED:20220903T165049Z
UID:10000258-1669536900-1669541400@midlandunitedmethodist.com
SUMMARY:Adult Sunday School
DESCRIPTION:
URL:https://midlandunitedmethodist.com/event/adult-sunday-school/2022-11-27/
LOCATION:Midland United Methodist Church\, 10235 County Rd KP\, Mazomanie\, WI\, 53560\, United States
ORGANIZER;CN="Midland UMC":MAILTO:midlandumc@gmail.com
GEO:43.1501599;-89.775204
X-APPLE-STRUCTURED-LOCATION;VALUE=URI;X-ADDRESS=Midland United Methodist Church 10235 County Rd KP Mazomanie WI 53560 United States;X-APPLE-RADIUS=500;X-TITLE=10235 County Rd KP:geo:-89.775204,43.1501599
END:VEVENT
BEGIN:VEVENT
DTSTART;TZID=America/Chicago:20221127T093000
DTEND;TZID=America/Chicago:20221127T103000
DTSTAMP:20260423T034312
CREATED:20220729T132447Z
LAST-MODIFIED:20221117T160039Z
UID:10000180-1669541400-1669545000@midlandunitedmethodist.com
SUMMARY:Worship
DESCRIPTION:A blended\, multi-sensory worship experience that offers a variety of music and worship elements such as drama\, which allows God’s Word to be heard in a way that relates to people today.
URL:https://midlandunitedmethodist.com/event/worship/2022-11-27/
LOCATION:Midland United Methodist Church\, 10235 County Rd KP\, Mazomanie\, WI\, 53560\, United States
CATEGORIES:Worship
GEO:43.1501599;-89.775204
X-APPLE-STRUCTURED-LOCATION;VALUE=URI;X-ADDRESS=Midland United Methodist Church 10235 County Rd KP Mazomanie WI 53560 United States;X-APPLE-RADIUS=500;X-TITLE=10235 County Rd KP:geo:-89.775204,43.1501599
END:VEVENT
BEGIN:VEVENT
DTSTART;TZID=America/Chicago:20221204T081500
DTEND;TZID=America/Chicago:20221204T093000
DTSTAMP:20260423T034312
CREATED:20220903T165049Z
LAST-MODIFIED:20220903T165049Z
UID:10000259-1670141700-1670146200@midlandunitedmethodist.com
SUMMARY:Adult Sunday School
DESCRIPTION:
URL:https://midlandunitedmethodist.com/event/adult-sunday-school/2022-12-04/
LOCATION:Midland United Methodist Church\, 10235 County Rd KP\, Mazomanie\, WI\, 53560\, United States
ORGANIZER;CN="Midland UMC":MAILTO:midlandumc@gmail.com
GEO:43.1501599;-89.775204
X-APPLE-STRUCTURED-LOCATION;VALUE=URI;X-ADDRESS=Midland United Methodist Church 10235 County Rd KP Mazomanie WI 53560 United States;X-APPLE-RADIUS=500;X-TITLE=10235 County Rd KP:geo:-89.775204,43.1501599
END:VEVENT
BEGIN:VEVENT
DTSTART;TZID=America/Chicago:20221204T093000
DTEND;TZID=America/Chicago:20221204T103000
DTSTAMP:20260423T034312
CREATED:20220729T132447Z
LAST-MODIFIED:20221117T160039Z
UID:10000181-1670146200-1670149800@midlandunitedmethodist.com
SUMMARY:Worship
DESCRIPTION:A blended\, multi-sensory worship experience that offers a variety of music and worship elements such as drama\, which allows God’s Word to be heard in a way that relates to people today.
URL:https://midlandunitedmethodist.com/event/worship/2022-12-04/
LOCATION:Midland United Methodist Church\, 10235 County Rd KP\, Mazomanie\, WI\, 53560\, United States
CATEGORIES:Worship
GEO:43.1501599;-89.775204
X-APPLE-STRUCTURED-LOCATION;VALUE=URI;X-ADDRESS=Midland United Methodist Church 10235 County Rd KP Mazomanie WI 53560 United States;X-APPLE-RADIUS=500;X-TITLE=10235 County Rd KP:geo:-89.775204,43.1501599
END:VEVENT
BEGIN:VEVENT
DTSTART;TZID=America/Chicago:20221210T160000
DTEND;TZID=America/Chicago:20221210T170000
DTSTAMP:20260423T034312
CREATED:20221110T201903Z
LAST-MODIFIED:20221117T155353Z
UID:10000153-1670688000-1670691600@midlandunitedmethodist.com
SUMMARY:FREE Live Nativity & Chili Dinner
DESCRIPTION:FREE Midland UMC Live Nativity & Chili Dinner \nFree Live Nativity play performed in a barn starts at 4:00 p.m. and free warm chili dinner to follow. Free bussing provided to/from show\, pickup at Midland UMC\, handicapped parking provided onsite in rough terrain (grass access to barn). Bring blankets to sit on straw bales as you witness the birth of Jesus surrounded by sheep and a donkey. Free will donation. Dress for outdoor weather.
URL:https://midlandunitedmethodist.com/event/free-live-nativity/
LOCATION:Midland United Methodist Church\, 10235 County Rd KP\, Mazomanie\, WI\, 53560\, United States
ORGANIZER;CN="Midland UMC":MAILTO:midlandumc@gmail.com
GEO:43.1501599;-89.775204
X-APPLE-STRUCTURED-LOCATION;VALUE=URI;X-ADDRESS=Midland United Methodist Church 10235 County Rd KP Mazomanie WI 53560 United States;X-APPLE-RADIUS=500;X-TITLE=10235 County Rd KP:geo:-89.775204,43.1501599
END:VEVENT
BEGIN:VEVENT
DTSTART;TZID=America/Chicago:20221211T081500
DTEND;TZID=America/Chicago:20221211T093000
DTSTAMP:20260423T034312
CREATED:20220903T165049Z
LAST-MODIFIED:20220903T165049Z
UID:10000260-1670746500-1670751000@midlandunitedmethodist.com
SUMMARY:Adult Sunday School
DESCRIPTION:
URL:https://midlandunitedmethodist.com/event/adult-sunday-school/2022-12-11/
LOCATION:Midland United Methodist Church\, 10235 County Rd KP\, Mazomanie\, WI\, 53560\, United States
ORGANIZER;CN="Midland UMC":MAILTO:midlandumc@gmail.com
GEO:43.1501599;-89.775204
X-APPLE-STRUCTURED-LOCATION;VALUE=URI;X-ADDRESS=Midland United Methodist Church 10235 County Rd KP Mazomanie WI 53560 United States;X-APPLE-RADIUS=500;X-TITLE=10235 County Rd KP:geo:-89.775204,43.1501599
END:VEVENT
BEGIN:VEVENT
DTSTART;TZID=America/Chicago:20221211T093000
DTEND;TZID=America/Chicago:20221211T103000
DTSTAMP:20260423T034312
CREATED:20220729T132447Z
LAST-MODIFIED:20221117T160039Z
UID:10000182-1670751000-1670754600@midlandunitedmethodist.com
SUMMARY:Worship
DESCRIPTION:A blended\, multi-sensory worship experience that offers a variety of music and worship elements such as drama\, which allows God’s Word to be heard in a way that relates to people today.
URL:https://midlandunitedmethodist.com/event/worship/2022-12-11/
LOCATION:Midland United Methodist Church\, 10235 County Rd KP\, Mazomanie\, WI\, 53560\, United States
CATEGORIES:Worship
GEO:43.1501599;-89.775204
X-APPLE-STRUCTURED-LOCATION;VALUE=URI;X-ADDRESS=Midland United Methodist Church 10235 County Rd KP Mazomanie WI 53560 United States;X-APPLE-RADIUS=500;X-TITLE=10235 County Rd KP:geo:-89.775204,43.1501599
END:VEVENT
BEGIN:VEVENT
DTSTART;VALUE=DATE:20221212
DTEND;VALUE=DATE:20221213
DTSTAMP:20260423T034312
CREATED:20221117T154648Z
LAST-MODIFIED:20221117T154648Z
UID:10000137-1670803200-1670889599@midlandunitedmethodist.com
SUMMARY:Servicman Santa Donations Due
DESCRIPTION:Serviceman Santa Donations are Due today (12/12/22): Slim Jims or Beef Jerky\, Packages of Holiday nuts\, Single serving drink mix packets (Crystal Light\,Kool-Aid\,Lemonade\,Tea)\, Bars granola\,protein\,cereal\, Playing cards\, Puzzle book (Crosswords\, Sudoku\, Word Find)\, Holiday-themed writing pens or pencil\, Holiday candy (in sealed wrapping or small unopened bags)\, Candy Canes\, Peanut Brittle\, Travel-sized games\, Card games (Uno\, Phase 10)\, Stress balls (holiday-themed preferred)\, Gloves (preferably black; winter; one size fits all)\, Single serving cookie packages\, Apple cider packets (must be in Ziploc baggies in case the packets break)\, Hot chocolate (must be in Ziploc baggies in case the packets breaks)\, Small notepads\, Holiday-themed lip balm (wrapping and scent)\, Caps (warm winter)\, Other holiday-themed items
URL:https://midlandunitedmethodist.com/event/servicman-santa-donations-due/
LOCATION:Midland United Methodist Church\, 10235 County Rd KP\, Mazomanie\, WI\, 53560\, United States
ORGANIZER;CN="Midland UMC":MAILTO:midlandumc@gmail.com
GEO:43.1501599;-89.775204
X-APPLE-STRUCTURED-LOCATION;VALUE=URI;X-ADDRESS=Midland United Methodist Church 10235 County Rd KP Mazomanie WI 53560 United States;X-APPLE-RADIUS=500;X-TITLE=10235 County Rd KP:geo:-89.775204,43.1501599
END:VEVENT
BEGIN:VEVENT
DTSTART;TZID=America/Chicago:20221215T183000
DTEND;TZID=America/Chicago:20221215T200000
DTSTAMP:20260423T034312
CREATED:20220903T164409Z
LAST-MODIFIED:20220903T164409Z
UID:10000099-1671129000-1671134400@midlandunitedmethodist.com
SUMMARY:UMW Meeting
DESCRIPTION:Midland UMW meeting will be held at 6:30 p.m. in the Community Room at the Church on Thursday\, September 15th.  Program Leader is Marilyn DeWitt and Hostess is Linda Richter.
URL:https://midlandunitedmethodist.com/event/umw-meeting/2022-12-15/
LOCATION:Midland United Methodist Church\, 10235 County Rd KP\, Mazomanie\, WI\, 53560\, United States
ORGANIZER;CN="Midland UMC":MAILTO:midlandumc@gmail.com
GEO:43.1501599;-89.775204
X-APPLE-STRUCTURED-LOCATION;VALUE=URI;X-ADDRESS=Midland United Methodist Church 10235 County Rd KP Mazomanie WI 53560 United States;X-APPLE-RADIUS=500;X-TITLE=10235 County Rd KP:geo:-89.775204,43.1501599
END:VEVENT
BEGIN:VEVENT
DTSTART;TZID=America/Chicago:20221218T080000
DTEND;TZID=America/Chicago:20221218T100000
DTSTAMP:20260423T034312
CREATED:20221117T155452Z
LAST-MODIFIED:20221117T155452Z
UID:10000095-1671350400-1671357600@midlandunitedmethodist.com
SUMMARY:Adopt a Family Donations Due
DESCRIPTION:
URL:https://midlandunitedmethodist.com/event/adopt-a-family-donations-due/
LOCATION:Midland United Methodist Church\, 10235 County Rd KP\, Mazomanie\, WI\, 53560\, United States
ORGANIZER;CN="Midland UMC":MAILTO:midlandumc@gmail.com
GEO:43.1501599;-89.775204
X-APPLE-STRUCTURED-LOCATION;VALUE=URI;X-ADDRESS=Midland United Methodist Church 10235 County Rd KP Mazomanie WI 53560 United States;X-APPLE-RADIUS=500;X-TITLE=10235 County Rd KP:geo:-89.775204,43.1501599
END:VEVENT
BEGIN:VEVENT
DTSTART;TZID=America/Chicago:20221218T081500
DTEND;TZID=America/Chicago:20221218T093000
DTSTAMP:20260423T034312
CREATED:20220903T165049Z
LAST-MODIFIED:20220903T165049Z
UID:10000261-1671351300-1671355800@midlandunitedmethodist.com
SUMMARY:Adult Sunday School
DESCRIPTION:
URL:https://midlandunitedmethodist.com/event/adult-sunday-school/2022-12-18/
LOCATION:Midland United Methodist Church\, 10235 County Rd KP\, Mazomanie\, WI\, 53560\, United States
ORGANIZER;CN="Midland UMC":MAILTO:midlandumc@gmail.com
GEO:43.1501599;-89.775204
X-APPLE-STRUCTURED-LOCATION;VALUE=URI;X-ADDRESS=Midland United Methodist Church 10235 County Rd KP Mazomanie WI 53560 United States;X-APPLE-RADIUS=500;X-TITLE=10235 County Rd KP:geo:-89.775204,43.1501599
END:VEVENT
BEGIN:VEVENT
DTSTART;TZID=America/Chicago:20221218T093000
DTEND;TZID=America/Chicago:20221218T103000
DTSTAMP:20260423T034312
CREATED:20220729T132447Z
LAST-MODIFIED:20221117T160039Z
UID:10000183-1671355800-1671359400@midlandunitedmethodist.com
SUMMARY:Worship
DESCRIPTION:A blended\, multi-sensory worship experience that offers a variety of music and worship elements such as drama\, which allows God’s Word to be heard in a way that relates to people today.
URL:https://midlandunitedmethodist.com/event/worship/2022-12-18/
LOCATION:Midland United Methodist Church\, 10235 County Rd KP\, Mazomanie\, WI\, 53560\, United States
CATEGORIES:Worship
GEO:43.1501599;-89.775204
X-APPLE-STRUCTURED-LOCATION;VALUE=URI;X-ADDRESS=Midland United Methodist Church 10235 County Rd KP Mazomanie WI 53560 United States;X-APPLE-RADIUS=500;X-TITLE=10235 County Rd KP:geo:-89.775204,43.1501599
END:VEVENT
BEGIN:VEVENT
DTSTART;TZID=America/Chicago:20221225T081500
DTEND;TZID=America/Chicago:20221225T093000
DTSTAMP:20260423T034312
CREATED:20220903T165049Z
LAST-MODIFIED:20220903T165049Z
UID:10000262-1671956100-1671960600@midlandunitedmethodist.com
SUMMARY:Adult Sunday School
DESCRIPTION:
URL:https://midlandunitedmethodist.com/event/adult-sunday-school/2022-12-25/
LOCATION:Midland United Methodist Church\, 10235 County Rd KP\, Mazomanie\, WI\, 53560\, United States
ORGANIZER;CN="Midland UMC":MAILTO:midlandumc@gmail.com
GEO:43.1501599;-89.775204
X-APPLE-STRUCTURED-LOCATION;VALUE=URI;X-ADDRESS=Midland United Methodist Church 10235 County Rd KP Mazomanie WI 53560 United States;X-APPLE-RADIUS=500;X-TITLE=10235 County Rd KP:geo:-89.775204,43.1501599
END:VEVENT
BEGIN:VEVENT
DTSTART;TZID=America/Chicago:20221225T093000
DTEND;TZID=America/Chicago:20221225T103000
DTSTAMP:20260423T034312
CREATED:20220729T132447Z
LAST-MODIFIED:20221117T160039Z
UID:10000184-1671960600-1671964200@midlandunitedmethodist.com
SUMMARY:Worship
DESCRIPTION:A blended\, multi-sensory worship experience that offers a variety of music and worship elements such as drama\, which allows God’s Word to be heard in a way that relates to people today.
URL:https://midlandunitedmethodist.com/event/worship/2022-12-25/
LOCATION:Midland United Methodist Church\, 10235 County Rd KP\, Mazomanie\, WI\, 53560\, United States
CATEGORIES:Worship
GEO:43.1501599;-89.775204
X-APPLE-STRUCTURED-LOCATION;VALUE=URI;X-ADDRESS=Midland United Methodist Church 10235 County Rd KP Mazomanie WI 53560 United States;X-APPLE-RADIUS=500;X-TITLE=10235 County Rd KP:geo:-89.775204,43.1501599
END:VEVENT
BEGIN:VEVENT
DTSTART;TZID=America/Chicago:20230101T081500
DTEND;TZID=America/Chicago:20230101T093000
DTSTAMP:20260423T034312
CREATED:20220903T165049Z
LAST-MODIFIED:20220903T165049Z
UID:10000263-1672560900-1672565400@midlandunitedmethodist.com
SUMMARY:Adult Sunday School
DESCRIPTION:
URL:https://midlandunitedmethodist.com/event/adult-sunday-school/2023-01-01/
LOCATION:Midland United Methodist Church\, 10235 County Rd KP\, Mazomanie\, WI\, 53560\, United States
ORGANIZER;CN="Midland UMC":MAILTO:midlandumc@gmail.com
GEO:43.1501599;-89.775204
X-APPLE-STRUCTURED-LOCATION;VALUE=URI;X-ADDRESS=Midland United Methodist Church 10235 County Rd KP Mazomanie WI 53560 United States;X-APPLE-RADIUS=500;X-TITLE=10235 County Rd KP:geo:-89.775204,43.1501599
END:VEVENT
BEGIN:VEVENT
DTSTART;TZID=America/Chicago:20230101T093000
DTEND;TZID=America/Chicago:20230101T103000
DTSTAMP:20260423T034312
CREATED:20220729T132447Z
LAST-MODIFIED:20221117T160039Z
UID:10000185-1672565400-1672569000@midlandunitedmethodist.com
SUMMARY:Worship
DESCRIPTION:A blended\, multi-sensory worship experience that offers a variety of music and worship elements such as drama\, which allows God’s Word to be heard in a way that relates to people today.
URL:https://midlandunitedmethodist.com/event/worship/2023-01-01/
LOCATION:Midland United Methodist Church\, 10235 County Rd KP\, Mazomanie\, WI\, 53560\, United States
CATEGORIES:Worship
GEO:43.1501599;-89.775204
X-APPLE-STRUCTURED-LOCATION;VALUE=URI;X-ADDRESS=Midland United Methodist Church 10235 County Rd KP Mazomanie WI 53560 United States;X-APPLE-RADIUS=500;X-TITLE=10235 County Rd KP:geo:-89.775204,43.1501599
END:VEVENT
BEGIN:VEVENT
DTSTART;TZID=America/Chicago:20230108T081500
DTEND;TZID=America/Chicago:20230108T093000
DTSTAMP:20260423T034312
CREATED:20220903T165049Z
LAST-MODIFIED:20220903T165049Z
UID:10000264-1673165700-1673170200@midlandunitedmethodist.com
SUMMARY:Adult Sunday School
DESCRIPTION:
URL:https://midlandunitedmethodist.com/event/adult-sunday-school/2023-01-08/
LOCATION:Midland United Methodist Church\, 10235 County Rd KP\, Mazomanie\, WI\, 53560\, United States
ORGANIZER;CN="Midland UMC":MAILTO:midlandumc@gmail.com
GEO:43.1501599;-89.775204
X-APPLE-STRUCTURED-LOCATION;VALUE=URI;X-ADDRESS=Midland United Methodist Church 10235 County Rd KP Mazomanie WI 53560 United States;X-APPLE-RADIUS=500;X-TITLE=10235 County Rd KP:geo:-89.775204,43.1501599
END:VEVENT
BEGIN:VEVENT
DTSTART;TZID=America/Chicago:20230108T093000
DTEND;TZID=America/Chicago:20230108T103000
DTSTAMP:20260423T034312
CREATED:20220729T132447Z
LAST-MODIFIED:20221117T160039Z
UID:10000186-1673170200-1673173800@midlandunitedmethodist.com
SUMMARY:Worship
DESCRIPTION:A blended\, multi-sensory worship experience that offers a variety of music and worship elements such as drama\, which allows God’s Word to be heard in a way that relates to people today.
URL:https://midlandunitedmethodist.com/event/worship/2023-01-08/
LOCATION:Midland United Methodist Church\, 10235 County Rd KP\, Mazomanie\, WI\, 53560\, United States
CATEGORIES:Worship
GEO:43.1501599;-89.775204
X-APPLE-STRUCTURED-LOCATION;VALUE=URI;X-ADDRESS=Midland United Methodist Church 10235 County Rd KP Mazomanie WI 53560 United States;X-APPLE-RADIUS=500;X-TITLE=10235 County Rd KP:geo:-89.775204,43.1501599
END:VEVENT
BEGIN:VEVENT
DTSTART;TZID=America/Chicago:20230115T081500
DTEND;TZID=America/Chicago:20230115T093000
DTSTAMP:20260423T034312
CREATED:20220903T165049Z
LAST-MODIFIED:20220903T165049Z
UID:10000265-1673770500-1673775000@midlandunitedmethodist.com
SUMMARY:Adult Sunday School
DESCRIPTION:
URL:https://midlandunitedmethodist.com/event/adult-sunday-school/2023-01-15/
LOCATION:Midland United Methodist Church\, 10235 County Rd KP\, Mazomanie\, WI\, 53560\, United States
ORGANIZER;CN="Midland UMC":MAILTO:midlandumc@gmail.com
GEO:43.1501599;-89.775204
X-APPLE-STRUCTURED-LOCATION;VALUE=URI;X-ADDRESS=Midland United Methodist Church 10235 County Rd KP Mazomanie WI 53560 United States;X-APPLE-RADIUS=500;X-TITLE=10235 County Rd KP:geo:-89.775204,43.1501599
END:VEVENT
BEGIN:VEVENT
DTSTART;TZID=America/Chicago:20230115T093000
DTEND;TZID=America/Chicago:20230115T103000
DTSTAMP:20260423T034312
CREATED:20220729T132447Z
LAST-MODIFIED:20221117T160039Z
UID:10000187-1673775000-1673778600@midlandunitedmethodist.com
SUMMARY:Worship
DESCRIPTION:A blended\, multi-sensory worship experience that offers a variety of music and worship elements such as drama\, which allows God’s Word to be heard in a way that relates to people today.
URL:https://midlandunitedmethodist.com/event/worship/2023-01-15/
LOCATION:Midland United Methodist Church\, 10235 County Rd KP\, Mazomanie\, WI\, 53560\, United States
CATEGORIES:Worship
GEO:43.1501599;-89.775204
X-APPLE-STRUCTURED-LOCATION;VALUE=URI;X-ADDRESS=Midland United Methodist Church 10235 County Rd KP Mazomanie WI 53560 United States;X-APPLE-RADIUS=500;X-TITLE=10235 County Rd KP:geo:-89.775204,43.1501599
END:VEVENT
BEGIN:VEVENT
DTSTART;TZID=America/Chicago:20230119T183000
DTEND;TZID=America/Chicago:20230119T200000
DTSTAMP:20260423T034312
CREATED:20220903T164409Z
LAST-MODIFIED:20220903T164409Z
UID:10000100-1674153000-1674158400@midlandunitedmethodist.com
SUMMARY:UMW Meeting
DESCRIPTION:Midland UMW meeting will be held at 6:30 p.m. in the Community Room at the Church on Thursday\, September 15th.  Program Leader is Marilyn DeWitt and Hostess is Linda Richter.
URL:https://midlandunitedmethodist.com/event/umw-meeting/2023-01-19/
LOCATION:Midland United Methodist Church\, 10235 County Rd KP\, Mazomanie\, WI\, 53560\, United States
ORGANIZER;CN="Midland UMC":MAILTO:midlandumc@gmail.com
GEO:43.1501599;-89.775204
X-APPLE-STRUCTURED-LOCATION;VALUE=URI;X-ADDRESS=Midland United Methodist Church 10235 County Rd KP Mazomanie WI 53560 United States;X-APPLE-RADIUS=500;X-TITLE=10235 County Rd KP:geo:-89.775204,43.1501599
END:VEVENT
END:VCALENDAR