BEGIN:VCALENDAR
VERSION:2.0
PRODID:-//Midland United Methodist Church - ECPv6.15.20//NONSGML v1.0//EN
CALSCALE:GREGORIAN
METHOD:PUBLISH
X-ORIGINAL-URL:https://midlandunitedmethodist.com
X-WR-CALDESC:Events for Midland United Methodist Church
REFRESH-INTERVAL;VALUE=DURATION:PT1H
X-Robots-Tag:noindex
X-PUBLISHED-TTL:PT1H
BEGIN:VTIMEZONE
TZID:America/Chicago
BEGIN:DAYLIGHT
TZOFFSETFROM:-0600
TZOFFSETTO:-0500
TZNAME:CDT
DTSTART:20220313T080000
END:DAYLIGHT
BEGIN:STANDARD
TZOFFSETFROM:-0500
TZOFFSETTO:-0600
TZNAME:CST
DTSTART:20221106T070000
END:STANDARD
BEGIN:DAYLIGHT
TZOFFSETFROM:-0600
TZOFFSETTO:-0500
TZNAME:CDT
DTSTART:20230312T080000
END:DAYLIGHT
BEGIN:STANDARD
TZOFFSETFROM:-0500
TZOFFSETTO:-0600
TZNAME:CST
DTSTART:20231105T070000
END:STANDARD
BEGIN:DAYLIGHT
TZOFFSETFROM:-0600
TZOFFSETTO:-0500
TZNAME:CDT
DTSTART:20240310T080000
END:DAYLIGHT
BEGIN:STANDARD
TZOFFSETFROM:-0500
TZOFFSETTO:-0600
TZNAME:CST
DTSTART:20241103T070000
END:STANDARD
BEGIN:DAYLIGHT
TZOFFSETFROM:-0600
TZOFFSETTO:-0500
TZNAME:CDT
DTSTART:20250309T080000
END:DAYLIGHT
BEGIN:STANDARD
TZOFFSETFROM:-0500
TZOFFSETTO:-0600
TZNAME:CST
DTSTART:20251102T070000
END:STANDARD
END:VTIMEZONE
BEGIN:VEVENT
DTSTART;TZID=America/Chicago:20231221T183000
DTEND;TZID=America/Chicago:20231221T200000
DTSTAMP:20260423T050652
CREATED:20220903T164409Z
LAST-MODIFIED:20220903T164409Z
UID:10000111-1703183400-1703188800@midlandunitedmethodist.com
SUMMARY:UMW Meeting
DESCRIPTION:Midland UMW meeting will be held at 6:30 p.m. in the Community Room at the Church on Thursday\, September 15th.  Program Leader is Marilyn DeWitt and Hostess is Linda Richter.
URL:https://midlandunitedmethodist.com/event/umw-meeting/2023-12-21/
LOCATION:Midland United Methodist Church\, 10235 County Rd KP\, Mazomanie\, WI\, 53560\, United States
ORGANIZER;CN="Midland UMC":MAILTO:midlandumc@gmail.com
GEO:43.1501599;-89.775204
X-APPLE-STRUCTURED-LOCATION;VALUE=URI;X-ADDRESS=Midland United Methodist Church 10235 County Rd KP Mazomanie WI 53560 United States;X-APPLE-RADIUS=500;X-TITLE=10235 County Rd KP:geo:-89.775204,43.1501599
END:VEVENT
BEGIN:VEVENT
DTSTART;TZID=America/Chicago:20240107T140000
DTEND;TZID=America/Chicago:20240107T153000
DTSTAMP:20260423T050652
CREATED:20231231T163821Z
LAST-MODIFIED:20231231T163821Z
UID:10000245-1704636000-1704641400@midlandunitedmethodist.com
SUMMARY:Hymn Sing
DESCRIPTION:Join us for a Hymn Sing 1/7/24 2:-00-3:30pm at Midland UMC.
URL:https://midlandunitedmethodist.com/event/hymn-sing/
LOCATION:Midland United Methodist Church\, 10235 County Rd KP\, Mazomanie\, WI\, 53560\, United States
ORGANIZER;CN="Midland UMC":MAILTO:midlandumc@gmail.com
GEO:43.1501599;-89.775204
X-APPLE-STRUCTURED-LOCATION;VALUE=URI;X-ADDRESS=Midland United Methodist Church 10235 County Rd KP Mazomanie WI 53560 United States;X-APPLE-RADIUS=500;X-TITLE=10235 County Rd KP:geo:-89.775204,43.1501599
END:VEVENT
BEGIN:VEVENT
DTSTART;TZID=America/Chicago:20240118T183000
DTEND;TZID=America/Chicago:20240118T200000
DTSTAMP:20260423T050652
CREATED:20220903T164409Z
LAST-MODIFIED:20220903T164409Z
UID:10000112-1705602600-1705608000@midlandunitedmethodist.com
SUMMARY:UMW Meeting
DESCRIPTION:Midland UMW meeting will be held at 6:30 p.m. in the Community Room at the Church on Thursday\, September 15th.  Program Leader is Marilyn DeWitt and Hostess is Linda Richter.
URL:https://midlandunitedmethodist.com/event/umw-meeting/2024-01-18/
LOCATION:Midland United Methodist Church\, 10235 County Rd KP\, Mazomanie\, WI\, 53560\, United States
ORGANIZER;CN="Midland UMC":MAILTO:midlandumc@gmail.com
GEO:43.1501599;-89.775204
X-APPLE-STRUCTURED-LOCATION;VALUE=URI;X-ADDRESS=Midland United Methodist Church 10235 County Rd KP Mazomanie WI 53560 United States;X-APPLE-RADIUS=500;X-TITLE=10235 County Rd KP:geo:-89.775204,43.1501599
END:VEVENT
BEGIN:VEVENT
DTSTART;TZID=America/Chicago:20240131T180000
DTEND;TZID=America/Chicago:20240131T190000
DTSTAMP:20260423T050652
CREATED:20240128T170327Z
LAST-MODIFIED:20240128T170327Z
UID:10000229-1706724000-1706727600@midlandunitedmethodist.com
SUMMARY:SPRC Meeting
DESCRIPTION:
URL:https://midlandunitedmethodist.com/event/sprc-meeting-3/
LOCATION:Midland United Methodist Church\, 10235 County Rd KP\, Mazomanie\, WI\, 53560\, United States
ORGANIZER;CN="Midland UMC":MAILTO:midlandumc@gmail.com
GEO:43.1501599;-89.775204
X-APPLE-STRUCTURED-LOCATION;VALUE=URI;X-ADDRESS=Midland United Methodist Church 10235 County Rd KP Mazomanie WI 53560 United States;X-APPLE-RADIUS=500;X-TITLE=10235 County Rd KP:geo:-89.775204,43.1501599
END:VEVENT
BEGIN:VEVENT
DTSTART;TZID=America/Chicago:20240204T140000
DTEND;TZID=America/Chicago:20240204T153000
DTSTAMP:20260423T050652
CREATED:20240128T171112Z
LAST-MODIFIED:20240128T171112Z
UID:10000129-1707055200-1707060600@midlandunitedmethodist.com
SUMMARY:Hymn Sing!
DESCRIPTION:Free Community Hym Sing! Bring a friend and a request list. Free event. Food pantry donations welcome. \n2:00pm-3:30pm \n 
URL:https://midlandunitedmethodist.com/event/hymn-sing-2/
LOCATION:Midland United Methodist Church\, 10235 County Rd KP\, Mazomanie\, WI\, 53560\, United States
ORGANIZER;CN="Midland UMC":MAILTO:midlandumc@gmail.com
GEO:43.1501599;-89.775204
X-APPLE-STRUCTURED-LOCATION;VALUE=URI;X-ADDRESS=Midland United Methodist Church 10235 County Rd KP Mazomanie WI 53560 United States;X-APPLE-RADIUS=500;X-TITLE=10235 County Rd KP:geo:-89.775204,43.1501599
END:VEVENT
BEGIN:VEVENT
DTSTART;TZID=America/Chicago:20240211T104500
DTEND;TZID=America/Chicago:20240211T120000
DTSTAMP:20260423T050652
CREATED:20240120T213118Z
LAST-MODIFIED:20240120T213329Z
UID:10000134-1707648300-1707652800@midlandunitedmethodist.com
SUMMARY:Souper Bowl Sunday Chili Cookoff
DESCRIPTION:Join us at Midland UMC for our Souper Bowl Sunday Chili Cookoff free community meal! All are welcome. 10:45 a.m. at Midland UMC. Feel free to bring a chili and compete or just taste them all and vote. Donations to the food pantry accepted.
URL:https://midlandunitedmethodist.com/event/souper-bowl-sunday-chili-cookoff/
LOCATION:Midland United Methodist Church\, 10235 County Rd KP\, Mazomanie\, WI\, 53560\, United States
ORGANIZER;CN="Midland UMC":MAILTO:midlandumc@gmail.com
GEO:43.1501599;-89.775204
X-APPLE-STRUCTURED-LOCATION;VALUE=URI;X-ADDRESS=Midland United Methodist Church 10235 County Rd KP Mazomanie WI 53560 United States;X-APPLE-RADIUS=500;X-TITLE=10235 County Rd KP:geo:-89.775204,43.1501599
END:VEVENT
BEGIN:VEVENT
DTSTART;TZID=America/Chicago:20240213T180000
DTEND;TZID=America/Chicago:20240213T190000
DTSTAMP:20260423T050652
CREATED:20240128T171349Z
LAST-MODIFIED:20240128T171349Z
UID:10000128-1707847200-1707850800@midlandunitedmethodist.com
SUMMARY:Mardi Gras Dinner
DESCRIPTION:Free Mardi Gras Community Dinner at Midland UMC\, February 13 6:00pm. \nFood pantry donations welcome.
URL:https://midlandunitedmethodist.com/event/mardi-gras-dinner-2/
LOCATION:Midland United Methodist Church\, 10235 County Rd KP\, Mazomanie\, WI\, 53560\, United States
ORGANIZER;CN="Midland UMC":MAILTO:midlandumc@gmail.com
GEO:43.1501599;-89.775204
X-APPLE-STRUCTURED-LOCATION;VALUE=URI;X-ADDRESS=Midland United Methodist Church 10235 County Rd KP Mazomanie WI 53560 United States;X-APPLE-RADIUS=500;X-TITLE=10235 County Rd KP:geo:-89.775204,43.1501599
END:VEVENT
BEGIN:VEVENT
DTSTART;TZID=America/Chicago:20240214T180000
DTEND;TZID=America/Chicago:20240214T190000
DTSTAMP:20260423T050652
CREATED:20240128T171537Z
LAST-MODIFIED:20240128T171537Z
UID:10000133-1707933600-1707937200@midlandunitedmethodist.com
SUMMARY:Ash Wednesday Service
DESCRIPTION:Ash Wednesday Service February 14\, 6:00pm at Midland UMC.
URL:https://midlandunitedmethodist.com/event/ash-wednesday-service-2/
LOCATION:Midland United Methodist Church\, 10235 County Rd KP\, Mazomanie\, WI\, 53560\, United States
ORGANIZER;CN="Midland UMC":MAILTO:midlandumc@gmail.com
GEO:43.1501599;-89.775204
X-APPLE-STRUCTURED-LOCATION;VALUE=URI;X-ADDRESS=Midland United Methodist Church 10235 County Rd KP Mazomanie WI 53560 United States;X-APPLE-RADIUS=500;X-TITLE=10235 County Rd KP:geo:-89.775204,43.1501599
END:VEVENT
BEGIN:VEVENT
DTSTART;TZID=America/Chicago:20240215T183000
DTEND;TZID=America/Chicago:20240215T200000
DTSTAMP:20260423T050652
CREATED:20220903T164409Z
LAST-MODIFIED:20220903T164409Z
UID:10000113-1708021800-1708027200@midlandunitedmethodist.com
SUMMARY:UMW Meeting
DESCRIPTION:Midland UMW meeting will be held at 6:30 p.m. in the Community Room at the Church on Thursday\, September 15th.  Program Leader is Marilyn DeWitt and Hostess is Linda Richter.
URL:https://midlandunitedmethodist.com/event/umw-meeting/2024-02-15/
LOCATION:Midland United Methodist Church\, 10235 County Rd KP\, Mazomanie\, WI\, 53560\, United States
ORGANIZER;CN="Midland UMC":MAILTO:midlandumc@gmail.com
GEO:43.1501599;-89.775204
X-APPLE-STRUCTURED-LOCATION;VALUE=URI;X-ADDRESS=Midland United Methodist Church 10235 County Rd KP Mazomanie WI 53560 United States;X-APPLE-RADIUS=500;X-TITLE=10235 County Rd KP:geo:-89.775204,43.1501599
END:VEVENT
BEGIN:VEVENT
DTSTART;TZID=America/Chicago:20240221T180000
DTEND;TZID=America/Chicago:20240221T190000
DTSTAMP:20260423T050652
CREATED:20240218T165637Z
LAST-MODIFIED:20240218T165637Z
UID:10000139-1708538400-1708542000@midlandunitedmethodist.com
SUMMARY:Lenten Study
DESCRIPTION:In person Letnen Study: Wrestling with Doubt by Adam Hamilton\, Wednesdays at 6pm through March.
URL:https://midlandunitedmethodist.com/event/lenten-study/
LOCATION:Midland United Methodist Church\, 10235 County Rd KP\, Mazomanie\, WI\, 53560\, United States
ORGANIZER;CN="Midland UMC":MAILTO:midlandumc@gmail.com
GEO:43.1501599;-89.775204
X-APPLE-STRUCTURED-LOCATION;VALUE=URI;X-ADDRESS=Midland United Methodist Church 10235 County Rd KP Mazomanie WI 53560 United States;X-APPLE-RADIUS=500;X-TITLE=10235 County Rd KP:geo:-89.775204,43.1501599
END:VEVENT
BEGIN:VEVENT
DTSTART;TZID=America/Chicago:20240303T140000
DTEND;TZID=America/Chicago:20240303T153000
DTSTAMP:20260423T050652
CREATED:20240218T170141Z
LAST-MODIFIED:20240218T170141Z
UID:10000140-1709474400-1709479800@midlandunitedmethodist.com
SUMMARY:Hymn Sing!
DESCRIPTION:Community Hymn Sing! Bring a friend and a request list. Free will donations welcome.
URL:https://midlandunitedmethodist.com/event/hymn-sing-3/
LOCATION:Midland United Methodist Church\, 10235 County Rd KP\, Mazomanie\, WI\, 53560\, United States
ORGANIZER;CN="Midland UMC":MAILTO:midlandumc@gmail.com
GEO:43.1501599;-89.775204
X-APPLE-STRUCTURED-LOCATION;VALUE=URI;X-ADDRESS=Midland United Methodist Church 10235 County Rd KP Mazomanie WI 53560 United States;X-APPLE-RADIUS=500;X-TITLE=10235 County Rd KP:geo:-89.775204,43.1501599
END:VEVENT
BEGIN:VEVENT
DTSTART;TZID=America/Chicago:20240310T080000
DTEND;TZID=America/Chicago:20240310T170000
DTSTAMP:20260423T050652
CREATED:20240310T154438Z
LAST-MODIFIED:20240310T154438Z
UID:10000094-1710057600-1710090000@midlandunitedmethodist.com
SUMMARY:Midland UMC Blood Drive
DESCRIPTION:8:00 am – 12:00 pm \nTo schedule your appointment: \nhttps://www.redcrossblood.org/give.html/drive-results?zipSponsor=MazomanieWI&utm_source=Midland%20UM&utm_campaign=624841c7f1-EMAIL_CAMPAIGN_2019_10_12_10_31_COPY_01&utm_medium=email&utm_term=0_9c97ed3b64-624841c7f1-132580605 \nGive blood 3/25 to 4/7\nfor an exclusive\nGODZILLA x KONG:\nTHE NEW EMPIRE\nand Red Cross\nshirt ltd qty! \n 
URL:https://midlandunitedmethodist.com/event/midland-umc-blood-drive-3/
LOCATION:Midland United Methodist Church\, 10235 County Rd KP\, Mazomanie\, WI\, 53560\, United States
ORGANIZER;CN="Midland UMC":MAILTO:midlandumc@gmail.com
GEO:43.1501599;-89.775204
X-APPLE-STRUCTURED-LOCATION;VALUE=URI;X-ADDRESS=Midland United Methodist Church 10235 County Rd KP Mazomanie WI 53560 United States;X-APPLE-RADIUS=500;X-TITLE=10235 County Rd KP:geo:-89.775204,43.1501599
END:VEVENT
BEGIN:VEVENT
DTSTART;TZID=America/Chicago:20240310T143000
DTEND;TZID=America/Chicago:20240310T160000
DTSTAMP:20260423T050652
CREATED:20240310T154703Z
LAST-MODIFIED:20240310T154703Z
UID:10000001-1710081000-1710086400@midlandunitedmethodist.com
SUMMARY:Hymn Sing!
DESCRIPTION:All are welcome to Midland’s Hymn Sing! \nBring a fiend and a request list.
URL:https://midlandunitedmethodist.com/event/hymn-sing-6/
LOCATION:Midland United Methodist Church\, 10235 County Rd KP\, Mazomanie\, WI\, 53560\, United States
ORGANIZER;CN="Midland UMC":MAILTO:midlandumc@gmail.com
GEO:43.1501599;-89.775204
X-APPLE-STRUCTURED-LOCATION;VALUE=URI;X-ADDRESS=Midland United Methodist Church 10235 County Rd KP Mazomanie WI 53560 United States;X-APPLE-RADIUS=500;X-TITLE=10235 County Rd KP:geo:-89.775204,43.1501599
END:VEVENT
BEGIN:VEVENT
DTSTART;TZID=America/Chicago:20240321T183000
DTEND;TZID=America/Chicago:20240321T200000
DTSTAMP:20260423T050652
CREATED:20220903T164409Z
LAST-MODIFIED:20220903T164409Z
UID:10000114-1711045800-1711051200@midlandunitedmethodist.com
SUMMARY:UMW Meeting
DESCRIPTION:Midland UMW meeting will be held at 6:30 p.m. in the Community Room at the Church on Thursday\, September 15th.  Program Leader is Marilyn DeWitt and Hostess is Linda Richter.
URL:https://midlandunitedmethodist.com/event/umw-meeting/2024-03-21/
LOCATION:Midland United Methodist Church\, 10235 County Rd KP\, Mazomanie\, WI\, 53560\, United States
ORGANIZER;CN="Midland UMC":MAILTO:midlandumc@gmail.com
GEO:43.1501599;-89.775204
X-APPLE-STRUCTURED-LOCATION;VALUE=URI;X-ADDRESS=Midland United Methodist Church 10235 County Rd KP Mazomanie WI 53560 United States;X-APPLE-RADIUS=500;X-TITLE=10235 County Rd KP:geo:-89.775204,43.1501599
END:VEVENT
BEGIN:VEVENT
DTSTART;TZID=America/Chicago:20240321T183000
DTEND;TZID=America/Chicago:20240321T200000
DTSTAMP:20260423T050652
CREATED:20240310T154542Z
LAST-MODIFIED:20240310T154542Z
UID:10000004-1711045800-1711051200@midlandunitedmethodist.com
SUMMARY:UWF Meeting
DESCRIPTION:United Women in Faith at Midland UMC
URL:https://midlandunitedmethodist.com/event/uwf-meeting/
LOCATION:Midland United Methodist Church\, 10235 County Rd KP\, Mazomanie\, WI\, 53560\, United States
ORGANIZER;CN="Midland UMC":MAILTO:midlandumc@gmail.com
GEO:43.1501599;-89.775204
X-APPLE-STRUCTURED-LOCATION;VALUE=URI;X-ADDRESS=Midland United Methodist Church 10235 County Rd KP Mazomanie WI 53560 United States;X-APPLE-RADIUS=500;X-TITLE=10235 County Rd KP:geo:-89.775204,43.1501599
END:VEVENT
BEGIN:VEVENT
DTSTART;TZID=America/Chicago:20240329T183000
DTEND;TZID=America/Chicago:20240329T193000
DTSTAMP:20260423T050652
CREATED:20240225T164531Z
LAST-MODIFIED:20240225T164531Z
UID:10000131-1711737000-1711740600@midlandunitedmethodist.com
SUMMARY:Good Friday Service
DESCRIPTION:
URL:https://midlandunitedmethodist.com/event/good-friday-service/
LOCATION:Midland United Methodist Church\, 10235 County Rd KP\, Mazomanie\, WI\, 53560\, United States
ORGANIZER;CN="Midland UMC":MAILTO:midlandumc@gmail.com
GEO:43.1501599;-89.775204
X-APPLE-STRUCTURED-LOCATION;VALUE=URI;X-ADDRESS=Midland United Methodist Church 10235 County Rd KP Mazomanie WI 53560 United States;X-APPLE-RADIUS=500;X-TITLE=10235 County Rd KP:geo:-89.775204,43.1501599
END:VEVENT
BEGIN:VEVENT
DTSTART;TZID=America/Chicago:20240406T080000
DTEND;TZID=America/Chicago:20240406T120000
DTSTAMP:20260423T050652
CREATED:20240324T161453Z
LAST-MODIFIED:20240324T161736Z
UID:10000021-1712390400-1712404800@midlandunitedmethodist.com
SUMMARY:Midland UMC Blood Drive
DESCRIPTION:Midland UMC Blood Drive\nSaturday\, April 6\n8:00am -12:00pm \nClick the link below to sign up!\nhttps://www.redcrossblood.org/give.html/drive-results?zipSponsor=MazomanieWI&utm_source=Midland%20UM&utm_campaign=85a00eeade-EMAIL_CAMPAIGN_2019_10_12_10_31_COPY_01&utm_medium=email&utm_term=0_9c97ed3b64-85a00eeade-132580605 \nGive blood 3/25 to 4/7\nfor an exclusiveGODZILLA x KONG:\nTHE NEW EMPIRE\nand Red Cross\nshirt ltd qty! \n(Next blood drive will be 6/1)
URL:https://midlandunitedmethodist.com/event/midland-umc-blood-drive-4/2024-04-06/
LOCATION:Midland United Methodist Church\, 10235 County Rd KP\, Mazomanie\, WI\, 53560\, United States
ORGANIZER;CN="Midland UMC":MAILTO:midlandumc@gmail.com
GEO:43.1501599;-89.775204
X-APPLE-STRUCTURED-LOCATION;VALUE=URI;X-ADDRESS=Midland United Methodist Church 10235 County Rd KP Mazomanie WI 53560 United States;X-APPLE-RADIUS=500;X-TITLE=10235 County Rd KP:geo:-89.775204,43.1501599
END:VEVENT
BEGIN:VEVENT
DTSTART;TZID=America/Chicago:20240407T140000
DTEND;TZID=America/Chicago:20240407T153000
DTSTAMP:20260423T050652
CREATED:20240225T164653Z
LAST-MODIFIED:20240225T164653Z
UID:10000130-1712498400-1712503800@midlandunitedmethodist.com
SUMMARY:Hymn Sing!
DESCRIPTION:All are welcome.
URL:https://midlandunitedmethodist.com/event/hymn-sing-4/
LOCATION:Midland United Methodist Church\, 10235 County Rd KP\, Mazomanie\, WI\, 53560\, United States
ORGANIZER;CN="Midland UMC":MAILTO:midlandumc@gmail.com
GEO:43.1501599;-89.775204
X-APPLE-STRUCTURED-LOCATION;VALUE=URI;X-ADDRESS=Midland United Methodist Church 10235 County Rd KP Mazomanie WI 53560 United States;X-APPLE-RADIUS=500;X-TITLE=10235 County Rd KP:geo:-89.775204,43.1501599
END:VEVENT
BEGIN:VEVENT
DTSTART;TZID=America/Chicago:20240417T180000
DTEND;TZID=America/Chicago:20240417T190000
DTSTAMP:20260423T050652
CREATED:20240411T134751Z
LAST-MODIFIED:20240411T134751Z
UID:10000023-1713376800-1713380400@midlandunitedmethodist.com
SUMMARY:Confirmation Class
DESCRIPTION:New Wednesday Confirmation Class Time
URL:https://midlandunitedmethodist.com/event/confirmation-class-2/2024-04-17/
LOCATION:Midland United Methodist Church\, 10235 County Rd KP\, Mazomanie\, WI\, 53560\, United States
ORGANIZER;CN="Midland UMC":MAILTO:midlandumc@gmail.com
GEO:43.1501599;-89.775204
X-APPLE-STRUCTURED-LOCATION;VALUE=URI;X-ADDRESS=Midland United Methodist Church 10235 County Rd KP Mazomanie WI 53560 United States;X-APPLE-RADIUS=500;X-TITLE=10235 County Rd KP:geo:-89.775204,43.1501599
END:VEVENT
BEGIN:VEVENT
DTSTART;TZID=America/Chicago:20240418T183000
DTEND;TZID=America/Chicago:20240418T200000
DTSTAMP:20260423T050652
CREATED:20220903T164409Z
LAST-MODIFIED:20220903T164409Z
UID:10000115-1713465000-1713470400@midlandunitedmethodist.com
SUMMARY:UMW Meeting
DESCRIPTION:Midland UMW meeting will be held at 6:30 p.m. in the Community Room at the Church on Thursday\, September 15th.  Program Leader is Marilyn DeWitt and Hostess is Linda Richter.
URL:https://midlandunitedmethodist.com/event/umw-meeting/2024-04-18/
LOCATION:Midland United Methodist Church\, 10235 County Rd KP\, Mazomanie\, WI\, 53560\, United States
ORGANIZER;CN="Midland UMC":MAILTO:midlandumc@gmail.com
GEO:43.1501599;-89.775204
X-APPLE-STRUCTURED-LOCATION;VALUE=URI;X-ADDRESS=Midland United Methodist Church 10235 County Rd KP Mazomanie WI 53560 United States;X-APPLE-RADIUS=500;X-TITLE=10235 County Rd KP:geo:-89.775204,43.1501599
END:VEVENT
BEGIN:VEVENT
DTSTART;TZID=America/Chicago:20240418T183000
DTEND;TZID=America/Chicago:20240418T200000
DTSTAMP:20260423T050652
CREATED:20240416T155613Z
LAST-MODIFIED:20240416T155717Z
UID:10000003-1713465000-1713470400@midlandunitedmethodist.com
SUMMARY:UWF Meeting
DESCRIPTION:United Women in Faith Monthly Meeting \nAll ladies are welcome to attend.  You need not be a Midland UMC Member. \nLeader: \nHostess: Tina Williams
URL:https://midlandunitedmethodist.com/event/uwf-meeting-2/
LOCATION:Midland United Methodist Church\, 10235 County Rd KP\, Mazomanie\, WI\, 53560\, United States
ORGANIZER;CN="Midland UMC":MAILTO:midlandumc@gmail.com
GEO:43.1501599;-89.775204
X-APPLE-STRUCTURED-LOCATION;VALUE=URI;X-ADDRESS=Midland United Methodist Church 10235 County Rd KP Mazomanie WI 53560 United States;X-APPLE-RADIUS=500;X-TITLE=10235 County Rd KP:geo:-89.775204,43.1501599
END:VEVENT
BEGIN:VEVENT
DTSTART;TZID=America/Chicago:20240424T180000
DTEND;TZID=America/Chicago:20240424T190000
DTSTAMP:20260423T050652
CREATED:20240411T134751Z
LAST-MODIFIED:20240411T134751Z
UID:10000024-1713981600-1713985200@midlandunitedmethodist.com
SUMMARY:Confirmation Class
DESCRIPTION:New Wednesday Confirmation Class Time
URL:https://midlandunitedmethodist.com/event/confirmation-class-2/2024-04-24/
LOCATION:Midland United Methodist Church\, 10235 County Rd KP\, Mazomanie\, WI\, 53560\, United States
ORGANIZER;CN="Midland UMC":MAILTO:midlandumc@gmail.com
GEO:43.1501599;-89.775204
X-APPLE-STRUCTURED-LOCATION;VALUE=URI;X-ADDRESS=Midland United Methodist Church 10235 County Rd KP Mazomanie WI 53560 United States;X-APPLE-RADIUS=500;X-TITLE=10235 County Rd KP:geo:-89.775204,43.1501599
END:VEVENT
BEGIN:VEVENT
DTSTART;TZID=America/Chicago:20240501T180000
DTEND;TZID=America/Chicago:20240501T190000
DTSTAMP:20260423T050652
CREATED:20240411T134751Z
LAST-MODIFIED:20240411T134751Z
UID:10000025-1714586400-1714590000@midlandunitedmethodist.com
SUMMARY:Confirmation Class
DESCRIPTION:New Wednesday Confirmation Class Time
URL:https://midlandunitedmethodist.com/event/confirmation-class-2/2024-05-01/
LOCATION:Midland United Methodist Church\, 10235 County Rd KP\, Mazomanie\, WI\, 53560\, United States
ORGANIZER;CN="Midland UMC":MAILTO:midlandumc@gmail.com
GEO:43.1501599;-89.775204
X-APPLE-STRUCTURED-LOCATION;VALUE=URI;X-ADDRESS=Midland United Methodist Church 10235 County Rd KP Mazomanie WI 53560 United States;X-APPLE-RADIUS=500;X-TITLE=10235 County Rd KP:geo:-89.775204,43.1501599
END:VEVENT
BEGIN:VEVENT
DTSTART;TZID=America/Chicago:20240505T140000
DTEND;TZID=America/Chicago:20240505T153000
DTSTAMP:20260423T050652
CREATED:20240225T164731Z
LAST-MODIFIED:20240225T164731Z
UID:10000132-1714917600-1714923000@midlandunitedmethodist.com
SUMMARY:Hymn Sing!
DESCRIPTION:All are welcome.
URL:https://midlandunitedmethodist.com/event/hymn-sing-5/
LOCATION:Midland United Methodist Church\, 10235 County Rd KP\, Mazomanie\, WI\, 53560\, United States
ORGANIZER;CN="Midland UMC":MAILTO:midlandumc@gmail.com
GEO:43.1501599;-89.775204
X-APPLE-STRUCTURED-LOCATION;VALUE=URI;X-ADDRESS=Midland United Methodist Church 10235 County Rd KP Mazomanie WI 53560 United States;X-APPLE-RADIUS=500;X-TITLE=10235 County Rd KP:geo:-89.775204,43.1501599
END:VEVENT
BEGIN:VEVENT
DTSTART;TZID=America/Chicago:20240508T180000
DTEND;TZID=America/Chicago:20240508T190000
DTSTAMP:20260423T050652
CREATED:20240411T134751Z
LAST-MODIFIED:20240411T134751Z
UID:10000026-1715191200-1715194800@midlandunitedmethodist.com
SUMMARY:Confirmation Class
DESCRIPTION:New Wednesday Confirmation Class Time
URL:https://midlandunitedmethodist.com/event/confirmation-class-2/2024-05-08/
LOCATION:Midland United Methodist Church\, 10235 County Rd KP\, Mazomanie\, WI\, 53560\, United States
ORGANIZER;CN="Midland UMC":MAILTO:midlandumc@gmail.com
GEO:43.1501599;-89.775204
X-APPLE-STRUCTURED-LOCATION;VALUE=URI;X-ADDRESS=Midland United Methodist Church 10235 County Rd KP Mazomanie WI 53560 United States;X-APPLE-RADIUS=500;X-TITLE=10235 County Rd KP:geo:-89.775204,43.1501599
END:VEVENT
BEGIN:VEVENT
DTSTART;TZID=America/Chicago:20240515T180000
DTEND;TZID=America/Chicago:20240515T190000
DTSTAMP:20260423T050652
CREATED:20240411T134751Z
LAST-MODIFIED:20240411T134751Z
UID:10000027-1715796000-1715799600@midlandunitedmethodist.com
SUMMARY:Confirmation Class
DESCRIPTION:New Wednesday Confirmation Class Time
URL:https://midlandunitedmethodist.com/event/confirmation-class-2/2024-05-15/
LOCATION:Midland United Methodist Church\, 10235 County Rd KP\, Mazomanie\, WI\, 53560\, United States
ORGANIZER;CN="Midland UMC":MAILTO:midlandumc@gmail.com
GEO:43.1501599;-89.775204
X-APPLE-STRUCTURED-LOCATION;VALUE=URI;X-ADDRESS=Midland United Methodist Church 10235 County Rd KP Mazomanie WI 53560 United States;X-APPLE-RADIUS=500;X-TITLE=10235 County Rd KP:geo:-89.775204,43.1501599
END:VEVENT
BEGIN:VEVENT
DTSTART;TZID=America/Chicago:20240516T183000
DTEND;TZID=America/Chicago:20240516T200000
DTSTAMP:20260423T050652
CREATED:20220903T164409Z
LAST-MODIFIED:20220903T164409Z
UID:10000116-1715884200-1715889600@midlandunitedmethodist.com
SUMMARY:UMW Meeting
DESCRIPTION:Midland UMW meeting will be held at 6:30 p.m. in the Community Room at the Church on Thursday\, September 15th.  Program Leader is Marilyn DeWitt and Hostess is Linda Richter.
URL:https://midlandunitedmethodist.com/event/umw-meeting/2024-05-16/
LOCATION:Midland United Methodist Church\, 10235 County Rd KP\, Mazomanie\, WI\, 53560\, United States
ORGANIZER;CN="Midland UMC":MAILTO:midlandumc@gmail.com
GEO:43.1501599;-89.775204
X-APPLE-STRUCTURED-LOCATION;VALUE=URI;X-ADDRESS=Midland United Methodist Church 10235 County Rd KP Mazomanie WI 53560 United States;X-APPLE-RADIUS=500;X-TITLE=10235 County Rd KP:geo:-89.775204,43.1501599
END:VEVENT
BEGIN:VEVENT
DTSTART;TZID=America/Chicago:20240516T183000
DTEND;TZID=America/Chicago:20240516T200000
DTSTAMP:20260423T050652
CREATED:20240416T155613Z
LAST-MODIFIED:20240416T155917Z
UID:10000287-1715884200-1715889600@midlandunitedmethodist.com
SUMMARY:UWF Meeting
DESCRIPTION:United Women in Faith Monthly Meeting \nAll ladies are welcome to attend.  You need not be a Midland UMC Member. \nLeader: Cheryl Schmidt \nHostess: Kathy Stoltz
URL:https://midlandunitedmethodist.com/event/uwf-meeting-2-2024-05-16/
LOCATION:Midland United Methodist Church\, 10235 County Rd KP\, Mazomanie\, WI\, 53560\, United States
ORGANIZER;CN="Midland UMC":MAILTO:midlandumc@gmail.com
GEO:43.1501599;-89.775204
X-APPLE-STRUCTURED-LOCATION;VALUE=URI;X-ADDRESS=Midland United Methodist Church 10235 County Rd KP Mazomanie WI 53560 United States;X-APPLE-RADIUS=500;X-TITLE=10235 County Rd KP:geo:-89.775204,43.1501599
END:VEVENT
BEGIN:VEVENT
DTSTART;TZID=America/Chicago:20240522T180000
DTEND;TZID=America/Chicago:20240522T190000
DTSTAMP:20260423T050652
CREATED:20240411T134751Z
LAST-MODIFIED:20240411T134751Z
UID:10000028-1716400800-1716404400@midlandunitedmethodist.com
SUMMARY:Confirmation Class
DESCRIPTION:New Wednesday Confirmation Class Time
URL:https://midlandunitedmethodist.com/event/confirmation-class-2/2024-05-22/
LOCATION:Midland United Methodist Church\, 10235 County Rd KP\, Mazomanie\, WI\, 53560\, United States
ORGANIZER;CN="Midland UMC":MAILTO:midlandumc@gmail.com
GEO:43.1501599;-89.775204
X-APPLE-STRUCTURED-LOCATION;VALUE=URI;X-ADDRESS=Midland United Methodist Church 10235 County Rd KP Mazomanie WI 53560 United States;X-APPLE-RADIUS=500;X-TITLE=10235 County Rd KP:geo:-89.775204,43.1501599
END:VEVENT
BEGIN:VEVENT
DTSTART;TZID=America/Chicago:20240526T093000
DTEND;TZID=America/Chicago:20240526T103000
DTSTAMP:20260423T050652
CREATED:20240324T161612Z
LAST-MODIFIED:20240324T161612Z
UID:10000005-1716715800-1716719400@midlandunitedmethodist.com
SUMMARY:Mission Kits Due Today!
DESCRIPTION:The Wisconsin Conference Mission Motivation Committee is working with Midwest Mission Distribution Center to collect items for Personal Dignity Kits and Home Care Kits. Midwest Mission distributes these items locally\, nationally and internationally to those in need during times of crisis. All supplies are given free of charge regardless of gender\, race or religion. All items should be NEW – and all kits should have only the items requested.\n\nDonated kits due by\nSunday\, May 26.\n\nMidland UMC is collecting items for Personal Dignity as well as Home Care. \nHome Care Kit\n\nLiquid household cleaner – 56-80 oz total – no pump or spray bottles\nDish soap – 42-64 oz total\nLiquid laundry detergent – 100-150 oz total\n1 Scrub brush – with or without handle\n1 Five-gallon round bucket with resealable lid\n\n\nPersonal Dignity Kit\n\n1 Hand towel – no kitchen towels\n1 Washcloth – no dishcloths\n1 Adult toothbrush – no multipacks\n1 Bar soap – 3-4 oz\n1 Shampoo – 12-19 oz\n1 Deodorant – 2-3 oz – stick\, roll on\, or pump\n1 One-gallon resealable plastic bag
URL:https://midlandunitedmethodist.com/event/mission-kits-due-today/
LOCATION:Midland United Methodist Church\, 10235 County Rd KP\, Mazomanie\, WI\, 53560\, United States
ORGANIZER;CN="Midland UMC":MAILTO:midlandumc@gmail.com
GEO:43.1501599;-89.775204
X-APPLE-STRUCTURED-LOCATION;VALUE=URI;X-ADDRESS=Midland United Methodist Church 10235 County Rd KP Mazomanie WI 53560 United States;X-APPLE-RADIUS=500;X-TITLE=10235 County Rd KP:geo:-89.775204,43.1501599
END:VEVENT
END:VCALENDAR