BEGIN:VCALENDAR
VERSION:2.0
PRODID:-//Midland United Methodist Church - ECPv6.15.20//NONSGML v1.0//EN
CALSCALE:GREGORIAN
METHOD:PUBLISH
X-WR-CALNAME:Midland United Methodist Church
X-ORIGINAL-URL:https://midlandunitedmethodist.com
X-WR-CALDESC:Events for Midland United Methodist Church
REFRESH-INTERVAL;VALUE=DURATION:PT1H
X-Robots-Tag:noindex
X-PUBLISHED-TTL:PT1H
BEGIN:VTIMEZONE
TZID:America/Chicago
BEGIN:DAYLIGHT
TZOFFSETFROM:-0600
TZOFFSETTO:-0500
TZNAME:CDT
DTSTART:20260308T080000
END:DAYLIGHT
BEGIN:STANDARD
TZOFFSETFROM:-0500
TZOFFSETTO:-0600
TZNAME:CST
DTSTART:20261101T070000
END:STANDARD
BEGIN:DAYLIGHT
TZOFFSETFROM:-0600
TZOFFSETTO:-0500
TZNAME:CDT
DTSTART:20270314T080000
END:DAYLIGHT
BEGIN:STANDARD
TZOFFSETFROM:-0500
TZOFFSETTO:-0600
TZNAME:CST
DTSTART:20271107T070000
END:STANDARD
BEGIN:DAYLIGHT
TZOFFSETFROM:-0600
TZOFFSETTO:-0500
TZNAME:CDT
DTSTART:20280312T080000
END:DAYLIGHT
BEGIN:STANDARD
TZOFFSETFROM:-0500
TZOFFSETTO:-0600
TZNAME:CST
DTSTART:20281105T070000
END:STANDARD
END:VTIMEZONE
BEGIN:VEVENT
DTSTART;TZID=America/Chicago:20270914T170000
DTEND;TZID=America/Chicago:20270914T180000
DTSTAMP:20260424T193616
CREATED:20240811T154849Z
LAST-MODIFIED:20240811T154849Z
UID:10013467-1820941200-1820944800@midlandunitedmethodist.com
SUMMARY:Finance Committee Budget Meeting
DESCRIPTION:
URL:https://midlandunitedmethodist.com/event/finance-committee-meeting-2-2026-05-12-11/
LOCATION:Midland United Methodist Church\, 10235 County Rd KP\, Mazomanie\, WI\, 53560\, United States
ORGANIZER;CN="Midland UMC":MAILTO:midlandumc@gmail.com
GEO:43.1501599;-89.775204
X-APPLE-STRUCTURED-LOCATION;VALUE=URI;X-ADDRESS=Midland United Methodist Church 10235 County Rd KP Mazomanie WI 53560 United States;X-APPLE-RADIUS=500;X-TITLE=10235 County Rd KP:geo:-89.775204,43.1501599
END:VEVENT
BEGIN:VEVENT
DTSTART;TZID=America/Chicago:20270914T170000
DTEND;TZID=America/Chicago:20270914T180000
DTSTAMP:20260424T193616
CREATED:20240811T154849Z
LAST-MODIFIED:20240811T154849Z
UID:10003303-1820941200-1820944800@midlandunitedmethodist.com
SUMMARY:Finance Committee Budget Meeting
DESCRIPTION:
URL:https://midlandunitedmethodist.com/event/finance-committee-meeting-2-2024-10-08-3/
LOCATION:Midland United Methodist Church\, 10235 County Rd KP\, Mazomanie\, WI\, 53560\, United States
ORGANIZER;CN="Midland UMC":MAILTO:midlandumc@gmail.com
GEO:43.1501599;-89.775204
X-APPLE-STRUCTURED-LOCATION;VALUE=URI;X-ADDRESS=Midland United Methodist Church 10235 County Rd KP Mazomanie WI 53560 United States;X-APPLE-RADIUS=500;X-TITLE=10235 County Rd KP:geo:-89.775204,43.1501599
END:VEVENT
BEGIN:VEVENT
DTSTART;TZID=America/Chicago:20270914T170000
DTEND;TZID=America/Chicago:20270914T180000
DTSTAMP:20260424T193616
CREATED:20240811T154849Z
LAST-MODIFIED:20240811T154849Z
UID:10006927-1820941200-1820944800@midlandunitedmethodist.com
SUMMARY:Finance Committee Budget Meeting
DESCRIPTION:
URL:https://midlandunitedmethodist.com/event/finance-committee-meeting-2-2026-05-12-5/
LOCATION:Midland United Methodist Church\, 10235 County Rd KP\, Mazomanie\, WI\, 53560\, United States
ORGANIZER;CN="Midland UMC":MAILTO:midlandumc@gmail.com
GEO:43.1501599;-89.775204
X-APPLE-STRUCTURED-LOCATION;VALUE=URI;X-ADDRESS=Midland United Methodist Church 10235 County Rd KP Mazomanie WI 53560 United States;X-APPLE-RADIUS=500;X-TITLE=10235 County Rd KP:geo:-89.775204,43.1501599
END:VEVENT
BEGIN:VEVENT
DTSTART;TZID=America/Chicago:20270914T170000
DTEND;TZID=America/Chicago:20270914T180000
DTSTAMP:20260424T193616
CREATED:20240811T154849Z
LAST-MODIFIED:20240811T154849Z
UID:10010383-1820941200-1820944800@midlandunitedmethodist.com
SUMMARY:Finance Committee Budget Meeting
DESCRIPTION:
URL:https://midlandunitedmethodist.com/event/finance-committee-meeting-2-2026-09-08-8/
LOCATION:Midland United Methodist Church\, 10235 County Rd KP\, Mazomanie\, WI\, 53560\, United States
ORGANIZER;CN="Midland UMC":MAILTO:midlandumc@gmail.com
GEO:43.1501599;-89.775204
X-APPLE-STRUCTURED-LOCATION;VALUE=URI;X-ADDRESS=Midland United Methodist Church 10235 County Rd KP Mazomanie WI 53560 United States;X-APPLE-RADIUS=500;X-TITLE=10235 County Rd KP:geo:-89.775204,43.1501599
END:VEVENT
BEGIN:VEVENT
DTSTART;TZID=America/Chicago:20270914T170000
DTEND;TZID=America/Chicago:20270914T180000
DTSTAMP:20260424T193616
CREATED:20240811T154849Z
LAST-MODIFIED:20240811T154849Z
UID:10013903-1820941200-1820944800@midlandunitedmethodist.com
SUMMARY:Finance Committee Budget Meeting
DESCRIPTION:
URL:https://midlandunitedmethodist.com/event/finance-committee-meeting-2-2025-05-13-12/
LOCATION:Midland United Methodist Church\, 10235 County Rd KP\, Mazomanie\, WI\, 53560\, United States
ORGANIZER;CN="Midland UMC":MAILTO:midlandumc@gmail.com
GEO:43.1501599;-89.775204
X-APPLE-STRUCTURED-LOCATION;VALUE=URI;X-ADDRESS=Midland United Methodist Church 10235 County Rd KP Mazomanie WI 53560 United States;X-APPLE-RADIUS=500;X-TITLE=10235 County Rd KP:geo:-89.775204,43.1501599
END:VEVENT
BEGIN:VEVENT
DTSTART;TZID=America/Chicago:20270914T170000
DTEND;TZID=America/Chicago:20270914T180000
DTSTAMP:20260424T193616
CREATED:20240811T154849Z
LAST-MODIFIED:20240811T154849Z
UID:10003811-1820941200-1820944800@midlandunitedmethodist.com
SUMMARY:Finance Committee Budget Meeting
DESCRIPTION:
URL:https://midlandunitedmethodist.com/event/finance-committee-meeting-2-2025-06-10-3/
LOCATION:Midland United Methodist Church\, 10235 County Rd KP\, Mazomanie\, WI\, 53560\, United States
ORGANIZER;CN="Midland UMC":MAILTO:midlandumc@gmail.com
GEO:43.1501599;-89.775204
X-APPLE-STRUCTURED-LOCATION;VALUE=URI;X-ADDRESS=Midland United Methodist Church 10235 County Rd KP Mazomanie WI 53560 United States;X-APPLE-RADIUS=500;X-TITLE=10235 County Rd KP:geo:-89.775204,43.1501599
END:VEVENT
BEGIN:VEVENT
DTSTART;TZID=America/Chicago:20270914T170000
DTEND;TZID=America/Chicago:20270914T180000
DTSTAMP:20260424T193616
CREATED:20240811T154849Z
LAST-MODIFIED:20240811T154849Z
UID:10007363-1820941200-1820944800@midlandunitedmethodist.com
SUMMARY:Finance Committee Budget Meeting
DESCRIPTION:
URL:https://midlandunitedmethodist.com/event/finance-committee-meeting-2-2025-05-13-6/
LOCATION:Midland United Methodist Church\, 10235 County Rd KP\, Mazomanie\, WI\, 53560\, United States
ORGANIZER;CN="Midland UMC":MAILTO:midlandumc@gmail.com
GEO:43.1501599;-89.775204
X-APPLE-STRUCTURED-LOCATION;VALUE=URI;X-ADDRESS=Midland United Methodist Church 10235 County Rd KP Mazomanie WI 53560 United States;X-APPLE-RADIUS=500;X-TITLE=10235 County Rd KP:geo:-89.775204,43.1501599
END:VEVENT
BEGIN:VEVENT
DTSTART;TZID=America/Chicago:20270914T170000
DTEND;TZID=America/Chicago:20270914T180000
DTSTAMP:20260424T193616
CREATED:20240811T154849Z
LAST-MODIFIED:20240811T154849Z
UID:10010867-1820941200-1820944800@midlandunitedmethodist.com
SUMMARY:Finance Committee Budget Meeting
DESCRIPTION:
URL:https://midlandunitedmethodist.com/event/finance-committee-meeting-2-2025-09-09-9/
LOCATION:Midland United Methodist Church\, 10235 County Rd KP\, Mazomanie\, WI\, 53560\, United States
ORGANIZER;CN="Midland UMC":MAILTO:midlandumc@gmail.com
GEO:43.1501599;-89.775204
X-APPLE-STRUCTURED-LOCATION;VALUE=URI;X-ADDRESS=Midland United Methodist Church 10235 County Rd KP Mazomanie WI 53560 United States;X-APPLE-RADIUS=500;X-TITLE=10235 County Rd KP:geo:-89.775204,43.1501599
END:VEVENT
BEGIN:VEVENT
DTSTART;TZID=America/Chicago:20270914T170000
DTEND;TZID=America/Chicago:20270914T180000
DTSTAMP:20260424T193616
CREATED:20240811T154849Z
LAST-MODIFIED:20240811T154849Z
UID:10014355-1820941200-1820944800@midlandunitedmethodist.com
SUMMARY:Finance Committee Budget Meeting
DESCRIPTION:
URL:https://midlandunitedmethodist.com/event/finance-committee-meeting-2-2026-01-13-12/
LOCATION:Midland United Methodist Church\, 10235 County Rd KP\, Mazomanie\, WI\, 53560\, United States
ORGANIZER;CN="Midland UMC":MAILTO:midlandumc@gmail.com
GEO:43.1501599;-89.775204
X-APPLE-STRUCTURED-LOCATION;VALUE=URI;X-ADDRESS=Midland United Methodist Church 10235 County Rd KP Mazomanie WI 53560 United States;X-APPLE-RADIUS=500;X-TITLE=10235 County Rd KP:geo:-89.775204,43.1501599
END:VEVENT
BEGIN:VEVENT
DTSTART;TZID=America/Chicago:20270914T170000
DTEND;TZID=America/Chicago:20270914T180000
DTSTAMP:20260424T193616
CREATED:20240811T154849Z
LAST-MODIFIED:20240811T154849Z
UID:10000586-1820941200-1820944800@midlandunitedmethodist.com
SUMMARY:Finance Committee Budget Meeting
DESCRIPTION:
URL:https://midlandunitedmethodist.com/event/finance-committee-meeting-2-2024-12-10/
LOCATION:Midland United Methodist Church\, 10235 County Rd KP\, Mazomanie\, WI\, 53560\, United States
ORGANIZER;CN="Midland UMC":MAILTO:midlandumc@gmail.com
GEO:43.1501599;-89.775204
X-APPLE-STRUCTURED-LOCATION;VALUE=URI;X-ADDRESS=Midland United Methodist Church 10235 County Rd KP Mazomanie WI 53560 United States;X-APPLE-RADIUS=500;X-TITLE=10235 County Rd KP:geo:-89.775204,43.1501599
END:VEVENT
BEGIN:VEVENT
DTSTART;TZID=America/Chicago:20270914T170000
DTEND;TZID=America/Chicago:20270914T180000
DTSTAMP:20260424T193616
CREATED:20240811T154849Z
LAST-MODIFIED:20240811T154849Z
UID:10004255-1820941200-1820944800@midlandunitedmethodist.com
SUMMARY:Finance Committee Budget Meeting
DESCRIPTION:
URL:https://midlandunitedmethodist.com/event/finance-committee-meeting-2-2026-02-10-3/
LOCATION:Midland United Methodist Church\, 10235 County Rd KP\, Mazomanie\, WI\, 53560\, United States
ORGANIZER;CN="Midland UMC":MAILTO:midlandumc@gmail.com
GEO:43.1501599;-89.775204
X-APPLE-STRUCTURED-LOCATION;VALUE=URI;X-ADDRESS=Midland United Methodist Church 10235 County Rd KP Mazomanie WI 53560 United States;X-APPLE-RADIUS=500;X-TITLE=10235 County Rd KP:geo:-89.775204,43.1501599
END:VEVENT
BEGIN:VEVENT
DTSTART;TZID=America/Chicago:20270914T170000
DTEND;TZID=America/Chicago:20270914T180000
DTSTAMP:20260424T193616
CREATED:20240811T154849Z
LAST-MODIFIED:20240811T154849Z
UID:10007815-1820941200-1820944800@midlandunitedmethodist.com
SUMMARY:Finance Committee Budget Meeting
DESCRIPTION:
URL:https://midlandunitedmethodist.com/event/finance-committee-meeting-2-2026-01-13-6/
LOCATION:Midland United Methodist Church\, 10235 County Rd KP\, Mazomanie\, WI\, 53560\, United States
ORGANIZER;CN="Midland UMC":MAILTO:midlandumc@gmail.com
GEO:43.1501599;-89.775204
X-APPLE-STRUCTURED-LOCATION;VALUE=URI;X-ADDRESS=Midland United Methodist Church 10235 County Rd KP Mazomanie WI 53560 United States;X-APPLE-RADIUS=500;X-TITLE=10235 County Rd KP:geo:-89.775204,43.1501599
END:VEVENT
BEGIN:VEVENT
DTSTART;TZID=America/Chicago:20270914T170000
DTEND;TZID=America/Chicago:20270914T180000
DTSTAMP:20260424T193616
CREATED:20240811T154849Z
LAST-MODIFIED:20240811T154849Z
UID:10011287-1820941200-1820944800@midlandunitedmethodist.com
SUMMARY:Finance Committee Budget Meeting
DESCRIPTION:
URL:https://midlandunitedmethodist.com/event/finance-committee-meeting-2-2026-05-12-9/
LOCATION:Midland United Methodist Church\, 10235 County Rd KP\, Mazomanie\, WI\, 53560\, United States
ORGANIZER;CN="Midland UMC":MAILTO:midlandumc@gmail.com
GEO:43.1501599;-89.775204
X-APPLE-STRUCTURED-LOCATION;VALUE=URI;X-ADDRESS=Midland United Methodist Church 10235 County Rd KP Mazomanie WI 53560 United States;X-APPLE-RADIUS=500;X-TITLE=10235 County Rd KP:geo:-89.775204,43.1501599
END:VEVENT
BEGIN:VEVENT
DTSTART;TZID=America/Chicago:20270914T170000
DTEND;TZID=America/Chicago:20270914T180000
DTSTAMP:20260424T193616
CREATED:20240811T154849Z
LAST-MODIFIED:20240811T154849Z
UID:10014743-1820941200-1820944800@midlandunitedmethodist.com
SUMMARY:Finance Committee Budget Meeting
DESCRIPTION:
URL:https://midlandunitedmethodist.com/event/finance-committee-meeting-2-2026-09-08-12/
LOCATION:Midland United Methodist Church\, 10235 County Rd KP\, Mazomanie\, WI\, 53560\, United States
ORGANIZER;CN="Midland UMC":MAILTO:midlandumc@gmail.com
GEO:43.1501599;-89.775204
X-APPLE-STRUCTURED-LOCATION;VALUE=URI;X-ADDRESS=Midland United Methodist Church 10235 County Rd KP Mazomanie WI 53560 United States;X-APPLE-RADIUS=500;X-TITLE=10235 County Rd KP:geo:-89.775204,43.1501599
END:VEVENT
BEGIN:VEVENT
DTSTART;TZID=America/Chicago:20270914T170000
DTEND;TZID=America/Chicago:20270914T180000
DTSTAMP:20260424T193616
CREATED:20240811T154849Z
LAST-MODIFIED:20240811T154849Z
UID:10001078-1820941200-1820944800@midlandunitedmethodist.com
SUMMARY:Finance Committee Budget Meeting
DESCRIPTION:
URL:https://midlandunitedmethodist.com/event/finance-committee-meeting-2-2025-08-12/
LOCATION:Midland United Methodist Church\, 10235 County Rd KP\, Mazomanie\, WI\, 53560\, United States
ORGANIZER;CN="Midland UMC":MAILTO:midlandumc@gmail.com
GEO:43.1501599;-89.775204
X-APPLE-STRUCTURED-LOCATION;VALUE=URI;X-ADDRESS=Midland United Methodist Church 10235 County Rd KP Mazomanie WI 53560 United States;X-APPLE-RADIUS=500;X-TITLE=10235 County Rd KP:geo:-89.775204,43.1501599
END:VEVENT
BEGIN:VEVENT
DTSTART;TZID=America/Chicago:20270914T170000
DTEND;TZID=America/Chicago:20270914T180000
DTSTAMP:20260424T193616
CREATED:20240811T154849Z
LAST-MODIFIED:20240811T154849Z
UID:10004660-1820941200-1820944800@midlandunitedmethodist.com
SUMMARY:Finance Committee Budget Meeting
DESCRIPTION:
URL:https://midlandunitedmethodist.com/event/finance-committee-meeting-2-2024-09-10-4/
LOCATION:Midland United Methodist Church\, 10235 County Rd KP\, Mazomanie\, WI\, 53560\, United States
ORGANIZER;CN="Midland UMC":MAILTO:midlandumc@gmail.com
GEO:43.1501599;-89.775204
X-APPLE-STRUCTURED-LOCATION;VALUE=URI;X-ADDRESS=Midland United Methodist Church 10235 County Rd KP Mazomanie WI 53560 United States;X-APPLE-RADIUS=500;X-TITLE=10235 County Rd KP:geo:-89.775204,43.1501599
END:VEVENT
BEGIN:VEVENT
DTSTART;TZID=America/Chicago:20270914T170000
DTEND;TZID=America/Chicago:20270914T180000
DTSTAMP:20260424T193616
CREATED:20240811T154849Z
LAST-MODIFIED:20240811T154849Z
UID:10008203-1820941200-1820944800@midlandunitedmethodist.com
SUMMARY:Finance Committee Budget Meeting
DESCRIPTION:
URL:https://midlandunitedmethodist.com/event/finance-committee-meeting-2-2026-09-08-6/
LOCATION:Midland United Methodist Church\, 10235 County Rd KP\, Mazomanie\, WI\, 53560\, United States
ORGANIZER;CN="Midland UMC":MAILTO:midlandumc@gmail.com
GEO:43.1501599;-89.775204
X-APPLE-STRUCTURED-LOCATION;VALUE=URI;X-ADDRESS=Midland United Methodist Church 10235 County Rd KP Mazomanie WI 53560 United States;X-APPLE-RADIUS=500;X-TITLE=10235 County Rd KP:geo:-89.775204,43.1501599
END:VEVENT
BEGIN:VEVENT
DTSTART;TZID=America/Chicago:20270914T170000
DTEND;TZID=America/Chicago:20270914T180000
DTSTAMP:20260424T193616
CREATED:20240811T154849Z
LAST-MODIFIED:20240811T154849Z
UID:10011723-1820941200-1820944800@midlandunitedmethodist.com
SUMMARY:Finance Committee Budget Meeting
DESCRIPTION:
URL:https://midlandunitedmethodist.com/event/finance-committee-meeting-2-2025-05-13-10/
LOCATION:Midland United Methodist Church\, 10235 County Rd KP\, Mazomanie\, WI\, 53560\, United States
ORGANIZER;CN="Midland UMC":MAILTO:midlandumc@gmail.com
GEO:43.1501599;-89.775204
X-APPLE-STRUCTURED-LOCATION;VALUE=URI;X-ADDRESS=Midland United Methodist Church 10235 County Rd KP Mazomanie WI 53560 United States;X-APPLE-RADIUS=500;X-TITLE=10235 County Rd KP:geo:-89.775204,43.1501599
END:VEVENT
BEGIN:VEVENT
DTSTART;TZID=America/Chicago:20270914T170000
DTEND;TZID=America/Chicago:20270914T180000
DTSTAMP:20260424T193616
CREATED:20240811T154849Z
LAST-MODIFIED:20240811T154849Z
UID:10015227-1820941200-1820944800@midlandunitedmethodist.com
SUMMARY:Finance Committee Budget Meeting
DESCRIPTION:
URL:https://midlandunitedmethodist.com/event/finance-committee-meeting-2-2025-09-09-13/
LOCATION:Midland United Methodist Church\, 10235 County Rd KP\, Mazomanie\, WI\, 53560\, United States
ORGANIZER;CN="Midland UMC":MAILTO:midlandumc@gmail.com
GEO:43.1501599;-89.775204
X-APPLE-STRUCTURED-LOCATION;VALUE=URI;X-ADDRESS=Midland United Methodist Church 10235 County Rd KP Mazomanie WI 53560 United States;X-APPLE-RADIUS=500;X-TITLE=10235 County Rd KP:geo:-89.775204,43.1501599
END:VEVENT
BEGIN:VEVENT
DTSTART;TZID=America/Chicago:20270914T170000
DTEND;TZID=America/Chicago:20270914T180000
DTSTAMP:20260424T193616
CREATED:20240811T154849Z
LAST-MODIFIED:20240811T154849Z
UID:10001506-1820941200-1820944800@midlandunitedmethodist.com
SUMMARY:Finance Committee Budget Meeting
DESCRIPTION:
URL:https://midlandunitedmethodist.com/event/finance-committee-meeting-2-2026-04-14/
LOCATION:Midland United Methodist Church\, 10235 County Rd KP\, Mazomanie\, WI\, 53560\, United States
ORGANIZER;CN="Midland UMC":MAILTO:midlandumc@gmail.com
GEO:43.1501599;-89.775204
X-APPLE-STRUCTURED-LOCATION;VALUE=URI;X-ADDRESS=Midland United Methodist Church 10235 County Rd KP Mazomanie WI 53560 United States;X-APPLE-RADIUS=500;X-TITLE=10235 County Rd KP:geo:-89.775204,43.1501599
END:VEVENT
BEGIN:VEVENT
DTSTART;TZID=America/Chicago:20270914T170000
DTEND;TZID=America/Chicago:20270914T180000
DTSTAMP:20260424T193616
CREATED:20240811T154849Z
LAST-MODIFIED:20240811T154849Z
UID:10005183-1820941200-1820944800@midlandunitedmethodist.com
SUMMARY:Finance Committee Budget Meeting
DESCRIPTION:
URL:https://midlandunitedmethodist.com/event/finance-committee-meeting-2-2025-05-13-4/
LOCATION:Midland United Methodist Church\, 10235 County Rd KP\, Mazomanie\, WI\, 53560\, United States
ORGANIZER;CN="Midland UMC":MAILTO:midlandumc@gmail.com
GEO:43.1501599;-89.775204
X-APPLE-STRUCTURED-LOCATION;VALUE=URI;X-ADDRESS=Midland United Methodist Church 10235 County Rd KP Mazomanie WI 53560 United States;X-APPLE-RADIUS=500;X-TITLE=10235 County Rd KP:geo:-89.775204,43.1501599
END:VEVENT
BEGIN:VEVENT
DTSTART;TZID=America/Chicago:20270914T170000
DTEND;TZID=America/Chicago:20270914T180000
DTSTAMP:20260424T193616
CREATED:20240811T154849Z
LAST-MODIFIED:20240811T154849Z
UID:10008687-1820941200-1820944800@midlandunitedmethodist.com
SUMMARY:Finance Committee Budget Meeting
DESCRIPTION:
URL:https://midlandunitedmethodist.com/event/finance-committee-meeting-2-2025-09-09-7/
LOCATION:Midland United Methodist Church\, 10235 County Rd KP\, Mazomanie\, WI\, 53560\, United States
ORGANIZER;CN="Midland UMC":MAILTO:midlandumc@gmail.com
GEO:43.1501599;-89.775204
X-APPLE-STRUCTURED-LOCATION;VALUE=URI;X-ADDRESS=Midland United Methodist Church 10235 County Rd KP Mazomanie WI 53560 United States;X-APPLE-RADIUS=500;X-TITLE=10235 County Rd KP:geo:-89.775204,43.1501599
END:VEVENT
BEGIN:VEVENT
DTSTART;TZID=America/Chicago:20270914T170000
DTEND;TZID=America/Chicago:20270914T180000
DTSTAMP:20260424T193616
CREATED:20240811T154849Z
LAST-MODIFIED:20240811T154849Z
UID:10012175-1820941200-1820944800@midlandunitedmethodist.com
SUMMARY:Finance Committee Budget Meeting
DESCRIPTION:
URL:https://midlandunitedmethodist.com/event/finance-committee-meeting-2-2026-01-13-10/
LOCATION:Midland United Methodist Church\, 10235 County Rd KP\, Mazomanie\, WI\, 53560\, United States
ORGANIZER;CN="Midland UMC":MAILTO:midlandumc@gmail.com
GEO:43.1501599;-89.775204
X-APPLE-STRUCTURED-LOCATION;VALUE=URI;X-ADDRESS=Midland United Methodist Church 10235 County Rd KP Mazomanie WI 53560 United States;X-APPLE-RADIUS=500;X-TITLE=10235 County Rd KP:geo:-89.775204,43.1501599
END:VEVENT
BEGIN:VEVENT
DTSTART;TZID=America/Chicago:20270914T170000
DTEND;TZID=America/Chicago:20270914T180000
DTSTAMP:20260424T193616
CREATED:20240811T154849Z
LAST-MODIFIED:20240811T154849Z
UID:10022252-1820941200-1820944800@midlandunitedmethodist.com
SUMMARY:Finance Committee Budget Meeting
DESCRIPTION:
URL:https://midlandunitedmethodist.com/event/finance-committee-meeting-2-2026-04-14-59/
LOCATION:Midland United Methodist Church\, 10235 County Rd KP\, Mazomanie\, WI\, 53560\, United States
ORGANIZER;CN="Midland UMC":MAILTO:midlandumc@gmail.com
GEO:43.1501599;-89.775204
X-APPLE-STRUCTURED-LOCATION;VALUE=URI;X-ADDRESS=Midland United Methodist Church 10235 County Rd KP Mazomanie WI 53560 United States;X-APPLE-RADIUS=500;X-TITLE=10235 County Rd KP:geo:-89.775204,43.1501599
END:VEVENT
BEGIN:VEVENT
DTSTART;TZID=America/Chicago:20270914T170000
DTEND;TZID=America/Chicago:20270914T180000
DTSTAMP:20260424T193616
CREATED:20240811T154849Z
LAST-MODIFIED:20240811T154849Z
UID:10018922-1820941200-1820944800@midlandunitedmethodist.com
SUMMARY:Finance Committee Budget Meeting
DESCRIPTION:
URL:https://midlandunitedmethodist.com/event/finance-committee-meeting-2-2026-04-14-56/
LOCATION:Midland United Methodist Church\, 10235 County Rd KP\, Mazomanie\, WI\, 53560\, United States
ORGANIZER;CN="Midland UMC":MAILTO:midlandumc@gmail.com
GEO:43.1501599;-89.775204
X-APPLE-STRUCTURED-LOCATION;VALUE=URI;X-ADDRESS=Midland United Methodist Church 10235 County Rd KP Mazomanie WI 53560 United States;X-APPLE-RADIUS=500;X-TITLE=10235 County Rd KP:geo:-89.775204,43.1501599
END:VEVENT
BEGIN:VEVENT
DTSTART;TZID=America/Chicago:20270914T170000
DTEND;TZID=America/Chicago:20270914T180000
DTSTAMP:20260424T193616
CREATED:20240811T154849Z
LAST-MODIFIED:20240811T154849Z
UID:10012227-1820941200-1820944800@midlandunitedmethodist.com
SUMMARY:Finance Committee Budget Meeting
DESCRIPTION:
URL:https://midlandunitedmethodist.com/event/finance-committee-meeting-2-2026-02-10-10/
LOCATION:Midland United Methodist Church\, 10235 County Rd KP\, Mazomanie\, WI\, 53560\, United States
ORGANIZER;CN="Midland UMC":MAILTO:midlandumc@gmail.com
GEO:43.1501599;-89.775204
X-APPLE-STRUCTURED-LOCATION;VALUE=URI;X-ADDRESS=Midland United Methodist Church 10235 County Rd KP Mazomanie WI 53560 United States;X-APPLE-RADIUS=500;X-TITLE=10235 County Rd KP:geo:-89.775204,43.1501599
END:VEVENT
BEGIN:VEVENT
DTSTART;TZID=America/Chicago:20270914T170000
DTEND;TZID=America/Chicago:20270914T180000
DTSTAMP:20260424T193616
CREATED:20240811T154849Z
LAST-MODIFIED:20240811T154849Z
UID:10015695-1820941200-1820944800@midlandunitedmethodist.com
SUMMARY:Finance Committee Budget Meeting
DESCRIPTION:
URL:https://midlandunitedmethodist.com/event/finance-committee-meeting-2-2026-06-09-13/
LOCATION:Midland United Methodist Church\, 10235 County Rd KP\, Mazomanie\, WI\, 53560\, United States
ORGANIZER;CN="Midland UMC":MAILTO:midlandumc@gmail.com
GEO:43.1501599;-89.775204
X-APPLE-STRUCTURED-LOCATION;VALUE=URI;X-ADDRESS=Midland United Methodist Church 10235 County Rd KP Mazomanie WI 53560 United States;X-APPLE-RADIUS=500;X-TITLE=10235 County Rd KP:geo:-89.775204,43.1501599
END:VEVENT
BEGIN:VEVENT
DTSTART;TZID=America/Chicago:20270914T170000
DTEND;TZID=America/Chicago:20270914T180000
DTSTAMP:20260424T193616
CREATED:20240811T154849Z
LAST-MODIFIED:20240811T154849Z
UID:10002011-1820941200-1820944800@midlandunitedmethodist.com
SUMMARY:Finance Committee Budget Meeting
DESCRIPTION:
URL:https://midlandunitedmethodist.com/event/finance-committee-meeting-2-2024-12-10-2/
LOCATION:Midland United Methodist Church\, 10235 County Rd KP\, Mazomanie\, WI\, 53560\, United States
ORGANIZER;CN="Midland UMC":MAILTO:midlandumc@gmail.com
GEO:43.1501599;-89.775204
X-APPLE-STRUCTURED-LOCATION;VALUE=URI;X-ADDRESS=Midland United Methodist Church 10235 County Rd KP Mazomanie WI 53560 United States;X-APPLE-RADIUS=500;X-TITLE=10235 County Rd KP:geo:-89.775204,43.1501599
END:VEVENT
BEGIN:VEVENT
DTSTART;TZID=America/Chicago:20270914T170000
DTEND;TZID=America/Chicago:20270914T180000
DTSTAMP:20260424T193616
CREATED:20240811T154849Z
LAST-MODIFIED:20240811T154849Z
UID:10025914-1820941200-1820944800@midlandunitedmethodist.com
SUMMARY:Finance Committee Budget Meeting
DESCRIPTION:
URL:https://midlandunitedmethodist.com/event/finance-committee-meeting-2-2025-04-08-122/
LOCATION:Midland United Methodist Church\, 10235 County Rd KP\, Mazomanie\, WI\, 53560\, United States
ORGANIZER;CN="Midland UMC":MAILTO:midlandumc@gmail.com
GEO:43.1501599;-89.775204
X-APPLE-STRUCTURED-LOCATION;VALUE=URI;X-ADDRESS=Midland United Methodist Church 10235 County Rd KP Mazomanie WI 53560 United States;X-APPLE-RADIUS=500;X-TITLE=10235 County Rd KP:geo:-89.775204,43.1501599
END:VEVENT
BEGIN:VEVENT
DTSTART;TZID=America/Chicago:20270914T170000
DTEND;TZID=America/Chicago:20270914T180000
DTSTAMP:20260424T193616
CREATED:20240811T154849Z
LAST-MODIFIED:20240811T154849Z
UID:10022446-1820941200-1820944800@midlandunitedmethodist.com
SUMMARY:Finance Committee Budget Meeting
DESCRIPTION:
URL:https://midlandunitedmethodist.com/event/finance-committee-meeting-2-2026-08-11-59/
LOCATION:Midland United Methodist Church\, 10235 County Rd KP\, Mazomanie\, WI\, 53560\, United States
ORGANIZER;CN="Midland UMC":MAILTO:midlandumc@gmail.com
GEO:43.1501599;-89.775204
X-APPLE-STRUCTURED-LOCATION;VALUE=URI;X-ADDRESS=Midland United Methodist Church 10235 County Rd KP Mazomanie WI 53560 United States;X-APPLE-RADIUS=500;X-TITLE=10235 County Rd KP:geo:-89.775204,43.1501599
END:VEVENT
END:VCALENDAR