BEGIN:VCALENDAR
VERSION:2.0
PRODID:-//Midland United Methodist Church - ECPv6.15.20//NONSGML v1.0//EN
CALSCALE:GREGORIAN
METHOD:PUBLISH
X-ORIGINAL-URL:https://midlandunitedmethodist.com
X-WR-CALDESC:Events for Midland United Methodist Church
REFRESH-INTERVAL;VALUE=DURATION:PT1H
X-Robots-Tag:noindex
X-PUBLISHED-TTL:PT1H
BEGIN:VTIMEZONE
TZID:America/Chicago
BEGIN:DAYLIGHT
TZOFFSETFROM:-0600
TZOFFSETTO:-0500
TZNAME:CDT
DTSTART:20240310T080000
END:DAYLIGHT
BEGIN:STANDARD
TZOFFSETFROM:-0500
TZOFFSETTO:-0600
TZNAME:CST
DTSTART:20241103T070000
END:STANDARD
BEGIN:DAYLIGHT
TZOFFSETFROM:-0600
TZOFFSETTO:-0500
TZNAME:CDT
DTSTART:20250309T080000
END:DAYLIGHT
BEGIN:STANDARD
TZOFFSETFROM:-0500
TZOFFSETTO:-0600
TZNAME:CST
DTSTART:20251102T070000
END:STANDARD
BEGIN:DAYLIGHT
TZOFFSETFROM:-0600
TZOFFSETTO:-0500
TZNAME:CDT
DTSTART:20260308T080000
END:DAYLIGHT
BEGIN:STANDARD
TZOFFSETFROM:-0500
TZOFFSETTO:-0600
TZNAME:CST
DTSTART:20261101T070000
END:STANDARD
END:VTIMEZONE
BEGIN:VEVENT
DTSTART;TZID=America/Chicago:20250513T170000
DTEND;TZID=America/Chicago:20250513T180000
DTSTAMP:20260422T064148
CREATED:20240811T154849Z
LAST-MODIFIED:20240811T154849Z
UID:10013752-1747155600-1747159200@midlandunitedmethodist.com
SUMMARY:Finance Committee Budget Meeting
DESCRIPTION:
URL:https://midlandunitedmethodist.com/event/finance-committee-meeting-2-2025-03-11-12/
LOCATION:Midland United Methodist Church\, 10235 County Rd KP\, Mazomanie\, WI\, 53560\, United States
ORGANIZER;CN="Midland UMC":MAILTO:midlandumc@gmail.com
GEO:43.1501599;-89.775204
X-APPLE-STRUCTURED-LOCATION;VALUE=URI;X-ADDRESS=Midland United Methodist Church 10235 County Rd KP Mazomanie WI 53560 United States;X-APPLE-RADIUS=500;X-TITLE=10235 County Rd KP:geo:-89.775204,43.1501599
END:VEVENT
BEGIN:VEVENT
DTSTART;TZID=America/Chicago:20250513T170000
DTEND;TZID=America/Chicago:20250513T180000
DTSTAMP:20260422T064148
CREATED:20240811T154849Z
LAST-MODIFIED:20240811T154849Z
UID:10028279-1747155600-1747159200@midlandunitedmethodist.com
SUMMARY:Finance Committee Budget Meeting
DESCRIPTION:
URL:https://midlandunitedmethodist.com/event/finance-committee-meeting-2-2025-02-11-141/
LOCATION:Midland United Methodist Church\, 10235 County Rd KP\, Mazomanie\, WI\, 53560\, United States
ORGANIZER;CN="Midland UMC":MAILTO:midlandumc@gmail.com
GEO:43.1501599;-89.775204
X-APPLE-STRUCTURED-LOCATION;VALUE=URI;X-ADDRESS=Midland United Methodist Church 10235 County Rd KP Mazomanie WI 53560 United States;X-APPLE-RADIUS=500;X-TITLE=10235 County Rd KP:geo:-89.775204,43.1501599
END:VEVENT
BEGIN:VEVENT
DTSTART;TZID=America/Chicago:20250513T170000
DTEND;TZID=America/Chicago:20250513T180000
DTSTAMP:20260422T064148
CREATED:20240811T154849Z
LAST-MODIFIED:20240811T154849Z
UID:10028538-1747155600-1747159200@midlandunitedmethodist.com
SUMMARY:Finance Committee Budget Meeting
DESCRIPTION:
URL:https://midlandunitedmethodist.com/event/finance-committee-meeting-2-2025-03-11-195/
LOCATION:Midland United Methodist Church\, 10235 County Rd KP\, Mazomanie\, WI\, 53560\, United States
ORGANIZER;CN="Midland UMC":MAILTO:midlandumc@gmail.com
GEO:43.1501599;-89.775204
X-APPLE-STRUCTURED-LOCATION;VALUE=URI;X-ADDRESS=Midland United Methodist Church 10235 County Rd KP Mazomanie WI 53560 United States;X-APPLE-RADIUS=500;X-TITLE=10235 County Rd KP:geo:-89.775204,43.1501599
END:VEVENT
BEGIN:VEVENT
DTSTART;TZID=America/Chicago:20250513T170000
DTEND;TZID=America/Chicago:20250513T180000
DTSTAMP:20260422T064148
CREATED:20240811T154849Z
LAST-MODIFIED:20240811T154849Z
UID:10026453-1747155600-1747159200@midlandunitedmethodist.com
SUMMARY:Finance Committee Budget Meeting
DESCRIPTION:
URL:https://midlandunitedmethodist.com/event/finance-committee-meeting-2-2025-03-11-124/
LOCATION:Midland United Methodist Church\, 10235 County Rd KP\, Mazomanie\, WI\, 53560\, United States
ORGANIZER;CN="Midland UMC":MAILTO:midlandumc@gmail.com
GEO:43.1501599;-89.775204
X-APPLE-STRUCTURED-LOCATION;VALUE=URI;X-ADDRESS=Midland United Methodist Church 10235 County Rd KP Mazomanie WI 53560 United States;X-APPLE-RADIUS=500;X-TITLE=10235 County Rd KP:geo:-89.775204,43.1501599
END:VEVENT
BEGIN:VEVENT
DTSTART;TZID=America/Chicago:20250513T170000
DTEND;TZID=America/Chicago:20250513T180000
DTSTAMP:20260422T064148
CREATED:20240811T154849Z
LAST-MODIFIED:20240811T154849Z
UID:10001983-1747155600-1747159200@midlandunitedmethodist.com
SUMMARY:Finance Committee Budget Meeting
DESCRIPTION:
URL:https://midlandunitedmethodist.com/event/finance-committee-meeting-2-2024-12-10-2/
LOCATION:Midland United Methodist Church\, 10235 County Rd KP\, Mazomanie\, WI\, 53560\, United States
ORGANIZER;CN="Midland UMC":MAILTO:midlandumc@gmail.com
GEO:43.1501599;-89.775204
X-APPLE-STRUCTURED-LOCATION;VALUE=URI;X-ADDRESS=Midland United Methodist Church 10235 County Rd KP Mazomanie WI 53560 United States;X-APPLE-RADIUS=500;X-TITLE=10235 County Rd KP:geo:-89.775204,43.1501599
END:VEVENT
BEGIN:VEVENT
DTSTART;TZID=America/Chicago:20250513T170000
DTEND;TZID=America/Chicago:20250513T180000
DTSTAMP:20260422T064148
CREATED:20240811T154849Z
LAST-MODIFIED:20240811T154849Z
UID:10022844-1747155600-1747159200@midlandunitedmethodist.com
SUMMARY:Finance Committee Budget Meeting
DESCRIPTION:
URL:https://midlandunitedmethodist.com/event/finance-committee-meeting-2-2025-02-11-73/
LOCATION:Midland United Methodist Church\, 10235 County Rd KP\, Mazomanie\, WI\, 53560\, United States
ORGANIZER;CN="Midland UMC":MAILTO:midlandumc@gmail.com
GEO:43.1501599;-89.775204
X-APPLE-STRUCTURED-LOCATION;VALUE=URI;X-ADDRESS=Midland United Methodist Church 10235 County Rd KP Mazomanie WI 53560 United States;X-APPLE-RADIUS=500;X-TITLE=10235 County Rd KP:geo:-89.775204,43.1501599
END:VEVENT
BEGIN:VEVENT
DTSTART;TZID=America/Chicago:20250513T170000
DTEND;TZID=America/Chicago:20250513T180000
DTSTAMP:20260422T064148
CREATED:20240811T154849Z
LAST-MODIFIED:20240811T154849Z
UID:10029231-1747155600-1747159200@midlandunitedmethodist.com
SUMMARY:Finance Committee Budget Meeting
DESCRIPTION:
URL:https://midlandunitedmethodist.com/event/finance-committee-meeting-2-2025-04-08-197/
LOCATION:Midland United Methodist Church\, 10235 County Rd KP\, Mazomanie\, WI\, 53560\, United States
ORGANIZER;CN="Midland UMC":MAILTO:midlandumc@gmail.com
GEO:43.1501599;-89.775204
X-APPLE-STRUCTURED-LOCATION;VALUE=URI;X-ADDRESS=Midland United Methodist Church 10235 County Rd KP Mazomanie WI 53560 United States;X-APPLE-RADIUS=500;X-TITLE=10235 County Rd KP:geo:-89.775204,43.1501599
END:VEVENT
BEGIN:VEVENT
DTSTART;TZID=America/Chicago:20250513T170000
DTEND;TZID=America/Chicago:20250513T180000
DTSTAMP:20260422T064148
CREATED:20240811T154849Z
LAST-MODIFIED:20240811T154849Z
UID:10027146-1747155600-1747159200@midlandunitedmethodist.com
SUMMARY:Finance Committee Budget Meeting
DESCRIPTION:
URL:https://midlandunitedmethodist.com/event/finance-committee-meeting-2-2025-04-08-128/
LOCATION:Midland United Methodist Church\, 10235 County Rd KP\, Mazomanie\, WI\, 53560\, United States
ORGANIZER;CN="Midland UMC":MAILTO:midlandumc@gmail.com
GEO:43.1501599;-89.775204
X-APPLE-STRUCTURED-LOCATION;VALUE=URI;X-ADDRESS=Midland United Methodist Church 10235 County Rd KP Mazomanie WI 53560 United States;X-APPLE-RADIUS=500;X-TITLE=10235 County Rd KP:geo:-89.775204,43.1501599
END:VEVENT
BEGIN:VEVENT
DTSTART;TZID=America/Chicago:20250513T170000
DTEND;TZID=America/Chicago:20250513T180000
DTSTAMP:20260422T064148
CREATED:20240811T154849Z
LAST-MODIFIED:20240811T154849Z
UID:10004700-1747155600-1747159200@midlandunitedmethodist.com
SUMMARY:Finance Committee Budget Meeting
DESCRIPTION:
URL:https://midlandunitedmethodist.com/event/finance-committee-meeting-2-2024-10-08-4/
LOCATION:Midland United Methodist Church\, 10235 County Rd KP\, Mazomanie\, WI\, 53560\, United States
ORGANIZER;CN="Midland UMC":MAILTO:midlandumc@gmail.com
GEO:43.1501599;-89.775204
X-APPLE-STRUCTURED-LOCATION;VALUE=URI;X-ADDRESS=Midland United Methodist Church 10235 County Rd KP Mazomanie WI 53560 United States;X-APPLE-RADIUS=500;X-TITLE=10235 County Rd KP:geo:-89.775204,43.1501599
END:VEVENT
BEGIN:VEVENT
DTSTART;TZID=America/Chicago:20250513T170000
DTEND;TZID=America/Chicago:20250513T180000
DTSTAMP:20260422T064148
CREATED:20240811T154849Z
LAST-MODIFIED:20240811T154849Z
UID:10000623-1747155600-1747159200@midlandunitedmethodist.com
SUMMARY:Finance Committee Budget Meeting
DESCRIPTION:
URL:https://midlandunitedmethodist.com/event/finance-committee-meeting-2-2025-01-14/
LOCATION:Midland United Methodist Church\, 10235 County Rd KP\, Mazomanie\, WI\, 53560\, United States
ORGANIZER;CN="Midland UMC":MAILTO:midlandumc@gmail.com
GEO:43.1501599;-89.775204
X-APPLE-STRUCTURED-LOCATION;VALUE=URI;X-ADDRESS=Midland United Methodist Church 10235 County Rd KP Mazomanie WI 53560 United States;X-APPLE-RADIUS=500;X-TITLE=10235 County Rd KP:geo:-89.775204,43.1501599
END:VEVENT
BEGIN:VEVENT
DTSTART;TZID=America/Chicago:20250603T180000
DTEND;TZID=America/Chicago:20250603T190000
DTSTAMP:20260422T064148
CREATED:20250601T161806Z
LAST-MODIFIED:20250601T161806Z
UID:10004959-1748973600-1748977200@midlandunitedmethodist.com
SUMMARY:6/3/2025 SPRC
DESCRIPTION:Guest Speaker Memory Cafe
URL:https://midlandunitedmethodist.com/event/6-3-2025-sprc/
LOCATION:Midland United Methodist Church\, 10235 County Rd KP\, Mazomanie\, WI\, 53560\, United States
ORGANIZER;CN="Midland UMC":MAILTO:midlandumc@gmail.com
GEO:43.1501599;-89.775204
X-APPLE-STRUCTURED-LOCATION;VALUE=URI;X-ADDRESS=Midland United Methodist Church 10235 County Rd KP Mazomanie WI 53560 United States;X-APPLE-RADIUS=500;X-TITLE=10235 County Rd KP:geo:-89.775204,43.1501599
END:VEVENT
BEGIN:VEVENT
DTSTART;VALUE=DATE:20250605
DTEND;VALUE=DATE:20250609
DTSTAMP:20260422T064148
CREATED:20250601T161916Z
LAST-MODIFIED:20250601T161916Z
UID:10004960-1749081600-1749427199@midlandunitedmethodist.com
SUMMARY:Annual Conference
DESCRIPTION:Middleton Marriot
URL:https://midlandunitedmethodist.com/event/annual-conference/
LOCATION:Midland United Methodist Church\, 10235 County Rd KP\, Mazomanie\, WI\, 53560\, United States
ORGANIZER;CN="Midland UMC":MAILTO:midlandumc@gmail.com
GEO:43.1501599;-89.775204
X-APPLE-STRUCTURED-LOCATION;VALUE=URI;X-ADDRESS=Midland United Methodist Church 10235 County Rd KP Mazomanie WI 53560 United States;X-APPLE-RADIUS=500;X-TITLE=10235 County Rd KP:geo:-89.775204,43.1501599
END:VEVENT
BEGIN:VEVENT
DTSTART;TZID=America/Chicago:20250607T080000
DTEND;TZID=America/Chicago:20250607T120000
DTSTAMP:20260422T064148
CREATED:20250601T162226Z
LAST-MODIFIED:20250601T162226Z
UID:10004961-1749283200-1749297600@midlandunitedmethodist.com
SUMMARY:Blood Drive
DESCRIPTION:
URL:https://midlandunitedmethodist.com/event/blood-drive/
LOCATION:Midland United Methodist Church\, 10235 County Rd KP\, Mazomanie\, WI\, 53560\, United States
ORGANIZER;CN="Midland UMC":MAILTO:midlandumc@gmail.com
GEO:43.1501599;-89.775204
X-APPLE-STRUCTURED-LOCATION;VALUE=URI;X-ADDRESS=Midland United Methodist Church 10235 County Rd KP Mazomanie WI 53560 United States;X-APPLE-RADIUS=500;X-TITLE=10235 County Rd KP:geo:-89.775204,43.1501599
END:VEVENT
BEGIN:VEVENT
DTSTART;TZID=America/Chicago:20250610T170000
DTEND;TZID=America/Chicago:20250610T180000
DTSTAMP:20260422T064148
CREATED:20240811T154849Z
LAST-MODIFIED:20240811T154849Z
UID:10005033-1749574800-1749578400@midlandunitedmethodist.com
SUMMARY:Finance Committee Budget Meeting
DESCRIPTION:
URL:https://midlandunitedmethodist.com/event/finance-committee-meeting-2-2025-03-11-4/
LOCATION:Midland United Methodist Church\, 10235 County Rd KP\, Mazomanie\, WI\, 53560\, United States
ORGANIZER;CN="Midland UMC":MAILTO:midlandumc@gmail.com
GEO:43.1501599;-89.775204
X-APPLE-STRUCTURED-LOCATION;VALUE=URI;X-ADDRESS=Midland United Methodist Church 10235 County Rd KP Mazomanie WI 53560 United States;X-APPLE-RADIUS=500;X-TITLE=10235 County Rd KP:geo:-89.775204,43.1501599
END:VEVENT
BEGIN:VEVENT
DTSTART;TZID=America/Chicago:20250610T170000
DTEND;TZID=America/Chicago:20250610T180000
DTSTAMP:20260422T064148
CREATED:20240811T154849Z
LAST-MODIFIED:20240811T154849Z
UID:10000934-1749574800-1749578400@midlandunitedmethodist.com
SUMMARY:Finance Committee Budget Meeting
DESCRIPTION:
URL:https://midlandunitedmethodist.com/event/finance-committee-meeting-2-2025-06-10/
LOCATION:Midland United Methodist Church\, 10235 County Rd KP\, Mazomanie\, WI\, 53560\, United States
ORGANIZER;CN="Midland UMC":MAILTO:midlandumc@gmail.com
GEO:43.1501599;-89.775204
X-APPLE-STRUCTURED-LOCATION;VALUE=URI;X-ADDRESS=Midland United Methodist Church 10235 County Rd KP Mazomanie WI 53560 United States;X-APPLE-RADIUS=500;X-TITLE=10235 County Rd KP:geo:-89.775204,43.1501599
END:VEVENT
BEGIN:VEVENT
DTSTART;TZID=America/Chicago:20250610T170000
DTEND;TZID=America/Chicago:20250610T180000
DTSTAMP:20260422T064148
CREATED:20240811T154849Z
LAST-MODIFIED:20240811T154849Z
UID:10027839-1749574800-1749578400@midlandunitedmethodist.com
SUMMARY:Finance Committee Budget Meeting
DESCRIPTION:
URL:https://midlandunitedmethodist.com/event/finance-committee-meeting-2-2025-05-13-131/
LOCATION:Midland United Methodist Church\, 10235 County Rd KP\, Mazomanie\, WI\, 53560\, United States
ORGANIZER;CN="Midland UMC":MAILTO:midlandumc@gmail.com
GEO:43.1501599;-89.775204
X-APPLE-STRUCTURED-LOCATION;VALUE=URI;X-ADDRESS=Midland United Methodist Church 10235 County Rd KP Mazomanie WI 53560 United States;X-APPLE-RADIUS=500;X-TITLE=10235 County Rd KP:geo:-89.775204,43.1501599
END:VEVENT
BEGIN:VEVENT
DTSTART;TZID=America/Chicago:20250610T170000
DTEND;TZID=America/Chicago:20250610T180000
DTSTAMP:20260422T064148
CREATED:20240811T154849Z
LAST-MODIFIED:20240811T154849Z
UID:10025760-1749574800-1749578400@midlandunitedmethodist.com
SUMMARY:Finance Committee Budget Meeting
DESCRIPTION:
URL:https://midlandunitedmethodist.com/event/finance-committee-meeting-2-2025-02-11-122/
LOCATION:Midland United Methodist Church\, 10235 County Rd KP\, Mazomanie\, WI\, 53560\, United States
ORGANIZER;CN="Midland UMC":MAILTO:midlandumc@gmail.com
GEO:43.1501599;-89.775204
X-APPLE-STRUCTURED-LOCATION;VALUE=URI;X-ADDRESS=Midland United Methodist Church 10235 County Rd KP Mazomanie WI 53560 United States;X-APPLE-RADIUS=500;X-TITLE=10235 County Rd KP:geo:-89.775204,43.1501599
END:VEVENT
BEGIN:VEVENT
DTSTART;TZID=America/Chicago:20250610T170000
DTEND;TZID=America/Chicago:20250610T180000
DTSTAMP:20260422T064148
CREATED:20240811T154849Z
LAST-MODIFIED:20240811T154849Z
UID:10007213-1749574800-1749578400@midlandunitedmethodist.com
SUMMARY:Finance Committee Budget Meeting
DESCRIPTION:
URL:https://midlandunitedmethodist.com/event/finance-committee-meeting-2-2025-03-11-6/
LOCATION:Midland United Methodist Church\, 10235 County Rd KP\, Mazomanie\, WI\, 53560\, United States
ORGANIZER;CN="Midland UMC":MAILTO:midlandumc@gmail.com
GEO:43.1501599;-89.775204
X-APPLE-STRUCTURED-LOCATION;VALUE=URI;X-ADDRESS=Midland United Methodist Church 10235 County Rd KP Mazomanie WI 53560 United States;X-APPLE-RADIUS=500;X-TITLE=10235 County Rd KP:geo:-89.775204,43.1501599
END:VEVENT
BEGIN:VEVENT
DTSTART;TZID=America/Chicago:20250610T170000
DTEND;TZID=America/Chicago:20250610T180000
DTSTAMP:20260422T064148
CREATED:20240811T154849Z
LAST-MODIFIED:20240811T154849Z
UID:10009393-1749574800-1749578400@midlandunitedmethodist.com
SUMMARY:Finance Committee Budget Meeting
DESCRIPTION:
URL:https://midlandunitedmethodist.com/event/finance-committee-meeting-2-2025-03-11-8/
LOCATION:Midland United Methodist Church\, 10235 County Rd KP\, Mazomanie\, WI\, 53560\, United States
ORGANIZER;CN="Midland UMC":MAILTO:midlandumc@gmail.com
GEO:43.1501599;-89.775204
X-APPLE-STRUCTURED-LOCATION;VALUE=URI;X-ADDRESS=Midland United Methodist Church 10235 County Rd KP Mazomanie WI 53560 United States;X-APPLE-RADIUS=500;X-TITLE=10235 County Rd KP:geo:-89.775204,43.1501599
END:VEVENT
BEGIN:VEVENT
DTSTART;TZID=America/Chicago:20250610T170000
DTEND;TZID=America/Chicago:20250610T180000
DTSTAMP:20260422T064148
CREATED:20240811T154849Z
LAST-MODIFIED:20240811T154849Z
UID:10011573-1749574800-1749578400@midlandunitedmethodist.com
SUMMARY:Finance Committee Budget Meeting
DESCRIPTION:
URL:https://midlandunitedmethodist.com/event/finance-committee-meeting-2-2025-03-11-10/
LOCATION:Midland United Methodist Church\, 10235 County Rd KP\, Mazomanie\, WI\, 53560\, United States
ORGANIZER;CN="Midland UMC":MAILTO:midlandumc@gmail.com
GEO:43.1501599;-89.775204
X-APPLE-STRUCTURED-LOCATION;VALUE=URI;X-ADDRESS=Midland United Methodist Church 10235 County Rd KP Mazomanie WI 53560 United States;X-APPLE-RADIUS=500;X-TITLE=10235 County Rd KP:geo:-89.775204,43.1501599
END:VEVENT
BEGIN:VEVENT
DTSTART;TZID=America/Chicago:20250610T170000
DTEND;TZID=America/Chicago:20250610T180000
DTSTAMP:20260422T064148
CREATED:20240811T154849Z
LAST-MODIFIED:20240811T154849Z
UID:10023955-1749574800-1749578400@midlandunitedmethodist.com
SUMMARY:Finance Committee Budget Meeting
DESCRIPTION:
URL:https://midlandunitedmethodist.com/event/finance-committee-meeting-2-2025-02-11-74/
LOCATION:Midland United Methodist Church\, 10235 County Rd KP\, Mazomanie\, WI\, 53560\, United States
ORGANIZER;CN="Midland UMC":MAILTO:midlandumc@gmail.com
GEO:43.1501599;-89.775204
X-APPLE-STRUCTURED-LOCATION;VALUE=URI;X-ADDRESS=Midland United Methodist Church 10235 County Rd KP Mazomanie WI 53560 United States;X-APPLE-RADIUS=500;X-TITLE=10235 County Rd KP:geo:-89.775204,43.1501599
END:VEVENT
BEGIN:VEVENT
DTSTART;TZID=America/Chicago:20250610T170000
DTEND;TZID=America/Chicago:20250610T180000
DTSTAMP:20260422T064148
CREATED:20240811T154849Z
LAST-MODIFIED:20240811T154849Z
UID:10003343-1749574800-1749578400@midlandunitedmethodist.com
SUMMARY:Finance Committee Budget Meeting
DESCRIPTION:
URL:https://midlandunitedmethodist.com/event/finance-committee-meeting-2-2024-11-12-3/
LOCATION:Midland United Methodist Church\, 10235 County Rd KP\, Mazomanie\, WI\, 53560\, United States
ORGANIZER;CN="Midland UMC":MAILTO:midlandumc@gmail.com
GEO:43.1501599;-89.775204
X-APPLE-STRUCTURED-LOCATION;VALUE=URI;X-ADDRESS=Midland United Methodist Church 10235 County Rd KP Mazomanie WI 53560 United States;X-APPLE-RADIUS=500;X-TITLE=10235 County Rd KP:geo:-89.775204,43.1501599
END:VEVENT
BEGIN:VEVENT
DTSTART;TZID=America/Chicago:20250610T170000
DTEND;TZID=America/Chicago:20250610T180000
DTSTAMP:20260422T064148
CREATED:20240811T154849Z
LAST-MODIFIED:20240811T154849Z
UID:10013753-1749574800-1749578400@midlandunitedmethodist.com
SUMMARY:Finance Committee Budget Meeting
DESCRIPTION:
URL:https://midlandunitedmethodist.com/event/finance-committee-meeting-2-2025-03-11-12/
LOCATION:Midland United Methodist Church\, 10235 County Rd KP\, Mazomanie\, WI\, 53560\, United States
ORGANIZER;CN="Midland UMC":MAILTO:midlandumc@gmail.com
GEO:43.1501599;-89.775204
X-APPLE-STRUCTURED-LOCATION;VALUE=URI;X-ADDRESS=Midland United Methodist Church 10235 County Rd KP Mazomanie WI 53560 United States;X-APPLE-RADIUS=500;X-TITLE=10235 County Rd KP:geo:-89.775204,43.1501599
END:VEVENT
BEGIN:VEVENT
DTSTART;TZID=America/Chicago:20250610T170000
DTEND;TZID=America/Chicago:20250610T180000
DTSTAMP:20260422T064148
CREATED:20240811T154849Z
LAST-MODIFIED:20240811T154849Z
UID:10028280-1749574800-1749578400@midlandunitedmethodist.com
SUMMARY:Finance Committee Budget Meeting
DESCRIPTION:
URL:https://midlandunitedmethodist.com/event/finance-committee-meeting-2-2025-02-11-141/
LOCATION:Midland United Methodist Church\, 10235 County Rd KP\, Mazomanie\, WI\, 53560\, United States
ORGANIZER;CN="Midland UMC":MAILTO:midlandumc@gmail.com
GEO:43.1501599;-89.775204
X-APPLE-STRUCTURED-LOCATION;VALUE=URI;X-ADDRESS=Midland United Methodist Church 10235 County Rd KP Mazomanie WI 53560 United States;X-APPLE-RADIUS=500;X-TITLE=10235 County Rd KP:geo:-89.775204,43.1501599
END:VEVENT
BEGIN:VEVENT
DTSTART;TZID=America/Chicago:20250610T170000
DTEND;TZID=America/Chicago:20250610T180000
DTSTAMP:20260422T064148
CREATED:20240811T154849Z
LAST-MODIFIED:20240811T154849Z
UID:10028539-1749574800-1749578400@midlandunitedmethodist.com
SUMMARY:Finance Committee Budget Meeting
DESCRIPTION:
URL:https://midlandunitedmethodist.com/event/finance-committee-meeting-2-2025-03-11-195/
LOCATION:Midland United Methodist Church\, 10235 County Rd KP\, Mazomanie\, WI\, 53560\, United States
ORGANIZER;CN="Midland UMC":MAILTO:midlandumc@gmail.com
GEO:43.1501599;-89.775204
X-APPLE-STRUCTURED-LOCATION;VALUE=URI;X-ADDRESS=Midland United Methodist Church 10235 County Rd KP Mazomanie WI 53560 United States;X-APPLE-RADIUS=500;X-TITLE=10235 County Rd KP:geo:-89.775204,43.1501599
END:VEVENT
BEGIN:VEVENT
DTSTART;TZID=America/Chicago:20250610T170000
DTEND;TZID=America/Chicago:20250610T180000
DTSTAMP:20260422T064148
CREATED:20240811T154849Z
LAST-MODIFIED:20240811T154849Z
UID:10026454-1749574800-1749578400@midlandunitedmethodist.com
SUMMARY:Finance Committee Budget Meeting
DESCRIPTION:
URL:https://midlandunitedmethodist.com/event/finance-committee-meeting-2-2025-03-11-124/
LOCATION:Midland United Methodist Church\, 10235 County Rd KP\, Mazomanie\, WI\, 53560\, United States
ORGANIZER;CN="Midland UMC":MAILTO:midlandumc@gmail.com
GEO:43.1501599;-89.775204
X-APPLE-STRUCTURED-LOCATION;VALUE=URI;X-ADDRESS=Midland United Methodist Church 10235 County Rd KP Mazomanie WI 53560 United States;X-APPLE-RADIUS=500;X-TITLE=10235 County Rd KP:geo:-89.775204,43.1501599
END:VEVENT
BEGIN:VEVENT
DTSTART;TZID=America/Chicago:20250610T170000
DTEND;TZID=America/Chicago:20250610T180000
DTSTAMP:20260422T064148
CREATED:20240811T154849Z
LAST-MODIFIED:20240811T154849Z
UID:10001984-1749574800-1749578400@midlandunitedmethodist.com
SUMMARY:Finance Committee Budget Meeting
DESCRIPTION:
URL:https://midlandunitedmethodist.com/event/finance-committee-meeting-2-2024-12-10-2/
LOCATION:Midland United Methodist Church\, 10235 County Rd KP\, Mazomanie\, WI\, 53560\, United States
ORGANIZER;CN="Midland UMC":MAILTO:midlandumc@gmail.com
GEO:43.1501599;-89.775204
X-APPLE-STRUCTURED-LOCATION;VALUE=URI;X-ADDRESS=Midland United Methodist Church 10235 County Rd KP Mazomanie WI 53560 United States;X-APPLE-RADIUS=500;X-TITLE=10235 County Rd KP:geo:-89.775204,43.1501599
END:VEVENT
BEGIN:VEVENT
DTSTART;TZID=America/Chicago:20250610T170000
DTEND;TZID=America/Chicago:20250610T180000
DTSTAMP:20260422T064148
CREATED:20240811T154849Z
LAST-MODIFIED:20240811T154849Z
UID:10022845-1749574800-1749578400@midlandunitedmethodist.com
SUMMARY:Finance Committee Budget Meeting
DESCRIPTION:
URL:https://midlandunitedmethodist.com/event/finance-committee-meeting-2-2025-02-11-73/
LOCATION:Midland United Methodist Church\, 10235 County Rd KP\, Mazomanie\, WI\, 53560\, United States
ORGANIZER;CN="Midland UMC":MAILTO:midlandumc@gmail.com
GEO:43.1501599;-89.775204
X-APPLE-STRUCTURED-LOCATION;VALUE=URI;X-ADDRESS=Midland United Methodist Church 10235 County Rd KP Mazomanie WI 53560 United States;X-APPLE-RADIUS=500;X-TITLE=10235 County Rd KP:geo:-89.775204,43.1501599
END:VEVENT
BEGIN:VEVENT
DTSTART;TZID=America/Chicago:20250610T170000
DTEND;TZID=America/Chicago:20250610T180000
DTSTAMP:20260422T064148
CREATED:20240811T154849Z
LAST-MODIFIED:20240811T154849Z
UID:10029232-1749574800-1749578400@midlandunitedmethodist.com
SUMMARY:Finance Committee Budget Meeting
DESCRIPTION:
URL:https://midlandunitedmethodist.com/event/finance-committee-meeting-2-2025-04-08-197/
LOCATION:Midland United Methodist Church\, 10235 County Rd KP\, Mazomanie\, WI\, 53560\, United States
ORGANIZER;CN="Midland UMC":MAILTO:midlandumc@gmail.com
GEO:43.1501599;-89.775204
X-APPLE-STRUCTURED-LOCATION;VALUE=URI;X-ADDRESS=Midland United Methodist Church 10235 County Rd KP Mazomanie WI 53560 United States;X-APPLE-RADIUS=500;X-TITLE=10235 County Rd KP:geo:-89.775204,43.1501599
END:VEVENT
BEGIN:VEVENT
DTSTART;TZID=America/Chicago:20250610T170000
DTEND;TZID=America/Chicago:20250610T180000
DTSTAMP:20260422T064148
CREATED:20240811T154849Z
LAST-MODIFIED:20240811T154849Z
UID:10027147-1749574800-1749578400@midlandunitedmethodist.com
SUMMARY:Finance Committee Budget Meeting
DESCRIPTION:
URL:https://midlandunitedmethodist.com/event/finance-committee-meeting-2-2025-04-08-128/
LOCATION:Midland United Methodist Church\, 10235 County Rd KP\, Mazomanie\, WI\, 53560\, United States
ORGANIZER;CN="Midland UMC":MAILTO:midlandumc@gmail.com
GEO:43.1501599;-89.775204
X-APPLE-STRUCTURED-LOCATION;VALUE=URI;X-ADDRESS=Midland United Methodist Church 10235 County Rd KP Mazomanie WI 53560 United States;X-APPLE-RADIUS=500;X-TITLE=10235 County Rd KP:geo:-89.775204,43.1501599
END:VEVENT
END:VCALENDAR