BEGIN:VCALENDAR
VERSION:2.0
PRODID:-//Midland United Methodist Church - ECPv6.15.20//NONSGML v1.0//EN
CALSCALE:GREGORIAN
METHOD:PUBLISH
X-ORIGINAL-URL:https://midlandunitedmethodist.com
X-WR-CALDESC:Events for Midland United Methodist Church
REFRESH-INTERVAL;VALUE=DURATION:PT1H
X-Robots-Tag:noindex
X-PUBLISHED-TTL:PT1H
BEGIN:VTIMEZONE
TZID:America/Chicago
BEGIN:DAYLIGHT
TZOFFSETFROM:-0600
TZOFFSETTO:-0500
TZNAME:CDT
DTSTART:20220313T080000
END:DAYLIGHT
BEGIN:STANDARD
TZOFFSETFROM:-0500
TZOFFSETTO:-0600
TZNAME:CST
DTSTART:20221106T070000
END:STANDARD
BEGIN:DAYLIGHT
TZOFFSETFROM:-0600
TZOFFSETTO:-0500
TZNAME:CDT
DTSTART:20230312T080000
END:DAYLIGHT
BEGIN:STANDARD
TZOFFSETFROM:-0500
TZOFFSETTO:-0600
TZNAME:CST
DTSTART:20231105T070000
END:STANDARD
BEGIN:DAYLIGHT
TZOFFSETFROM:-0600
TZOFFSETTO:-0500
TZNAME:CDT
DTSTART:20240310T080000
END:DAYLIGHT
BEGIN:STANDARD
TZOFFSETFROM:-0500
TZOFFSETTO:-0600
TZNAME:CST
DTSTART:20241103T070000
END:STANDARD
END:VTIMEZONE
BEGIN:VEVENT
DTSTART;TZID=America/Chicago:20230423T081500
DTEND;TZID=America/Chicago:20230423T093000
DTSTAMP:20260422T212226
CREATED:20220903T165049Z
LAST-MODIFIED:20220903T165049Z
UID:10000279-1682237700-1682242200@midlandunitedmethodist.com
SUMMARY:Adult Sunday School
DESCRIPTION:
URL:https://midlandunitedmethodist.com/event/adult-sunday-school/2023-04-23/
LOCATION:Midland United Methodist Church\, 10235 County Rd KP\, Mazomanie\, WI\, 53560\, United States
ORGANIZER;CN="Midland UMC":MAILTO:midlandumc@gmail.com
GEO:43.1501599;-89.775204
X-APPLE-STRUCTURED-LOCATION;VALUE=URI;X-ADDRESS=Midland United Methodist Church 10235 County Rd KP Mazomanie WI 53560 United States;X-APPLE-RADIUS=500;X-TITLE=10235 County Rd KP:geo:-89.775204,43.1501599
END:VEVENT
BEGIN:VEVENT
DTSTART;TZID=America/Chicago:20230423T093000
DTEND;TZID=America/Chicago:20230423T103000
DTSTAMP:20260422T212226
CREATED:20220729T132447Z
LAST-MODIFIED:20221117T160039Z
UID:10000201-1682242200-1682245800@midlandunitedmethodist.com
SUMMARY:Worship
DESCRIPTION:A blended\, multi-sensory worship experience that offers a variety of music and worship elements such as drama\, which allows God’s Word to be heard in a way that relates to people today.
URL:https://midlandunitedmethodist.com/event/worship/2023-04-23/
LOCATION:Midland United Methodist Church\, 10235 County Rd KP\, Mazomanie\, WI\, 53560\, United States
CATEGORIES:Worship
GEO:43.1501599;-89.775204
X-APPLE-STRUCTURED-LOCATION;VALUE=URI;X-ADDRESS=Midland United Methodist Church 10235 County Rd KP Mazomanie WI 53560 United States;X-APPLE-RADIUS=500;X-TITLE=10235 County Rd KP:geo:-89.775204,43.1501599
END:VEVENT
BEGIN:VEVENT
DTSTART;TZID=America/Chicago:20230426T170000
DTEND;TZID=America/Chicago:20230426T180000
DTSTAMP:20260422T212227
CREATED:20230211T162018Z
LAST-MODIFIED:20230211T162941Z
UID:10000087-1682528400-1682532000@midlandunitedmethodist.com
SUMMARY:Confirmation Class
DESCRIPTION:Confirmation Class
URL:https://midlandunitedmethodist.com/event/confirmation-class/2023-04-26/
LOCATION:Midland United Methodist Church\, 10235 County Rd KP\, Mazomanie\, WI\, 53560\, United States
ORGANIZER;CN="Midland UMC":MAILTO:midlandumc@gmail.com
GEO:43.1501599;-89.775204
X-APPLE-STRUCTURED-LOCATION;VALUE=URI;X-ADDRESS=Midland United Methodist Church 10235 County Rd KP Mazomanie WI 53560 United States;X-APPLE-RADIUS=500;X-TITLE=10235 County Rd KP:geo:-89.775204,43.1501599
END:VEVENT
BEGIN:VEVENT
DTSTART;TZID=America/Chicago:20230430T081500
DTEND;TZID=America/Chicago:20230430T093000
DTSTAMP:20260422T212227
CREATED:20220903T165049Z
LAST-MODIFIED:20220903T165049Z
UID:10000280-1682842500-1682847000@midlandunitedmethodist.com
SUMMARY:Adult Sunday School
DESCRIPTION:
URL:https://midlandunitedmethodist.com/event/adult-sunday-school/2023-04-30/
LOCATION:Midland United Methodist Church\, 10235 County Rd KP\, Mazomanie\, WI\, 53560\, United States
ORGANIZER;CN="Midland UMC":MAILTO:midlandumc@gmail.com
GEO:43.1501599;-89.775204
X-APPLE-STRUCTURED-LOCATION;VALUE=URI;X-ADDRESS=Midland United Methodist Church 10235 County Rd KP Mazomanie WI 53560 United States;X-APPLE-RADIUS=500;X-TITLE=10235 County Rd KP:geo:-89.775204,43.1501599
END:VEVENT
BEGIN:VEVENT
DTSTART;TZID=America/Chicago:20230430T093000
DTEND;TZID=America/Chicago:20230430T103000
DTSTAMP:20260422T212227
CREATED:20220729T132447Z
LAST-MODIFIED:20221117T160039Z
UID:10000202-1682847000-1682850600@midlandunitedmethodist.com
SUMMARY:Worship
DESCRIPTION:A blended\, multi-sensory worship experience that offers a variety of music and worship elements such as drama\, which allows God’s Word to be heard in a way that relates to people today.
URL:https://midlandunitedmethodist.com/event/worship/2023-04-30/
LOCATION:Midland United Methodist Church\, 10235 County Rd KP\, Mazomanie\, WI\, 53560\, United States
CATEGORIES:Worship
GEO:43.1501599;-89.775204
X-APPLE-STRUCTURED-LOCATION;VALUE=URI;X-ADDRESS=Midland United Methodist Church 10235 County Rd KP Mazomanie WI 53560 United States;X-APPLE-RADIUS=500;X-TITLE=10235 County Rd KP:geo:-89.775204,43.1501599
END:VEVENT
BEGIN:VEVENT
DTSTART;TZID=America/Chicago:20230503T170000
DTEND;TZID=America/Chicago:20230503T180000
DTSTAMP:20260422T212227
CREATED:20230211T162018Z
LAST-MODIFIED:20230211T162941Z
UID:10000088-1683133200-1683136800@midlandunitedmethodist.com
SUMMARY:Confirmation Class
DESCRIPTION:Confirmation Class
URL:https://midlandunitedmethodist.com/event/confirmation-class/2023-05-03/
LOCATION:Midland United Methodist Church\, 10235 County Rd KP\, Mazomanie\, WI\, 53560\, United States
ORGANIZER;CN="Midland UMC":MAILTO:midlandumc@gmail.com
GEO:43.1501599;-89.775204
X-APPLE-STRUCTURED-LOCATION;VALUE=URI;X-ADDRESS=Midland United Methodist Church 10235 County Rd KP Mazomanie WI 53560 United States;X-APPLE-RADIUS=500;X-TITLE=10235 County Rd KP:geo:-89.775204,43.1501599
END:VEVENT
BEGIN:VEVENT
DTSTART;TZID=America/Chicago:20230507T081500
DTEND;TZID=America/Chicago:20230507T093000
DTSTAMP:20260422T212227
CREATED:20220903T165049Z
LAST-MODIFIED:20220903T165049Z
UID:10000281-1683447300-1683451800@midlandunitedmethodist.com
SUMMARY:Adult Sunday School
DESCRIPTION:
URL:https://midlandunitedmethodist.com/event/adult-sunday-school/2023-05-07/
LOCATION:Midland United Methodist Church\, 10235 County Rd KP\, Mazomanie\, WI\, 53560\, United States
ORGANIZER;CN="Midland UMC":MAILTO:midlandumc@gmail.com
GEO:43.1501599;-89.775204
X-APPLE-STRUCTURED-LOCATION;VALUE=URI;X-ADDRESS=Midland United Methodist Church 10235 County Rd KP Mazomanie WI 53560 United States;X-APPLE-RADIUS=500;X-TITLE=10235 County Rd KP:geo:-89.775204,43.1501599
END:VEVENT
BEGIN:VEVENT
DTSTART;TZID=America/Chicago:20230507T093000
DTEND;TZID=America/Chicago:20230507T103000
DTSTAMP:20260422T212227
CREATED:20220729T132447Z
LAST-MODIFIED:20221117T160039Z
UID:10000203-1683451800-1683455400@midlandunitedmethodist.com
SUMMARY:Worship
DESCRIPTION:A blended\, multi-sensory worship experience that offers a variety of music and worship elements such as drama\, which allows God’s Word to be heard in a way that relates to people today.
URL:https://midlandunitedmethodist.com/event/worship/2023-05-07/
LOCATION:Midland United Methodist Church\, 10235 County Rd KP\, Mazomanie\, WI\, 53560\, United States
CATEGORIES:Worship
GEO:43.1501599;-89.775204
X-APPLE-STRUCTURED-LOCATION;VALUE=URI;X-ADDRESS=Midland United Methodist Church 10235 County Rd KP Mazomanie WI 53560 United States;X-APPLE-RADIUS=500;X-TITLE=10235 County Rd KP:geo:-89.775204,43.1501599
END:VEVENT
BEGIN:VEVENT
DTSTART;TZID=America/Chicago:20230507T140000
DTEND;TZID=America/Chicago:20230507T153000
DTSTAMP:20260422T212227
CREATED:20230131T193400Z
LAST-MODIFIED:20230224T130629Z
UID:10000160-1683468000-1683473400@midlandunitedmethodist.com
SUMMARY:Midland Hymn Sing!
DESCRIPTION:Love to sing? Midland hosts in person Hymn Sings the first Sunday of the month from 2pm-3pm February through May 2023. Bring a friend and a list of requests!
URL:https://midlandunitedmethodist.com/event/midland-hymn-sing/2023-05-07/
LOCATION:Midland United Methodist Church\, 10235 County Rd KP\, Mazomanie\, WI\, 53560\, United States
ORGANIZER;CN="Midland UMC":MAILTO:midlandumc@gmail.com
GEO:43.1501599;-89.775204
X-APPLE-STRUCTURED-LOCATION;VALUE=URI;X-ADDRESS=Midland United Methodist Church 10235 County Rd KP Mazomanie WI 53560 United States;X-APPLE-RADIUS=500;X-TITLE=10235 County Rd KP:geo:-89.775204,43.1501599
END:VEVENT
BEGIN:VEVENT
DTSTART;TZID=America/Chicago:20230510T170000
DTEND;TZID=America/Chicago:20230510T180000
DTSTAMP:20260422T212227
CREATED:20230211T162018Z
LAST-MODIFIED:20230211T162941Z
UID:10000089-1683738000-1683741600@midlandunitedmethodist.com
SUMMARY:Confirmation Class
DESCRIPTION:Confirmation Class
URL:https://midlandunitedmethodist.com/event/confirmation-class/2023-05-10/
LOCATION:Midland United Methodist Church\, 10235 County Rd KP\, Mazomanie\, WI\, 53560\, United States
ORGANIZER;CN="Midland UMC":MAILTO:midlandumc@gmail.com
GEO:43.1501599;-89.775204
X-APPLE-STRUCTURED-LOCATION;VALUE=URI;X-ADDRESS=Midland United Methodist Church 10235 County Rd KP Mazomanie WI 53560 United States;X-APPLE-RADIUS=500;X-TITLE=10235 County Rd KP:geo:-89.775204,43.1501599
END:VEVENT
BEGIN:VEVENT
DTSTART;TZID=America/Chicago:20230514T081500
DTEND;TZID=America/Chicago:20230514T093000
DTSTAMP:20260422T212227
CREATED:20220903T165049Z
LAST-MODIFIED:20220903T165049Z
UID:10000282-1684052100-1684056600@midlandunitedmethodist.com
SUMMARY:Adult Sunday School
DESCRIPTION:
URL:https://midlandunitedmethodist.com/event/adult-sunday-school/2023-05-14/
LOCATION:Midland United Methodist Church\, 10235 County Rd KP\, Mazomanie\, WI\, 53560\, United States
ORGANIZER;CN="Midland UMC":MAILTO:midlandumc@gmail.com
GEO:43.1501599;-89.775204
X-APPLE-STRUCTURED-LOCATION;VALUE=URI;X-ADDRESS=Midland United Methodist Church 10235 County Rd KP Mazomanie WI 53560 United States;X-APPLE-RADIUS=500;X-TITLE=10235 County Rd KP:geo:-89.775204,43.1501599
END:VEVENT
BEGIN:VEVENT
DTSTART;TZID=America/Chicago:20230514T093000
DTEND;TZID=America/Chicago:20230514T103000
DTSTAMP:20260422T212227
CREATED:20220729T132447Z
LAST-MODIFIED:20221117T160039Z
UID:10000204-1684056600-1684060200@midlandunitedmethodist.com
SUMMARY:Worship
DESCRIPTION:A blended\, multi-sensory worship experience that offers a variety of music and worship elements such as drama\, which allows God’s Word to be heard in a way that relates to people today.
URL:https://midlandunitedmethodist.com/event/worship/2023-05-14/
LOCATION:Midland United Methodist Church\, 10235 County Rd KP\, Mazomanie\, WI\, 53560\, United States
CATEGORIES:Worship
GEO:43.1501599;-89.775204
X-APPLE-STRUCTURED-LOCATION;VALUE=URI;X-ADDRESS=Midland United Methodist Church 10235 County Rd KP Mazomanie WI 53560 United States;X-APPLE-RADIUS=500;X-TITLE=10235 County Rd KP:geo:-89.775204,43.1501599
END:VEVENT
BEGIN:VEVENT
DTSTART;TZID=America/Chicago:20230517T170000
DTEND;TZID=America/Chicago:20230517T180000
DTSTAMP:20260422T212227
CREATED:20230211T162018Z
LAST-MODIFIED:20230211T162941Z
UID:10000090-1684342800-1684346400@midlandunitedmethodist.com
SUMMARY:Confirmation Class
DESCRIPTION:Confirmation Class
URL:https://midlandunitedmethodist.com/event/confirmation-class/2023-05-17/
LOCATION:Midland United Methodist Church\, 10235 County Rd KP\, Mazomanie\, WI\, 53560\, United States
ORGANIZER;CN="Midland UMC":MAILTO:midlandumc@gmail.com
GEO:43.1501599;-89.775204
X-APPLE-STRUCTURED-LOCATION;VALUE=URI;X-ADDRESS=Midland United Methodist Church 10235 County Rd KP Mazomanie WI 53560 United States;X-APPLE-RADIUS=500;X-TITLE=10235 County Rd KP:geo:-89.775204,43.1501599
END:VEVENT
BEGIN:VEVENT
DTSTART;TZID=America/Chicago:20230518T183000
DTEND;TZID=America/Chicago:20230518T200000
DTSTAMP:20260422T212227
CREATED:20220903T164409Z
LAST-MODIFIED:20220903T164409Z
UID:10000104-1684434600-1684440000@midlandunitedmethodist.com
SUMMARY:UMW Meeting
DESCRIPTION:Midland UMW meeting will be held at 6:30 p.m. in the Community Room at the Church on Thursday\, September 15th.  Program Leader is Marilyn DeWitt and Hostess is Linda Richter.
URL:https://midlandunitedmethodist.com/event/umw-meeting/2023-05-18/
LOCATION:Midland United Methodist Church\, 10235 County Rd KP\, Mazomanie\, WI\, 53560\, United States
ORGANIZER;CN="Midland UMC":MAILTO:midlandumc@gmail.com
GEO:43.1501599;-89.775204
X-APPLE-STRUCTURED-LOCATION;VALUE=URI;X-ADDRESS=Midland United Methodist Church 10235 County Rd KP Mazomanie WI 53560 United States;X-APPLE-RADIUS=500;X-TITLE=10235 County Rd KP:geo:-89.775204,43.1501599
END:VEVENT
BEGIN:VEVENT
DTSTART;TZID=America/Chicago:20230521T081500
DTEND;TZID=America/Chicago:20230521T093000
DTSTAMP:20260422T212227
CREATED:20220903T165049Z
LAST-MODIFIED:20220903T165049Z
UID:10000283-1684656900-1684661400@midlandunitedmethodist.com
SUMMARY:Adult Sunday School
DESCRIPTION:
URL:https://midlandunitedmethodist.com/event/adult-sunday-school/2023-05-21/
LOCATION:Midland United Methodist Church\, 10235 County Rd KP\, Mazomanie\, WI\, 53560\, United States
ORGANIZER;CN="Midland UMC":MAILTO:midlandumc@gmail.com
GEO:43.1501599;-89.775204
X-APPLE-STRUCTURED-LOCATION;VALUE=URI;X-ADDRESS=Midland United Methodist Church 10235 County Rd KP Mazomanie WI 53560 United States;X-APPLE-RADIUS=500;X-TITLE=10235 County Rd KP:geo:-89.775204,43.1501599
END:VEVENT
BEGIN:VEVENT
DTSTART;TZID=America/Chicago:20230521T093000
DTEND;TZID=America/Chicago:20230521T103000
DTSTAMP:20260422T212227
CREATED:20220729T132447Z
LAST-MODIFIED:20221117T160039Z
UID:10000205-1684661400-1684665000@midlandunitedmethodist.com
SUMMARY:Worship
DESCRIPTION:A blended\, multi-sensory worship experience that offers a variety of music and worship elements such as drama\, which allows God’s Word to be heard in a way that relates to people today.
URL:https://midlandunitedmethodist.com/event/worship/2023-05-21/
LOCATION:Midland United Methodist Church\, 10235 County Rd KP\, Mazomanie\, WI\, 53560\, United States
CATEGORIES:Worship
GEO:43.1501599;-89.775204
X-APPLE-STRUCTURED-LOCATION;VALUE=URI;X-ADDRESS=Midland United Methodist Church 10235 County Rd KP Mazomanie WI 53560 United States;X-APPLE-RADIUS=500;X-TITLE=10235 County Rd KP:geo:-89.775204,43.1501599
END:VEVENT
BEGIN:VEVENT
DTSTART;TZID=America/Chicago:20230524T170000
DTEND;TZID=America/Chicago:20230524T180000
DTSTAMP:20260422T212227
CREATED:20230211T162018Z
LAST-MODIFIED:20230211T162941Z
UID:10000091-1684947600-1684951200@midlandunitedmethodist.com
SUMMARY:Confirmation Class
DESCRIPTION:Confirmation Class
URL:https://midlandunitedmethodist.com/event/confirmation-class/2023-05-24/
LOCATION:Midland United Methodist Church\, 10235 County Rd KP\, Mazomanie\, WI\, 53560\, United States
ORGANIZER;CN="Midland UMC":MAILTO:midlandumc@gmail.com
GEO:43.1501599;-89.775204
X-APPLE-STRUCTURED-LOCATION;VALUE=URI;X-ADDRESS=Midland United Methodist Church 10235 County Rd KP Mazomanie WI 53560 United States;X-APPLE-RADIUS=500;X-TITLE=10235 County Rd KP:geo:-89.775204,43.1501599
END:VEVENT
BEGIN:VEVENT
DTSTART;TZID=America/Chicago:20230528T081500
DTEND;TZID=America/Chicago:20230528T093000
DTSTAMP:20260422T212227
CREATED:20220903T165049Z
LAST-MODIFIED:20220903T165049Z
UID:10000284-1685261700-1685266200@midlandunitedmethodist.com
SUMMARY:Adult Sunday School
DESCRIPTION:
URL:https://midlandunitedmethodist.com/event/adult-sunday-school/2023-05-28/
LOCATION:Midland United Methodist Church\, 10235 County Rd KP\, Mazomanie\, WI\, 53560\, United States
ORGANIZER;CN="Midland UMC":MAILTO:midlandumc@gmail.com
GEO:43.1501599;-89.775204
X-APPLE-STRUCTURED-LOCATION;VALUE=URI;X-ADDRESS=Midland United Methodist Church 10235 County Rd KP Mazomanie WI 53560 United States;X-APPLE-RADIUS=500;X-TITLE=10235 County Rd KP:geo:-89.775204,43.1501599
END:VEVENT
BEGIN:VEVENT
DTSTART;TZID=America/Chicago:20230528T093000
DTEND;TZID=America/Chicago:20230528T103000
DTSTAMP:20260422T212227
CREATED:20220729T132447Z
LAST-MODIFIED:20221117T160039Z
UID:10000206-1685266200-1685269800@midlandunitedmethodist.com
SUMMARY:Worship
DESCRIPTION:A blended\, multi-sensory worship experience that offers a variety of music and worship elements such as drama\, which allows God’s Word to be heard in a way that relates to people today.
URL:https://midlandunitedmethodist.com/event/worship/2023-05-28/
LOCATION:Midland United Methodist Church\, 10235 County Rd KP\, Mazomanie\, WI\, 53560\, United States
CATEGORIES:Worship
GEO:43.1501599;-89.775204
X-APPLE-STRUCTURED-LOCATION;VALUE=URI;X-ADDRESS=Midland United Methodist Church 10235 County Rd KP Mazomanie WI 53560 United States;X-APPLE-RADIUS=500;X-TITLE=10235 County Rd KP:geo:-89.775204,43.1501599
END:VEVENT
BEGIN:VEVENT
DTSTART;TZID=America/Chicago:20230531T170000
DTEND;TZID=America/Chicago:20230531T180000
DTSTAMP:20260422T212227
CREATED:20230211T162018Z
LAST-MODIFIED:20230211T162941Z
UID:10000092-1685552400-1685556000@midlandunitedmethodist.com
SUMMARY:Confirmation Class
DESCRIPTION:Confirmation Class
URL:https://midlandunitedmethodist.com/event/confirmation-class/2023-05-31/
LOCATION:Midland United Methodist Church\, 10235 County Rd KP\, Mazomanie\, WI\, 53560\, United States
ORGANIZER;CN="Midland UMC":MAILTO:midlandumc@gmail.com
GEO:43.1501599;-89.775204
X-APPLE-STRUCTURED-LOCATION;VALUE=URI;X-ADDRESS=Midland United Methodist Church 10235 County Rd KP Mazomanie WI 53560 United States;X-APPLE-RADIUS=500;X-TITLE=10235 County Rd KP:geo:-89.775204,43.1501599
END:VEVENT
BEGIN:VEVENT
DTSTART;TZID=America/Chicago:20230604T093000
DTEND;TZID=America/Chicago:20230604T103000
DTSTAMP:20260422T212227
CREATED:20220729T132447Z
LAST-MODIFIED:20221117T160039Z
UID:10000207-1685871000-1685874600@midlandunitedmethodist.com
SUMMARY:Worship
DESCRIPTION:A blended\, multi-sensory worship experience that offers a variety of music and worship elements such as drama\, which allows God’s Word to be heard in a way that relates to people today.
URL:https://midlandunitedmethodist.com/event/worship/2023-06-04/
LOCATION:Midland United Methodist Church\, 10235 County Rd KP\, Mazomanie\, WI\, 53560\, United States
CATEGORIES:Worship
GEO:43.1501599;-89.775204
X-APPLE-STRUCTURED-LOCATION;VALUE=URI;X-ADDRESS=Midland United Methodist Church 10235 County Rd KP Mazomanie WI 53560 United States;X-APPLE-RADIUS=500;X-TITLE=10235 County Rd KP:geo:-89.775204,43.1501599
END:VEVENT
BEGIN:VEVENT
DTSTART;TZID=America/Chicago:20230611T093000
DTEND;TZID=America/Chicago:20230611T103000
DTSTAMP:20260422T212227
CREATED:20220729T132447Z
LAST-MODIFIED:20221117T160039Z
UID:10000208-1686475800-1686479400@midlandunitedmethodist.com
SUMMARY:Worship
DESCRIPTION:A blended\, multi-sensory worship experience that offers a variety of music and worship elements such as drama\, which allows God’s Word to be heard in a way that relates to people today.
URL:https://midlandunitedmethodist.com/event/worship/2023-06-11/
LOCATION:Midland United Methodist Church\, 10235 County Rd KP\, Mazomanie\, WI\, 53560\, United States
CATEGORIES:Worship
GEO:43.1501599;-89.775204
X-APPLE-STRUCTURED-LOCATION;VALUE=URI;X-ADDRESS=Midland United Methodist Church 10235 County Rd KP Mazomanie WI 53560 United States;X-APPLE-RADIUS=500;X-TITLE=10235 County Rd KP:geo:-89.775204,43.1501599
END:VEVENT
BEGIN:VEVENT
DTSTART;TZID=America/Chicago:20230615T183000
DTEND;TZID=America/Chicago:20230615T200000
DTSTAMP:20260422T212227
CREATED:20220903T164409Z
LAST-MODIFIED:20220903T164409Z
UID:10000105-1686853800-1686859200@midlandunitedmethodist.com
SUMMARY:UMW Meeting
DESCRIPTION:Midland UMW meeting will be held at 6:30 p.m. in the Community Room at the Church on Thursday\, September 15th.  Program Leader is Marilyn DeWitt and Hostess is Linda Richter.
URL:https://midlandunitedmethodist.com/event/umw-meeting/2023-06-15/
LOCATION:Midland United Methodist Church\, 10235 County Rd KP\, Mazomanie\, WI\, 53560\, United States
ORGANIZER;CN="Midland UMC":MAILTO:midlandumc@gmail.com
GEO:43.1501599;-89.775204
X-APPLE-STRUCTURED-LOCATION;VALUE=URI;X-ADDRESS=Midland United Methodist Church 10235 County Rd KP Mazomanie WI 53560 United States;X-APPLE-RADIUS=500;X-TITLE=10235 County Rd KP:geo:-89.775204,43.1501599
END:VEVENT
BEGIN:VEVENT
DTSTART;TZID=America/Chicago:20230618T093000
DTEND;TZID=America/Chicago:20230618T103000
DTSTAMP:20260422T212227
CREATED:20220729T132447Z
LAST-MODIFIED:20221117T160039Z
UID:10000209-1687080600-1687084200@midlandunitedmethodist.com
SUMMARY:Worship
DESCRIPTION:A blended\, multi-sensory worship experience that offers a variety of music and worship elements such as drama\, which allows God’s Word to be heard in a way that relates to people today.
URL:https://midlandunitedmethodist.com/event/worship/2023-06-18/
LOCATION:Midland United Methodist Church\, 10235 County Rd KP\, Mazomanie\, WI\, 53560\, United States
CATEGORIES:Worship
GEO:43.1501599;-89.775204
X-APPLE-STRUCTURED-LOCATION;VALUE=URI;X-ADDRESS=Midland United Methodist Church 10235 County Rd KP Mazomanie WI 53560 United States;X-APPLE-RADIUS=500;X-TITLE=10235 County Rd KP:geo:-89.775204,43.1501599
END:VEVENT
BEGIN:VEVENT
DTSTART;TZID=America/Chicago:20230625T093000
DTEND;TZID=America/Chicago:20230625T103000
DTSTAMP:20260422T212227
CREATED:20220729T132447Z
LAST-MODIFIED:20221117T160039Z
UID:10000210-1687685400-1687689000@midlandunitedmethodist.com
SUMMARY:Worship
DESCRIPTION:A blended\, multi-sensory worship experience that offers a variety of music and worship elements such as drama\, which allows God’s Word to be heard in a way that relates to people today.
URL:https://midlandunitedmethodist.com/event/worship/2023-06-25/
LOCATION:Midland United Methodist Church\, 10235 County Rd KP\, Mazomanie\, WI\, 53560\, United States
CATEGORIES:Worship
GEO:43.1501599;-89.775204
X-APPLE-STRUCTURED-LOCATION;VALUE=URI;X-ADDRESS=Midland United Methodist Church 10235 County Rd KP Mazomanie WI 53560 United States;X-APPLE-RADIUS=500;X-TITLE=10235 County Rd KP:geo:-89.775204,43.1501599
END:VEVENT
BEGIN:VEVENT
DTSTART;TZID=America/Chicago:20230702T093000
DTEND;TZID=America/Chicago:20230702T103000
DTSTAMP:20260422T212227
CREATED:20220729T132447Z
LAST-MODIFIED:20221117T160039Z
UID:10000211-1688290200-1688293800@midlandunitedmethodist.com
SUMMARY:Worship
DESCRIPTION:A blended\, multi-sensory worship experience that offers a variety of music and worship elements such as drama\, which allows God’s Word to be heard in a way that relates to people today.
URL:https://midlandunitedmethodist.com/event/worship/2023-07-02/
LOCATION:Midland United Methodist Church\, 10235 County Rd KP\, Mazomanie\, WI\, 53560\, United States
CATEGORIES:Worship
GEO:43.1501599;-89.775204
X-APPLE-STRUCTURED-LOCATION;VALUE=URI;X-ADDRESS=Midland United Methodist Church 10235 County Rd KP Mazomanie WI 53560 United States;X-APPLE-RADIUS=500;X-TITLE=10235 County Rd KP:geo:-89.775204,43.1501599
END:VEVENT
BEGIN:VEVENT
DTSTART;TZID=America/Chicago:20230709T093000
DTEND;TZID=America/Chicago:20230709T103000
DTSTAMP:20260422T212227
CREATED:20220729T132447Z
LAST-MODIFIED:20221117T160039Z
UID:10000212-1688895000-1688898600@midlandunitedmethodist.com
SUMMARY:Worship
DESCRIPTION:A blended\, multi-sensory worship experience that offers a variety of music and worship elements such as drama\, which allows God’s Word to be heard in a way that relates to people today.
URL:https://midlandunitedmethodist.com/event/worship/2023-07-09/
LOCATION:Midland United Methodist Church\, 10235 County Rd KP\, Mazomanie\, WI\, 53560\, United States
CATEGORIES:Worship
GEO:43.1501599;-89.775204
X-APPLE-STRUCTURED-LOCATION;VALUE=URI;X-ADDRESS=Midland United Methodist Church 10235 County Rd KP Mazomanie WI 53560 United States;X-APPLE-RADIUS=500;X-TITLE=10235 County Rd KP:geo:-89.775204,43.1501599
END:VEVENT
BEGIN:VEVENT
DTSTART;TZID=America/Chicago:20230716T093000
DTEND;TZID=America/Chicago:20230716T103000
DTSTAMP:20260422T212227
CREATED:20220729T132447Z
LAST-MODIFIED:20221117T160039Z
UID:10000213-1689499800-1689503400@midlandunitedmethodist.com
SUMMARY:Worship
DESCRIPTION:A blended\, multi-sensory worship experience that offers a variety of music and worship elements such as drama\, which allows God’s Word to be heard in a way that relates to people today.
URL:https://midlandunitedmethodist.com/event/worship/2023-07-16/
LOCATION:Midland United Methodist Church\, 10235 County Rd KP\, Mazomanie\, WI\, 53560\, United States
CATEGORIES:Worship
GEO:43.1501599;-89.775204
X-APPLE-STRUCTURED-LOCATION;VALUE=URI;X-ADDRESS=Midland United Methodist Church 10235 County Rd KP Mazomanie WI 53560 United States;X-APPLE-RADIUS=500;X-TITLE=10235 County Rd KP:geo:-89.775204,43.1501599
END:VEVENT
BEGIN:VEVENT
DTSTART;TZID=America/Chicago:20230720T183000
DTEND;TZID=America/Chicago:20230720T200000
DTSTAMP:20260422T212227
CREATED:20220903T164409Z
LAST-MODIFIED:20220903T164409Z
UID:10000106-1689877800-1689883200@midlandunitedmethodist.com
SUMMARY:UMW Meeting
DESCRIPTION:Midland UMW meeting will be held at 6:30 p.m. in the Community Room at the Church on Thursday\, September 15th.  Program Leader is Marilyn DeWitt and Hostess is Linda Richter.
URL:https://midlandunitedmethodist.com/event/umw-meeting/2023-07-20/
LOCATION:Midland United Methodist Church\, 10235 County Rd KP\, Mazomanie\, WI\, 53560\, United States
ORGANIZER;CN="Midland UMC":MAILTO:midlandumc@gmail.com
GEO:43.1501599;-89.775204
X-APPLE-STRUCTURED-LOCATION;VALUE=URI;X-ADDRESS=Midland United Methodist Church 10235 County Rd KP Mazomanie WI 53560 United States;X-APPLE-RADIUS=500;X-TITLE=10235 County Rd KP:geo:-89.775204,43.1501599
END:VEVENT
BEGIN:VEVENT
DTSTART;TZID=America/Chicago:20230723T093000
DTEND;TZID=America/Chicago:20230723T103000
DTSTAMP:20260422T212227
CREATED:20220729T132447Z
LAST-MODIFIED:20221117T160039Z
UID:10000214-1690104600-1690108200@midlandunitedmethodist.com
SUMMARY:Worship
DESCRIPTION:A blended\, multi-sensory worship experience that offers a variety of music and worship elements such as drama\, which allows God’s Word to be heard in a way that relates to people today.
URL:https://midlandunitedmethodist.com/event/worship/2023-07-23/
LOCATION:Midland United Methodist Church\, 10235 County Rd KP\, Mazomanie\, WI\, 53560\, United States
CATEGORIES:Worship
GEO:43.1501599;-89.775204
X-APPLE-STRUCTURED-LOCATION;VALUE=URI;X-ADDRESS=Midland United Methodist Church 10235 County Rd KP Mazomanie WI 53560 United States;X-APPLE-RADIUS=500;X-TITLE=10235 County Rd KP:geo:-89.775204,43.1501599
END:VEVENT
END:VCALENDAR