BEGIN:VCALENDAR
VERSION:2.0
PRODID:-//Midland United Methodist Church - ECPv6.15.20//NONSGML v1.0//EN
CALSCALE:GREGORIAN
METHOD:PUBLISH
X-ORIGINAL-URL:https://midlandunitedmethodist.com
X-WR-CALDESC:Events for Midland United Methodist Church
REFRESH-INTERVAL;VALUE=DURATION:PT1H
X-Robots-Tag:noindex
X-PUBLISHED-TTL:PT1H
BEGIN:VTIMEZONE
TZID:America/Chicago
BEGIN:DAYLIGHT
TZOFFSETFROM:-0600
TZOFFSETTO:-0500
TZNAME:CDT
DTSTART:20220313T080000
END:DAYLIGHT
BEGIN:STANDARD
TZOFFSETFROM:-0500
TZOFFSETTO:-0600
TZNAME:CST
DTSTART:20221106T070000
END:STANDARD
BEGIN:DAYLIGHT
TZOFFSETFROM:-0600
TZOFFSETTO:-0500
TZNAME:CDT
DTSTART:20230312T080000
END:DAYLIGHT
BEGIN:STANDARD
TZOFFSETFROM:-0500
TZOFFSETTO:-0600
TZNAME:CST
DTSTART:20231105T070000
END:STANDARD
BEGIN:DAYLIGHT
TZOFFSETFROM:-0600
TZOFFSETTO:-0500
TZNAME:CDT
DTSTART:20240310T080000
END:DAYLIGHT
BEGIN:STANDARD
TZOFFSETFROM:-0500
TZOFFSETTO:-0600
TZNAME:CST
DTSTART:20241103T070000
END:STANDARD
END:VTIMEZONE
BEGIN:VEVENT
DTSTART;TZID=America/Chicago:20230115T081500
DTEND;TZID=America/Chicago:20230115T093000
DTSTAMP:20260422T234336
CREATED:20220903T165049Z
LAST-MODIFIED:20220903T165049Z
UID:10000265-1673770500-1673775000@midlandunitedmethodist.com
SUMMARY:Adult Sunday School
DESCRIPTION:
URL:https://midlandunitedmethodist.com/event/adult-sunday-school/2023-01-15/
LOCATION:Midland United Methodist Church\, 10235 County Rd KP\, Mazomanie\, WI\, 53560\, United States
ORGANIZER;CN="Midland UMC":MAILTO:midlandumc@gmail.com
GEO:43.1501599;-89.775204
X-APPLE-STRUCTURED-LOCATION;VALUE=URI;X-ADDRESS=Midland United Methodist Church 10235 County Rd KP Mazomanie WI 53560 United States;X-APPLE-RADIUS=500;X-TITLE=10235 County Rd KP:geo:-89.775204,43.1501599
END:VEVENT
BEGIN:VEVENT
DTSTART;TZID=America/Chicago:20230115T093000
DTEND;TZID=America/Chicago:20230115T103000
DTSTAMP:20260422T234336
CREATED:20220729T132447Z
LAST-MODIFIED:20221117T160039Z
UID:10000187-1673775000-1673778600@midlandunitedmethodist.com
SUMMARY:Worship
DESCRIPTION:A blended\, multi-sensory worship experience that offers a variety of music and worship elements such as drama\, which allows God’s Word to be heard in a way that relates to people today.
URL:https://midlandunitedmethodist.com/event/worship/2023-01-15/
LOCATION:Midland United Methodist Church\, 10235 County Rd KP\, Mazomanie\, WI\, 53560\, United States
CATEGORIES:Worship
GEO:43.1501599;-89.775204
X-APPLE-STRUCTURED-LOCATION;VALUE=URI;X-ADDRESS=Midland United Methodist Church 10235 County Rd KP Mazomanie WI 53560 United States;X-APPLE-RADIUS=500;X-TITLE=10235 County Rd KP:geo:-89.775204,43.1501599
END:VEVENT
BEGIN:VEVENT
DTSTART;TZID=America/Chicago:20230119T183000
DTEND;TZID=America/Chicago:20230119T200000
DTSTAMP:20260422T234336
CREATED:20220903T164409Z
LAST-MODIFIED:20220903T164409Z
UID:10000100-1674153000-1674158400@midlandunitedmethodist.com
SUMMARY:UMW Meeting
DESCRIPTION:Midland UMW meeting will be held at 6:30 p.m. in the Community Room at the Church on Thursday\, September 15th.  Program Leader is Marilyn DeWitt and Hostess is Linda Richter.
URL:https://midlandunitedmethodist.com/event/umw-meeting/2023-01-19/
LOCATION:Midland United Methodist Church\, 10235 County Rd KP\, Mazomanie\, WI\, 53560\, United States
ORGANIZER;CN="Midland UMC":MAILTO:midlandumc@gmail.com
GEO:43.1501599;-89.775204
X-APPLE-STRUCTURED-LOCATION;VALUE=URI;X-ADDRESS=Midland United Methodist Church 10235 County Rd KP Mazomanie WI 53560 United States;X-APPLE-RADIUS=500;X-TITLE=10235 County Rd KP:geo:-89.775204,43.1501599
END:VEVENT
BEGIN:VEVENT
DTSTART;TZID=America/Chicago:20230122T081500
DTEND;TZID=America/Chicago:20230122T093000
DTSTAMP:20260422T234336
CREATED:20220903T165049Z
LAST-MODIFIED:20220903T165049Z
UID:10000266-1674375300-1674379800@midlandunitedmethodist.com
SUMMARY:Adult Sunday School
DESCRIPTION:
URL:https://midlandunitedmethodist.com/event/adult-sunday-school/2023-01-22/
LOCATION:Midland United Methodist Church\, 10235 County Rd KP\, Mazomanie\, WI\, 53560\, United States
ORGANIZER;CN="Midland UMC":MAILTO:midlandumc@gmail.com
GEO:43.1501599;-89.775204
X-APPLE-STRUCTURED-LOCATION;VALUE=URI;X-ADDRESS=Midland United Methodist Church 10235 County Rd KP Mazomanie WI 53560 United States;X-APPLE-RADIUS=500;X-TITLE=10235 County Rd KP:geo:-89.775204,43.1501599
END:VEVENT
BEGIN:VEVENT
DTSTART;TZID=America/Chicago:20230122T093000
DTEND;TZID=America/Chicago:20230122T103000
DTSTAMP:20260422T234336
CREATED:20220729T132447Z
LAST-MODIFIED:20221117T160039Z
UID:10000188-1674379800-1674383400@midlandunitedmethodist.com
SUMMARY:Worship
DESCRIPTION:A blended\, multi-sensory worship experience that offers a variety of music and worship elements such as drama\, which allows God’s Word to be heard in a way that relates to people today.
URL:https://midlandunitedmethodist.com/event/worship/2023-01-22/
LOCATION:Midland United Methodist Church\, 10235 County Rd KP\, Mazomanie\, WI\, 53560\, United States
CATEGORIES:Worship
GEO:43.1501599;-89.775204
X-APPLE-STRUCTURED-LOCATION;VALUE=URI;X-ADDRESS=Midland United Methodist Church 10235 County Rd KP Mazomanie WI 53560 United States;X-APPLE-RADIUS=500;X-TITLE=10235 County Rd KP:geo:-89.775204,43.1501599
END:VEVENT
BEGIN:VEVENT
DTSTART;TZID=America/Chicago:20230129T080000
DTEND;TZID=America/Chicago:20230129T100000
DTSTAMP:20260422T234336
CREATED:20221117T155749Z
LAST-MODIFIED:20221117T155749Z
UID:10000076-1674979200-1674986400@midlandunitedmethodist.com
SUMMARY:Happy Feet Sock Donations Due
DESCRIPTION:Happy Feet Sock Drive Due 1/29/23 \nHelp Midland UMC help Madison’s homeless community: At Happy Feet of Madison\, Inc\, we make a big difference in the lives of disadvantaged people by allowing them to focus on one less headache\, clean/new socks. We are deeply passionate about our cause\, and our goal is to regularly provide clean/new socks to every homeless person in Madison.
URL:https://midlandunitedmethodist.com/event/happy-feet-sock-donations-due/
LOCATION:Midland United Methodist Church\, 10235 County Rd KP\, Mazomanie\, WI\, 53560\, United States
ORGANIZER;CN="Midland UMC":MAILTO:midlandumc@gmail.com
GEO:43.1501599;-89.775204
X-APPLE-STRUCTURED-LOCATION;VALUE=URI;X-ADDRESS=Midland United Methodist Church 10235 County Rd KP Mazomanie WI 53560 United States;X-APPLE-RADIUS=500;X-TITLE=10235 County Rd KP:geo:-89.775204,43.1501599
END:VEVENT
BEGIN:VEVENT
DTSTART;TZID=America/Chicago:20230129T081500
DTEND;TZID=America/Chicago:20230129T093000
DTSTAMP:20260422T234336
CREATED:20220903T165049Z
LAST-MODIFIED:20220903T165049Z
UID:10000267-1674980100-1674984600@midlandunitedmethodist.com
SUMMARY:Adult Sunday School
DESCRIPTION:
URL:https://midlandunitedmethodist.com/event/adult-sunday-school/2023-01-29/
LOCATION:Midland United Methodist Church\, 10235 County Rd KP\, Mazomanie\, WI\, 53560\, United States
ORGANIZER;CN="Midland UMC":MAILTO:midlandumc@gmail.com
GEO:43.1501599;-89.775204
X-APPLE-STRUCTURED-LOCATION;VALUE=URI;X-ADDRESS=Midland United Methodist Church 10235 County Rd KP Mazomanie WI 53560 United States;X-APPLE-RADIUS=500;X-TITLE=10235 County Rd KP:geo:-89.775204,43.1501599
END:VEVENT
BEGIN:VEVENT
DTSTART;TZID=America/Chicago:20230129T093000
DTEND;TZID=America/Chicago:20230129T103000
DTSTAMP:20260422T234336
CREATED:20220729T132447Z
LAST-MODIFIED:20221117T160039Z
UID:10000189-1674984600-1674988200@midlandunitedmethodist.com
SUMMARY:Worship
DESCRIPTION:A blended\, multi-sensory worship experience that offers a variety of music and worship elements such as drama\, which allows God’s Word to be heard in a way that relates to people today.
URL:https://midlandunitedmethodist.com/event/worship/2023-01-29/
LOCATION:Midland United Methodist Church\, 10235 County Rd KP\, Mazomanie\, WI\, 53560\, United States
CATEGORIES:Worship
GEO:43.1501599;-89.775204
X-APPLE-STRUCTURED-LOCATION;VALUE=URI;X-ADDRESS=Midland United Methodist Church 10235 County Rd KP Mazomanie WI 53560 United States;X-APPLE-RADIUS=500;X-TITLE=10235 County Rd KP:geo:-89.775204,43.1501599
END:VEVENT
BEGIN:VEVENT
DTSTART;TZID=America/Chicago:20230205T081500
DTEND;TZID=America/Chicago:20230205T093000
DTSTAMP:20260422T234336
CREATED:20220903T165049Z
LAST-MODIFIED:20220903T165049Z
UID:10000268-1675584900-1675589400@midlandunitedmethodist.com
SUMMARY:Adult Sunday School
DESCRIPTION:
URL:https://midlandunitedmethodist.com/event/adult-sunday-school/2023-02-05/
LOCATION:Midland United Methodist Church\, 10235 County Rd KP\, Mazomanie\, WI\, 53560\, United States
ORGANIZER;CN="Midland UMC":MAILTO:midlandumc@gmail.com
GEO:43.1501599;-89.775204
X-APPLE-STRUCTURED-LOCATION;VALUE=URI;X-ADDRESS=Midland United Methodist Church 10235 County Rd KP Mazomanie WI 53560 United States;X-APPLE-RADIUS=500;X-TITLE=10235 County Rd KP:geo:-89.775204,43.1501599
END:VEVENT
BEGIN:VEVENT
DTSTART;TZID=America/Chicago:20230205T093000
DTEND;TZID=America/Chicago:20230205T103000
DTSTAMP:20260422T234336
CREATED:20220729T132447Z
LAST-MODIFIED:20221117T160039Z
UID:10000190-1675589400-1675593000@midlandunitedmethodist.com
SUMMARY:Worship
DESCRIPTION:A blended\, multi-sensory worship experience that offers a variety of music and worship elements such as drama\, which allows God’s Word to be heard in a way that relates to people today.
URL:https://midlandunitedmethodist.com/event/worship/2023-02-05/
LOCATION:Midland United Methodist Church\, 10235 County Rd KP\, Mazomanie\, WI\, 53560\, United States
CATEGORIES:Worship
GEO:43.1501599;-89.775204
X-APPLE-STRUCTURED-LOCATION;VALUE=URI;X-ADDRESS=Midland United Methodist Church 10235 County Rd KP Mazomanie WI 53560 United States;X-APPLE-RADIUS=500;X-TITLE=10235 County Rd KP:geo:-89.775204,43.1501599
END:VEVENT
BEGIN:VEVENT
DTSTART;TZID=America/Chicago:20230205T140000
DTEND;TZID=America/Chicago:20230205T153000
DTSTAMP:20260422T234336
CREATED:20230131T193400Z
LAST-MODIFIED:20230224T130629Z
UID:10000157-1675605600-1675611000@midlandunitedmethodist.com
SUMMARY:Midland Hymn Sing!
DESCRIPTION:Love to sing? Midland hosts in person Hymn Sings the first Sunday of the month from 2pm-3pm February through May 2023. Bring a friend and a list of requests!
URL:https://midlandunitedmethodist.com/event/midland-hymn-sing/2023-02-05/
LOCATION:Midland United Methodist Church\, 10235 County Rd KP\, Mazomanie\, WI\, 53560\, United States
ORGANIZER;CN="Midland UMC":MAILTO:midlandumc@gmail.com
GEO:43.1501599;-89.775204
X-APPLE-STRUCTURED-LOCATION;VALUE=URI;X-ADDRESS=Midland United Methodist Church 10235 County Rd KP Mazomanie WI 53560 United States;X-APPLE-RADIUS=500;X-TITLE=10235 County Rd KP:geo:-89.775204,43.1501599
END:VEVENT
BEGIN:VEVENT
DTSTART;TZID=America/Chicago:20230212T081500
DTEND;TZID=America/Chicago:20230212T093000
DTSTAMP:20260422T234336
CREATED:20220903T165049Z
LAST-MODIFIED:20220903T165049Z
UID:10000269-1676189700-1676194200@midlandunitedmethodist.com
SUMMARY:Adult Sunday School
DESCRIPTION:
URL:https://midlandunitedmethodist.com/event/adult-sunday-school/2023-02-12/
LOCATION:Midland United Methodist Church\, 10235 County Rd KP\, Mazomanie\, WI\, 53560\, United States
ORGANIZER;CN="Midland UMC":MAILTO:midlandumc@gmail.com
GEO:43.1501599;-89.775204
X-APPLE-STRUCTURED-LOCATION;VALUE=URI;X-ADDRESS=Midland United Methodist Church 10235 County Rd KP Mazomanie WI 53560 United States;X-APPLE-RADIUS=500;X-TITLE=10235 County Rd KP:geo:-89.775204,43.1501599
END:VEVENT
BEGIN:VEVENT
DTSTART;TZID=America/Chicago:20230212T093000
DTEND;TZID=America/Chicago:20230212T103000
DTSTAMP:20260422T234336
CREATED:20220729T132447Z
LAST-MODIFIED:20221117T160039Z
UID:10000191-1676194200-1676197800@midlandunitedmethodist.com
SUMMARY:Worship
DESCRIPTION:A blended\, multi-sensory worship experience that offers a variety of music and worship elements such as drama\, which allows God’s Word to be heard in a way that relates to people today.
URL:https://midlandunitedmethodist.com/event/worship/2023-02-12/
LOCATION:Midland United Methodist Church\, 10235 County Rd KP\, Mazomanie\, WI\, 53560\, United States
CATEGORIES:Worship
GEO:43.1501599;-89.775204
X-APPLE-STRUCTURED-LOCATION;VALUE=URI;X-ADDRESS=Midland United Methodist Church 10235 County Rd KP Mazomanie WI 53560 United States;X-APPLE-RADIUS=500;X-TITLE=10235 County Rd KP:geo:-89.775204,43.1501599
END:VEVENT
BEGIN:VEVENT
DTSTART;TZID=America/Chicago:20230212T103000
DTEND;TZID=America/Chicago:20230212T113000
DTSTAMP:20260422T234336
CREATED:20230211T161903Z
LAST-MODIFIED:20230211T161903Z
UID:10000093-1676197800-1676201400@midlandunitedmethodist.com
SUMMARY:Souperbowl Chili Cook Off
DESCRIPTION:Bring a chili to share or just come sample during our Sunday Soupberbowl Chili Cook Off Fellowship following worship service.
URL:https://midlandunitedmethodist.com/event/souperbowl-chili-cook-off/
LOCATION:Midland United Methodist Church\, 10235 County Rd KP\, Mazomanie\, WI\, 53560\, United States
ORGANIZER;CN="Midland UMC":MAILTO:midlandumc@gmail.com
GEO:43.1501599;-89.775204
X-APPLE-STRUCTURED-LOCATION;VALUE=URI;X-ADDRESS=Midland United Methodist Church 10235 County Rd KP Mazomanie WI 53560 United States;X-APPLE-RADIUS=500;X-TITLE=10235 County Rd KP:geo:-89.775204,43.1501599
END:VEVENT
BEGIN:VEVENT
DTSTART;TZID=America/Chicago:20230215T170000
DTEND;TZID=America/Chicago:20230215T180000
DTSTAMP:20260422T234336
CREATED:20230211T162018Z
LAST-MODIFIED:20230211T162941Z
UID:10000077-1676480400-1676484000@midlandunitedmethodist.com
SUMMARY:Confirmation Class
DESCRIPTION:Confirmation Class
URL:https://midlandunitedmethodist.com/event/confirmation-class/2023-02-15/
LOCATION:Midland United Methodist Church\, 10235 County Rd KP\, Mazomanie\, WI\, 53560\, United States
ORGANIZER;CN="Midland UMC":MAILTO:midlandumc@gmail.com
GEO:43.1501599;-89.775204
X-APPLE-STRUCTURED-LOCATION;VALUE=URI;X-ADDRESS=Midland United Methodist Church 10235 County Rd KP Mazomanie WI 53560 United States;X-APPLE-RADIUS=500;X-TITLE=10235 County Rd KP:geo:-89.775204,43.1501599
END:VEVENT
BEGIN:VEVENT
DTSTART;TZID=America/Chicago:20230216T183000
DTEND;TZID=America/Chicago:20230216T200000
DTSTAMP:20260422T234336
CREATED:20220903T164409Z
LAST-MODIFIED:20220903T164409Z
UID:10000101-1676572200-1676577600@midlandunitedmethodist.com
SUMMARY:UMW Meeting
DESCRIPTION:Midland UMW meeting will be held at 6:30 p.m. in the Community Room at the Church on Thursday\, September 15th.  Program Leader is Marilyn DeWitt and Hostess is Linda Richter.
URL:https://midlandunitedmethodist.com/event/umw-meeting/2023-02-16/
LOCATION:Midland United Methodist Church\, 10235 County Rd KP\, Mazomanie\, WI\, 53560\, United States
ORGANIZER;CN="Midland UMC":MAILTO:midlandumc@gmail.com
GEO:43.1501599;-89.775204
X-APPLE-STRUCTURED-LOCATION;VALUE=URI;X-ADDRESS=Midland United Methodist Church 10235 County Rd KP Mazomanie WI 53560 United States;X-APPLE-RADIUS=500;X-TITLE=10235 County Rd KP:geo:-89.775204,43.1501599
END:VEVENT
BEGIN:VEVENT
DTSTART;TZID=America/Chicago:20230219T081500
DTEND;TZID=America/Chicago:20230219T093000
DTSTAMP:20260422T234336
CREATED:20220903T165049Z
LAST-MODIFIED:20220903T165049Z
UID:10000270-1676794500-1676799000@midlandunitedmethodist.com
SUMMARY:Adult Sunday School
DESCRIPTION:
URL:https://midlandunitedmethodist.com/event/adult-sunday-school/2023-02-19/
LOCATION:Midland United Methodist Church\, 10235 County Rd KP\, Mazomanie\, WI\, 53560\, United States
ORGANIZER;CN="Midland UMC":MAILTO:midlandumc@gmail.com
GEO:43.1501599;-89.775204
X-APPLE-STRUCTURED-LOCATION;VALUE=URI;X-ADDRESS=Midland United Methodist Church 10235 County Rd KP Mazomanie WI 53560 United States;X-APPLE-RADIUS=500;X-TITLE=10235 County Rd KP:geo:-89.775204,43.1501599
END:VEVENT
BEGIN:VEVENT
DTSTART;TZID=America/Chicago:20230219T093000
DTEND;TZID=America/Chicago:20230219T103000
DTSTAMP:20260422T234336
CREATED:20220729T132447Z
LAST-MODIFIED:20221117T160039Z
UID:10000192-1676799000-1676802600@midlandunitedmethodist.com
SUMMARY:Worship
DESCRIPTION:A blended\, multi-sensory worship experience that offers a variety of music and worship elements such as drama\, which allows God’s Word to be heard in a way that relates to people today.
URL:https://midlandunitedmethodist.com/event/worship/2023-02-19/
LOCATION:Midland United Methodist Church\, 10235 County Rd KP\, Mazomanie\, WI\, 53560\, United States
CATEGORIES:Worship
GEO:43.1501599;-89.775204
X-APPLE-STRUCTURED-LOCATION;VALUE=URI;X-ADDRESS=Midland United Methodist Church 10235 County Rd KP Mazomanie WI 53560 United States;X-APPLE-RADIUS=500;X-TITLE=10235 County Rd KP:geo:-89.775204,43.1501599
END:VEVENT
BEGIN:VEVENT
DTSTART;TZID=America/Chicago:20230221T180000
DTEND;TZID=America/Chicago:20230221T190000
DTSTAMP:20260422T234336
CREATED:20230211T162220Z
LAST-MODIFIED:20230211T162220Z
UID:10000230-1677002400-1677006000@midlandunitedmethodist.com
SUMMARY:Mardi Gras Dinner
DESCRIPTION:FREE Community Mardi Gras Dinner. All are welcome. A dish to pass is always welcome but not necessary.
URL:https://midlandunitedmethodist.com/event/mardi-gras-dinner/
LOCATION:Midland United Methodist Church\, 10235 County Rd KP\, Mazomanie\, WI\, 53560\, United States
ORGANIZER;CN="Midland UMC":MAILTO:midlandumc@gmail.com
GEO:43.1501599;-89.775204
X-APPLE-STRUCTURED-LOCATION;VALUE=URI;X-ADDRESS=Midland United Methodist Church 10235 County Rd KP Mazomanie WI 53560 United States;X-APPLE-RADIUS=500;X-TITLE=10235 County Rd KP:geo:-89.775204,43.1501599
END:VEVENT
BEGIN:VEVENT
DTSTART;TZID=America/Chicago:20230222T170000
DTEND;TZID=America/Chicago:20230222T180000
DTSTAMP:20260422T234336
CREATED:20230211T162018Z
LAST-MODIFIED:20230211T162941Z
UID:10000078-1677085200-1677088800@midlandunitedmethodist.com
SUMMARY:Confirmation Class
DESCRIPTION:Confirmation Class
URL:https://midlandunitedmethodist.com/event/confirmation-class/2023-02-22/
LOCATION:Midland United Methodist Church\, 10235 County Rd KP\, Mazomanie\, WI\, 53560\, United States
ORGANIZER;CN="Midland UMC":MAILTO:midlandumc@gmail.com
GEO:43.1501599;-89.775204
X-APPLE-STRUCTURED-LOCATION;VALUE=URI;X-ADDRESS=Midland United Methodist Church 10235 County Rd KP Mazomanie WI 53560 United States;X-APPLE-RADIUS=500;X-TITLE=10235 County Rd KP:geo:-89.775204,43.1501599
END:VEVENT
BEGIN:VEVENT
DTSTART;TZID=America/Chicago:20230222T183000
DTEND;TZID=America/Chicago:20230222T183000
DTSTAMP:20260422T234336
CREATED:20230211T162317Z
LAST-MODIFIED:20230211T162317Z
UID:10000231-1677090600-1677090600@midlandunitedmethodist.com
SUMMARY:Ash Wednesday Service
DESCRIPTION:Join Midland UMC in person for Ash Wednesday worship service.
URL:https://midlandunitedmethodist.com/event/ash-wednesday-service/
LOCATION:Midland United Methodist Church\, 10235 County Rd KP\, Mazomanie\, WI\, 53560\, United States
ORGANIZER;CN="Midland UMC":MAILTO:midlandumc@gmail.com
GEO:43.1501599;-89.775204
X-APPLE-STRUCTURED-LOCATION;VALUE=URI;X-ADDRESS=Midland United Methodist Church 10235 County Rd KP Mazomanie WI 53560 United States;X-APPLE-RADIUS=500;X-TITLE=10235 County Rd KP:geo:-89.775204,43.1501599
END:VEVENT
BEGIN:VEVENT
DTSTART;TZID=America/Chicago:20230226T081500
DTEND;TZID=America/Chicago:20230226T093000
DTSTAMP:20260422T234336
CREATED:20220903T165049Z
LAST-MODIFIED:20220903T165049Z
UID:10000271-1677399300-1677403800@midlandunitedmethodist.com
SUMMARY:Adult Sunday School
DESCRIPTION:
URL:https://midlandunitedmethodist.com/event/adult-sunday-school/2023-02-26/
LOCATION:Midland United Methodist Church\, 10235 County Rd KP\, Mazomanie\, WI\, 53560\, United States
ORGANIZER;CN="Midland UMC":MAILTO:midlandumc@gmail.com
GEO:43.1501599;-89.775204
X-APPLE-STRUCTURED-LOCATION;VALUE=URI;X-ADDRESS=Midland United Methodist Church 10235 County Rd KP Mazomanie WI 53560 United States;X-APPLE-RADIUS=500;X-TITLE=10235 County Rd KP:geo:-89.775204,43.1501599
END:VEVENT
BEGIN:VEVENT
DTSTART;TZID=America/Chicago:20230226T093000
DTEND;TZID=America/Chicago:20230226T103000
DTSTAMP:20260422T234336
CREATED:20220729T132447Z
LAST-MODIFIED:20221117T160039Z
UID:10000193-1677403800-1677407400@midlandunitedmethodist.com
SUMMARY:Worship
DESCRIPTION:A blended\, multi-sensory worship experience that offers a variety of music and worship elements such as drama\, which allows God’s Word to be heard in a way that relates to people today.
URL:https://midlandunitedmethodist.com/event/worship/2023-02-26/
LOCATION:Midland United Methodist Church\, 10235 County Rd KP\, Mazomanie\, WI\, 53560\, United States
CATEGORIES:Worship
GEO:43.1501599;-89.775204
X-APPLE-STRUCTURED-LOCATION;VALUE=URI;X-ADDRESS=Midland United Methodist Church 10235 County Rd KP Mazomanie WI 53560 United States;X-APPLE-RADIUS=500;X-TITLE=10235 County Rd KP:geo:-89.775204,43.1501599
END:VEVENT
BEGIN:VEVENT
DTSTART;TZID=America/Chicago:20230301T170000
DTEND;TZID=America/Chicago:20230301T180000
DTSTAMP:20260422T234336
CREATED:20230211T162018Z
LAST-MODIFIED:20230211T162941Z
UID:10000079-1677690000-1677693600@midlandunitedmethodist.com
SUMMARY:Confirmation Class
DESCRIPTION:Confirmation Class
URL:https://midlandunitedmethodist.com/event/confirmation-class/2023-03-01/
LOCATION:Midland United Methodist Church\, 10235 County Rd KP\, Mazomanie\, WI\, 53560\, United States
ORGANIZER;CN="Midland UMC":MAILTO:midlandumc@gmail.com
GEO:43.1501599;-89.775204
X-APPLE-STRUCTURED-LOCATION;VALUE=URI;X-ADDRESS=Midland United Methodist Church 10235 County Rd KP Mazomanie WI 53560 United States;X-APPLE-RADIUS=500;X-TITLE=10235 County Rd KP:geo:-89.775204,43.1501599
END:VEVENT
BEGIN:VEVENT
DTSTART;TZID=America/Chicago:20230305T081500
DTEND;TZID=America/Chicago:20230305T093000
DTSTAMP:20260422T234336
CREATED:20220903T165049Z
LAST-MODIFIED:20220903T165049Z
UID:10000272-1678004100-1678008600@midlandunitedmethodist.com
SUMMARY:Adult Sunday School
DESCRIPTION:
URL:https://midlandunitedmethodist.com/event/adult-sunday-school/2023-03-05/
LOCATION:Midland United Methodist Church\, 10235 County Rd KP\, Mazomanie\, WI\, 53560\, United States
ORGANIZER;CN="Midland UMC":MAILTO:midlandumc@gmail.com
GEO:43.1501599;-89.775204
X-APPLE-STRUCTURED-LOCATION;VALUE=URI;X-ADDRESS=Midland United Methodist Church 10235 County Rd KP Mazomanie WI 53560 United States;X-APPLE-RADIUS=500;X-TITLE=10235 County Rd KP:geo:-89.775204,43.1501599
END:VEVENT
BEGIN:VEVENT
DTSTART;TZID=America/Chicago:20230305T093000
DTEND;TZID=America/Chicago:20230305T103000
DTSTAMP:20260422T234336
CREATED:20220729T132447Z
LAST-MODIFIED:20221117T160039Z
UID:10000194-1678008600-1678012200@midlandunitedmethodist.com
SUMMARY:Worship
DESCRIPTION:A blended\, multi-sensory worship experience that offers a variety of music and worship elements such as drama\, which allows God’s Word to be heard in a way that relates to people today.
URL:https://midlandunitedmethodist.com/event/worship/2023-03-05/
LOCATION:Midland United Methodist Church\, 10235 County Rd KP\, Mazomanie\, WI\, 53560\, United States
CATEGORIES:Worship
GEO:43.1501599;-89.775204
X-APPLE-STRUCTURED-LOCATION;VALUE=URI;X-ADDRESS=Midland United Methodist Church 10235 County Rd KP Mazomanie WI 53560 United States;X-APPLE-RADIUS=500;X-TITLE=10235 County Rd KP:geo:-89.775204,43.1501599
END:VEVENT
BEGIN:VEVENT
DTSTART;TZID=America/Chicago:20230305T093000
DTEND;TZID=America/Chicago:20230305T103000
DTSTAMP:20260422T234336
CREATED:20230211T161559Z
LAST-MODIFIED:20230211T161559Z
UID:10000136-1678008600-1678012200@midlandunitedmethodist.com
SUMMARY:Special Sermon by: Ben's Hope Sucicide Survivors\, Support\, Awareness & Education
DESCRIPTION:Special Sermon by: Patti & Terry Cullen of Ben’s Hope Sucicide Survivors\, Support\, Awareness & Education. “Because Everonone Needs Some Hope” \n  \nBen’s Hope Mission\nHonoring lives lost to suicide by promoting awareness\, reducing stigmas\, and helping those who are struggling. We save lives by educating via unforgettable presentations\, highlighting support services\, and hosting support groups.
URL:https://midlandunitedmethodist.com/event/special-sermon-by-bens-hope-sucicide-survivors-support-awareness-education/
LOCATION:Midland United Methodist Church\, 10235 County Rd KP\, Mazomanie\, WI\, 53560\, United States
ORGANIZER;CN="Midland UMC":MAILTO:midlandumc@gmail.com
GEO:43.1501599;-89.775204
X-APPLE-STRUCTURED-LOCATION;VALUE=URI;X-ADDRESS=Midland United Methodist Church 10235 County Rd KP Mazomanie WI 53560 United States;X-APPLE-RADIUS=500;X-TITLE=10235 County Rd KP:geo:-89.775204,43.1501599
END:VEVENT
BEGIN:VEVENT
DTSTART;TZID=America/Chicago:20230305T140000
DTEND;TZID=America/Chicago:20230305T153000
DTSTAMP:20260422T234336
CREATED:20230131T193400Z
LAST-MODIFIED:20230224T130629Z
UID:10000158-1678024800-1678030200@midlandunitedmethodist.com
SUMMARY:Midland Hymn Sing!
DESCRIPTION:Love to sing? Midland hosts in person Hymn Sings the first Sunday of the month from 2pm-3pm February through May 2023. Bring a friend and a list of requests!
URL:https://midlandunitedmethodist.com/event/midland-hymn-sing/2023-03-05/
LOCATION:Midland United Methodist Church\, 10235 County Rd KP\, Mazomanie\, WI\, 53560\, United States
ORGANIZER;CN="Midland UMC":MAILTO:midlandumc@gmail.com
GEO:43.1501599;-89.775204
X-APPLE-STRUCTURED-LOCATION;VALUE=URI;X-ADDRESS=Midland United Methodist Church 10235 County Rd KP Mazomanie WI 53560 United States;X-APPLE-RADIUS=500;X-TITLE=10235 County Rd KP:geo:-89.775204,43.1501599
END:VEVENT
BEGIN:VEVENT
DTSTART;TZID=America/Chicago:20230308T170000
DTEND;TZID=America/Chicago:20230308T180000
DTSTAMP:20260422T234336
CREATED:20230211T162018Z
LAST-MODIFIED:20230211T162941Z
UID:10000080-1678294800-1678298400@midlandunitedmethodist.com
SUMMARY:Confirmation Class
DESCRIPTION:Confirmation Class
URL:https://midlandunitedmethodist.com/event/confirmation-class/2023-03-08/
LOCATION:Midland United Methodist Church\, 10235 County Rd KP\, Mazomanie\, WI\, 53560\, United States
ORGANIZER;CN="Midland UMC":MAILTO:midlandumc@gmail.com
GEO:43.1501599;-89.775204
X-APPLE-STRUCTURED-LOCATION;VALUE=URI;X-ADDRESS=Midland United Methodist Church 10235 County Rd KP Mazomanie WI 53560 United States;X-APPLE-RADIUS=500;X-TITLE=10235 County Rd KP:geo:-89.775204,43.1501599
END:VEVENT
BEGIN:VEVENT
DTSTART;TZID=America/Chicago:20230312T081500
DTEND;TZID=America/Chicago:20230312T093000
DTSTAMP:20260422T234336
CREATED:20220903T165049Z
LAST-MODIFIED:20220903T165049Z
UID:10000273-1678608900-1678613400@midlandunitedmethodist.com
SUMMARY:Adult Sunday School
DESCRIPTION:
URL:https://midlandunitedmethodist.com/event/adult-sunday-school/2023-03-12/
LOCATION:Midland United Methodist Church\, 10235 County Rd KP\, Mazomanie\, WI\, 53560\, United States
ORGANIZER;CN="Midland UMC":MAILTO:midlandumc@gmail.com
GEO:43.1501599;-89.775204
X-APPLE-STRUCTURED-LOCATION;VALUE=URI;X-ADDRESS=Midland United Methodist Church 10235 County Rd KP Mazomanie WI 53560 United States;X-APPLE-RADIUS=500;X-TITLE=10235 County Rd KP:geo:-89.775204,43.1501599
END:VEVENT
END:VCALENDAR