BEGIN:VCALENDAR
VERSION:2.0
PRODID:-//Midland United Methodist Church - ECPv6.15.20//NONSGML v1.0//EN
CALSCALE:GREGORIAN
METHOD:PUBLISH
X-ORIGINAL-URL:https://midlandunitedmethodist.com
X-WR-CALDESC:Events for Midland United Methodist Church
REFRESH-INTERVAL;VALUE=DURATION:PT1H
X-Robots-Tag:noindex
X-PUBLISHED-TTL:PT1H
BEGIN:VTIMEZONE
TZID:America/Chicago
BEGIN:DAYLIGHT
TZOFFSETFROM:-0600
TZOFFSETTO:-0500
TZNAME:CDT
DTSTART:20210314T080000
END:DAYLIGHT
BEGIN:STANDARD
TZOFFSETFROM:-0500
TZOFFSETTO:-0600
TZNAME:CST
DTSTART:20211107T070000
END:STANDARD
BEGIN:DAYLIGHT
TZOFFSETFROM:-0600
TZOFFSETTO:-0500
TZNAME:CDT
DTSTART:20220313T080000
END:DAYLIGHT
BEGIN:STANDARD
TZOFFSETFROM:-0500
TZOFFSETTO:-0600
TZNAME:CST
DTSTART:20221106T070000
END:STANDARD
BEGIN:DAYLIGHT
TZOFFSETFROM:-0600
TZOFFSETTO:-0500
TZNAME:CDT
DTSTART:20230312T080000
END:DAYLIGHT
BEGIN:STANDARD
TZOFFSETFROM:-0500
TZOFFSETTO:-0600
TZNAME:CST
DTSTART:20231105T070000
END:STANDARD
END:VTIMEZONE
BEGIN:VEVENT
DTSTART;TZID=America/Chicago:20220911T081500
DTEND;TZID=America/Chicago:20220911T093000
DTSTAMP:20260422T165220
CREATED:20220903T165049Z
LAST-MODIFIED:20220903T165049Z
UID:10000247-1662884100-1662888600@midlandunitedmethodist.com
SUMMARY:Adult Sunday School
DESCRIPTION:
URL:https://midlandunitedmethodist.com/event/adult-sunday-school/2022-09-11/
LOCATION:Midland United Methodist Church\, 10235 County Rd KP\, Mazomanie\, WI\, 53560\, United States
ORGANIZER;CN="Midland UMC":MAILTO:midlandumc@gmail.com
GEO:43.1501599;-89.775204
X-APPLE-STRUCTURED-LOCATION;VALUE=URI;X-ADDRESS=Midland United Methodist Church 10235 County Rd KP Mazomanie WI 53560 United States;X-APPLE-RADIUS=500;X-TITLE=10235 County Rd KP:geo:-89.775204,43.1501599
END:VEVENT
BEGIN:VEVENT
DTSTART;TZID=America/Chicago:20220911T093000
DTEND;TZID=America/Chicago:20220911T103000
DTSTAMP:20260422T165220
CREATED:20220729T132447Z
LAST-MODIFIED:20221117T160039Z
UID:10000169-1662888600-1662892200@midlandunitedmethodist.com
SUMMARY:Worship
DESCRIPTION:A blended\, multi-sensory worship experience that offers a variety of music and worship elements such as drama\, which allows God’s Word to be heard in a way that relates to people today.
URL:https://midlandunitedmethodist.com/event/worship/2022-09-11/
LOCATION:Midland United Methodist Church\, 10235 County Rd KP\, Mazomanie\, WI\, 53560\, United States
CATEGORIES:Worship
GEO:43.1501599;-89.775204
X-APPLE-STRUCTURED-LOCATION;VALUE=URI;X-ADDRESS=Midland United Methodist Church 10235 County Rd KP Mazomanie WI 53560 United States;X-APPLE-RADIUS=500;X-TITLE=10235 County Rd KP:geo:-89.775204,43.1501599
END:VEVENT
BEGIN:VEVENT
DTSTART;TZID=America/Chicago:20220915T183000
DTEND;TZID=America/Chicago:20220915T200000
DTSTAMP:20260422T165220
CREATED:20220903T164409Z
LAST-MODIFIED:20220903T164409Z
UID:10000096-1663266600-1663272000@midlandunitedmethodist.com
SUMMARY:UMW Meeting
DESCRIPTION:Midland UMW meeting will be held at 6:30 p.m. in the Community Room at the Church on Thursday\, September 15th.  Program Leader is Marilyn DeWitt and Hostess is Linda Richter.
URL:https://midlandunitedmethodist.com/event/umw-meeting/2022-09-15/
LOCATION:Midland United Methodist Church\, 10235 County Rd KP\, Mazomanie\, WI\, 53560\, United States
ORGANIZER;CN="Midland UMC":MAILTO:midlandumc@gmail.com
GEO:43.1501599;-89.775204
X-APPLE-STRUCTURED-LOCATION;VALUE=URI;X-ADDRESS=Midland United Methodist Church 10235 County Rd KP Mazomanie WI 53560 United States;X-APPLE-RADIUS=500;X-TITLE=10235 County Rd KP:geo:-89.775204,43.1501599
END:VEVENT
BEGIN:VEVENT
DTSTART;TZID=America/Chicago:20220917T090000
DTEND;TZID=America/Chicago:20220917T170000
DTSTAMP:20260422T165220
CREATED:20220729T171007Z
LAST-MODIFIED:20220802T203917Z
UID:10000216-1663405200-1663434000@midlandunitedmethodist.com
SUMMARY:PraiseFest
DESCRIPTION:PraiseFest is coming on September 17th to the beautiful lawns of Midland UMC in Mazomanie\, WI.   It is the 4th annual (we are just eliminating the year of Covid altogether) music festival the church has put on. Always the third Saturday in September.  Six bands\, musicians from Wisconsin and nearby states\, take the stage throughout the day to entertain\, lift-up\, and inspire you. Brats and burgers on the grill\, treats\, drinks and baked goods will feed your hunger. The beautiful country atmosphere adds to the peace and relaxation you will feel. \nThe festival is put on to raise money for the United Methodist Committee on Relief (UMCOR) which is usually the first in and on the ground when disaster strikes and various local area charities. So by your ticket and food purchase you are helping others to survive disaster and trouble. Tickets for six bands is just $15 and children 15 and under are free.   Tickets are available from every church member or the church office (Tuesdays & Thursdays 10-4) at 10235 Cty. Rd. KP\, Mazomanie.
URL:https://midlandunitedmethodist.com/event/praisefest/
LOCATION:Midland United Methodist Church\, 10235 County Rd KP\, Mazomanie\, WI\, 53560\, United States
CATEGORIES:Church Event
ORGANIZER;CN="Kathy Stoltz":MAILTO:kathymstoltz@hotmail.com
GEO:43.1501599;-89.775204
X-APPLE-STRUCTURED-LOCATION;VALUE=URI;X-ADDRESS=Midland United Methodist Church 10235 County Rd KP Mazomanie WI 53560 United States;X-APPLE-RADIUS=500;X-TITLE=10235 County Rd KP:geo:-89.775204,43.1501599
END:VEVENT
BEGIN:VEVENT
DTSTART;TZID=America/Chicago:20220918T081500
DTEND;TZID=America/Chicago:20220918T093000
DTSTAMP:20260422T165220
CREATED:20220903T165049Z
LAST-MODIFIED:20220903T165049Z
UID:10000248-1663488900-1663493400@midlandunitedmethodist.com
SUMMARY:Adult Sunday School
DESCRIPTION:
URL:https://midlandunitedmethodist.com/event/adult-sunday-school/2022-09-18/
LOCATION:Midland United Methodist Church\, 10235 County Rd KP\, Mazomanie\, WI\, 53560\, United States
ORGANIZER;CN="Midland UMC":MAILTO:midlandumc@gmail.com
GEO:43.1501599;-89.775204
X-APPLE-STRUCTURED-LOCATION;VALUE=URI;X-ADDRESS=Midland United Methodist Church 10235 County Rd KP Mazomanie WI 53560 United States;X-APPLE-RADIUS=500;X-TITLE=10235 County Rd KP:geo:-89.775204,43.1501599
END:VEVENT
BEGIN:VEVENT
DTSTART;TZID=America/Chicago:20220918T093000
DTEND;TZID=America/Chicago:20220918T103000
DTSTAMP:20260422T165220
CREATED:20220729T132447Z
LAST-MODIFIED:20221117T160039Z
UID:10000170-1663493400-1663497000@midlandunitedmethodist.com
SUMMARY:Worship
DESCRIPTION:A blended\, multi-sensory worship experience that offers a variety of music and worship elements such as drama\, which allows God’s Word to be heard in a way that relates to people today.
URL:https://midlandunitedmethodist.com/event/worship/2022-09-18/
LOCATION:Midland United Methodist Church\, 10235 County Rd KP\, Mazomanie\, WI\, 53560\, United States
CATEGORIES:Worship
GEO:43.1501599;-89.775204
X-APPLE-STRUCTURED-LOCATION;VALUE=URI;X-ADDRESS=Midland United Methodist Church 10235 County Rd KP Mazomanie WI 53560 United States;X-APPLE-RADIUS=500;X-TITLE=10235 County Rd KP:geo:-89.775204,43.1501599
END:VEVENT
BEGIN:VEVENT
DTSTART;TZID=America/Chicago:20220920T113000
DTEND;TZID=America/Chicago:20220920T123000
DTSTAMP:20260422T165220
CREATED:20220903T164715Z
LAST-MODIFIED:20220903T170217Z
UID:10000138-1663673400-1663677000@midlandunitedmethodist.com
SUMMARY:Membership Committee Meeting
DESCRIPTION:
URL:https://midlandunitedmethodist.com/event/membership-committee-meeting/
LOCATION:Midland United Methodist Church\, 10235 County Rd KP\, Mazomanie\, WI\, 53560\, United States
ORGANIZER;CN="Midland UMC":MAILTO:midlandumc@gmail.com
GEO:43.1501599;-89.775204
X-APPLE-STRUCTURED-LOCATION;VALUE=URI;X-ADDRESS=Midland United Methodist Church 10235 County Rd KP Mazomanie WI 53560 United States;X-APPLE-RADIUS=500;X-TITLE=10235 County Rd KP:geo:-89.775204,43.1501599
END:VEVENT
BEGIN:VEVENT
DTSTART;TZID=America/Chicago:20220925T081500
DTEND;TZID=America/Chicago:20220925T093000
DTSTAMP:20260422T165220
CREATED:20220903T165049Z
LAST-MODIFIED:20220903T165049Z
UID:10000249-1664093700-1664098200@midlandunitedmethodist.com
SUMMARY:Adult Sunday School
DESCRIPTION:
URL:https://midlandunitedmethodist.com/event/adult-sunday-school/2022-09-25/
LOCATION:Midland United Methodist Church\, 10235 County Rd KP\, Mazomanie\, WI\, 53560\, United States
ORGANIZER;CN="Midland UMC":MAILTO:midlandumc@gmail.com
GEO:43.1501599;-89.775204
X-APPLE-STRUCTURED-LOCATION;VALUE=URI;X-ADDRESS=Midland United Methodist Church 10235 County Rd KP Mazomanie WI 53560 United States;X-APPLE-RADIUS=500;X-TITLE=10235 County Rd KP:geo:-89.775204,43.1501599
END:VEVENT
BEGIN:VEVENT
DTSTART;TZID=America/Chicago:20220925T093000
DTEND;TZID=America/Chicago:20220925T103000
DTSTAMP:20260422T165220
CREATED:20220729T132447Z
LAST-MODIFIED:20221117T160039Z
UID:10000171-1664098200-1664101800@midlandunitedmethodist.com
SUMMARY:Worship
DESCRIPTION:A blended\, multi-sensory worship experience that offers a variety of music and worship elements such as drama\, which allows God’s Word to be heard in a way that relates to people today.
URL:https://midlandunitedmethodist.com/event/worship/2022-09-25/
LOCATION:Midland United Methodist Church\, 10235 County Rd KP\, Mazomanie\, WI\, 53560\, United States
CATEGORIES:Worship
GEO:43.1501599;-89.775204
X-APPLE-STRUCTURED-LOCATION;VALUE=URI;X-ADDRESS=Midland United Methodist Church 10235 County Rd KP Mazomanie WI 53560 United States;X-APPLE-RADIUS=500;X-TITLE=10235 County Rd KP:geo:-89.775204,43.1501599
END:VEVENT
BEGIN:VEVENT
DTSTART;TZID=America/Chicago:20220928T180000
DTEND;TZID=America/Chicago:20220928T190000
DTSTAMP:20260422T165220
CREATED:20220903T164620Z
LAST-MODIFIED:20220903T170111Z
UID:10000286-1664388000-1664391600@midlandunitedmethodist.com
SUMMARY:SPRC Meeting
DESCRIPTION:
URL:https://midlandunitedmethodist.com/event/sprc-meeting/
LOCATION:Midland United Methodist Church\, 10235 County Rd KP\, Mazomanie\, WI\, 53560\, United States
ORGANIZER;CN="Midland UMC":MAILTO:midlandumc@gmail.com
GEO:43.1501599;-89.775204
X-APPLE-STRUCTURED-LOCATION;VALUE=URI;X-ADDRESS=Midland United Methodist Church 10235 County Rd KP Mazomanie WI 53560 United States;X-APPLE-RADIUS=500;X-TITLE=10235 County Rd KP:geo:-89.775204,43.1501599
END:VEVENT
BEGIN:VEVENT
DTSTART;TZID=America/Chicago:20221002T081500
DTEND;TZID=America/Chicago:20221002T093000
DTSTAMP:20260422T165220
CREATED:20220903T165049Z
LAST-MODIFIED:20220903T165049Z
UID:10000250-1664698500-1664703000@midlandunitedmethodist.com
SUMMARY:Adult Sunday School
DESCRIPTION:
URL:https://midlandunitedmethodist.com/event/adult-sunday-school/2022-10-02/
LOCATION:Midland United Methodist Church\, 10235 County Rd KP\, Mazomanie\, WI\, 53560\, United States
ORGANIZER;CN="Midland UMC":MAILTO:midlandumc@gmail.com
GEO:43.1501599;-89.775204
X-APPLE-STRUCTURED-LOCATION;VALUE=URI;X-ADDRESS=Midland United Methodist Church 10235 County Rd KP Mazomanie WI 53560 United States;X-APPLE-RADIUS=500;X-TITLE=10235 County Rd KP:geo:-89.775204,43.1501599
END:VEVENT
BEGIN:VEVENT
DTSTART;TZID=America/Chicago:20221002T093000
DTEND;TZID=America/Chicago:20221002T103000
DTSTAMP:20260422T165220
CREATED:20220729T132447Z
LAST-MODIFIED:20221117T160039Z
UID:10000172-1664703000-1664706600@midlandunitedmethodist.com
SUMMARY:Worship
DESCRIPTION:A blended\, multi-sensory worship experience that offers a variety of music and worship elements such as drama\, which allows God’s Word to be heard in a way that relates to people today.
URL:https://midlandunitedmethodist.com/event/worship/2022-10-02/
LOCATION:Midland United Methodist Church\, 10235 County Rd KP\, Mazomanie\, WI\, 53560\, United States
CATEGORIES:Worship
GEO:43.1501599;-89.775204
X-APPLE-STRUCTURED-LOCATION;VALUE=URI;X-ADDRESS=Midland United Methodist Church 10235 County Rd KP Mazomanie WI 53560 United States;X-APPLE-RADIUS=500;X-TITLE=10235 County Rd KP:geo:-89.775204,43.1501599
END:VEVENT
BEGIN:VEVENT
DTSTART;TZID=America/Chicago:20221009T081500
DTEND;TZID=America/Chicago:20221009T093000
DTSTAMP:20260422T165220
CREATED:20220903T165049Z
LAST-MODIFIED:20220903T165049Z
UID:10000251-1665303300-1665307800@midlandunitedmethodist.com
SUMMARY:Adult Sunday School
DESCRIPTION:
URL:https://midlandunitedmethodist.com/event/adult-sunday-school/2022-10-09/
LOCATION:Midland United Methodist Church\, 10235 County Rd KP\, Mazomanie\, WI\, 53560\, United States
ORGANIZER;CN="Midland UMC":MAILTO:midlandumc@gmail.com
GEO:43.1501599;-89.775204
X-APPLE-STRUCTURED-LOCATION;VALUE=URI;X-ADDRESS=Midland United Methodist Church 10235 County Rd KP Mazomanie WI 53560 United States;X-APPLE-RADIUS=500;X-TITLE=10235 County Rd KP:geo:-89.775204,43.1501599
END:VEVENT
BEGIN:VEVENT
DTSTART;TZID=America/Chicago:20221009T093000
DTEND;TZID=America/Chicago:20221009T103000
DTSTAMP:20260422T165220
CREATED:20220729T132447Z
LAST-MODIFIED:20221117T160039Z
UID:10000173-1665307800-1665311400@midlandunitedmethodist.com
SUMMARY:Worship
DESCRIPTION:A blended\, multi-sensory worship experience that offers a variety of music and worship elements such as drama\, which allows God’s Word to be heard in a way that relates to people today.
URL:https://midlandunitedmethodist.com/event/worship/2022-10-09/
LOCATION:Midland United Methodist Church\, 10235 County Rd KP\, Mazomanie\, WI\, 53560\, United States
CATEGORIES:Worship
GEO:43.1501599;-89.775204
X-APPLE-STRUCTURED-LOCATION;VALUE=URI;X-ADDRESS=Midland United Methodist Church 10235 County Rd KP Mazomanie WI 53560 United States;X-APPLE-RADIUS=500;X-TITLE=10235 County Rd KP:geo:-89.775204,43.1501599
END:VEVENT
BEGIN:VEVENT
DTSTART;TZID=America/Chicago:20221016T081500
DTEND;TZID=America/Chicago:20221016T093000
DTSTAMP:20260422T165220
CREATED:20220903T165049Z
LAST-MODIFIED:20220903T165049Z
UID:10000252-1665908100-1665912600@midlandunitedmethodist.com
SUMMARY:Adult Sunday School
DESCRIPTION:
URL:https://midlandunitedmethodist.com/event/adult-sunday-school/2022-10-16/
LOCATION:Midland United Methodist Church\, 10235 County Rd KP\, Mazomanie\, WI\, 53560\, United States
ORGANIZER;CN="Midland UMC":MAILTO:midlandumc@gmail.com
GEO:43.1501599;-89.775204
X-APPLE-STRUCTURED-LOCATION;VALUE=URI;X-ADDRESS=Midland United Methodist Church 10235 County Rd KP Mazomanie WI 53560 United States;X-APPLE-RADIUS=500;X-TITLE=10235 County Rd KP:geo:-89.775204,43.1501599
END:VEVENT
BEGIN:VEVENT
DTSTART;TZID=America/Chicago:20221016T093000
DTEND;TZID=America/Chicago:20221016T103000
DTSTAMP:20260422T165220
CREATED:20220729T132447Z
LAST-MODIFIED:20221117T160039Z
UID:10000174-1665912600-1665916200@midlandunitedmethodist.com
SUMMARY:Worship
DESCRIPTION:A blended\, multi-sensory worship experience that offers a variety of music and worship elements such as drama\, which allows God’s Word to be heard in a way that relates to people today.
URL:https://midlandunitedmethodist.com/event/worship/2022-10-16/
LOCATION:Midland United Methodist Church\, 10235 County Rd KP\, Mazomanie\, WI\, 53560\, United States
CATEGORIES:Worship
GEO:43.1501599;-89.775204
X-APPLE-STRUCTURED-LOCATION;VALUE=URI;X-ADDRESS=Midland United Methodist Church 10235 County Rd KP Mazomanie WI 53560 United States;X-APPLE-RADIUS=500;X-TITLE=10235 County Rd KP:geo:-89.775204,43.1501599
END:VEVENT
BEGIN:VEVENT
DTSTART;TZID=America/Chicago:20221020T183000
DTEND;TZID=America/Chicago:20221020T200000
DTSTAMP:20260422T165220
CREATED:20220903T164409Z
LAST-MODIFIED:20220903T164409Z
UID:10000097-1666290600-1666296000@midlandunitedmethodist.com
SUMMARY:UMW Meeting
DESCRIPTION:Midland UMW meeting will be held at 6:30 p.m. in the Community Room at the Church on Thursday\, September 15th.  Program Leader is Marilyn DeWitt and Hostess is Linda Richter.
URL:https://midlandunitedmethodist.com/event/umw-meeting/2022-10-20/
LOCATION:Midland United Methodist Church\, 10235 County Rd KP\, Mazomanie\, WI\, 53560\, United States
ORGANIZER;CN="Midland UMC":MAILTO:midlandumc@gmail.com
GEO:43.1501599;-89.775204
X-APPLE-STRUCTURED-LOCATION;VALUE=URI;X-ADDRESS=Midland United Methodist Church 10235 County Rd KP Mazomanie WI 53560 United States;X-APPLE-RADIUS=500;X-TITLE=10235 County Rd KP:geo:-89.775204,43.1501599
END:VEVENT
BEGIN:VEVENT
DTSTART;TZID=America/Chicago:20221023T081500
DTEND;TZID=America/Chicago:20221023T093000
DTSTAMP:20260422T165220
CREATED:20220903T165049Z
LAST-MODIFIED:20220903T165049Z
UID:10000253-1666512900-1666517400@midlandunitedmethodist.com
SUMMARY:Adult Sunday School
DESCRIPTION:
URL:https://midlandunitedmethodist.com/event/adult-sunday-school/2022-10-23/
LOCATION:Midland United Methodist Church\, 10235 County Rd KP\, Mazomanie\, WI\, 53560\, United States
ORGANIZER;CN="Midland UMC":MAILTO:midlandumc@gmail.com
GEO:43.1501599;-89.775204
X-APPLE-STRUCTURED-LOCATION;VALUE=URI;X-ADDRESS=Midland United Methodist Church 10235 County Rd KP Mazomanie WI 53560 United States;X-APPLE-RADIUS=500;X-TITLE=10235 County Rd KP:geo:-89.775204,43.1501599
END:VEVENT
BEGIN:VEVENT
DTSTART;TZID=America/Chicago:20221023T093000
DTEND;TZID=America/Chicago:20221023T103000
DTSTAMP:20260422T165220
CREATED:20220729T132447Z
LAST-MODIFIED:20221117T160039Z
UID:10000175-1666517400-1666521000@midlandunitedmethodist.com
SUMMARY:Worship
DESCRIPTION:A blended\, multi-sensory worship experience that offers a variety of music and worship elements such as drama\, which allows God’s Word to be heard in a way that relates to people today.
URL:https://midlandunitedmethodist.com/event/worship/2022-10-23/
LOCATION:Midland United Methodist Church\, 10235 County Rd KP\, Mazomanie\, WI\, 53560\, United States
CATEGORIES:Worship
GEO:43.1501599;-89.775204
X-APPLE-STRUCTURED-LOCATION;VALUE=URI;X-ADDRESS=Midland United Methodist Church 10235 County Rd KP Mazomanie WI 53560 United States;X-APPLE-RADIUS=500;X-TITLE=10235 County Rd KP:geo:-89.775204,43.1501599
END:VEVENT
BEGIN:VEVENT
DTSTART;VALUE=DATE:20221029
DTEND;VALUE=DATE:20221031
DTSTAMP:20260422T165220
CREATED:20220903T164756Z
LAST-MODIFIED:20220922T191511Z
UID:10000156-1667001600-1667174399@midlandunitedmethodist.com
SUMMARY:Fall Harvest Festival & Lord's Acre Auction
DESCRIPTION:Join Midland UMC again: \n  \nFall Harvest Festival  \n& Lord’s Acre Auction \n  \nSaturday 29th \n11:30am-1:00pm \nChurch Dinner \n& \n1:00pm Lord’s Acre Auction \n Sunday 30th   \n9:30am Special Music \nExtended Worship Service \n& Potluck Luncheon
URL:https://midlandunitedmethodist.com/event/fall-harvest-festival-lords-acre-auction/
LOCATION:Midland United Methodist Church\, 10235 County Rd KP\, Mazomanie\, WI\, 53560\, United States
CATEGORIES:Church Event,Worship
ORGANIZER;CN="Midland UMC":MAILTO:midlandumc@gmail.com
GEO:43.1501599;-89.775204
X-APPLE-STRUCTURED-LOCATION;VALUE=URI;X-ADDRESS=Midland United Methodist Church 10235 County Rd KP Mazomanie WI 53560 United States;X-APPLE-RADIUS=500;X-TITLE=10235 County Rd KP:geo:-89.775204,43.1501599
END:VEVENT
BEGIN:VEVENT
DTSTART;TZID=America/Chicago:20221030T081500
DTEND;TZID=America/Chicago:20221030T093000
DTSTAMP:20260422T165220
CREATED:20220903T165049Z
LAST-MODIFIED:20220903T165049Z
UID:10000254-1667117700-1667122200@midlandunitedmethodist.com
SUMMARY:Adult Sunday School
DESCRIPTION:
URL:https://midlandunitedmethodist.com/event/adult-sunday-school/2022-10-30/
LOCATION:Midland United Methodist Church\, 10235 County Rd KP\, Mazomanie\, WI\, 53560\, United States
ORGANIZER;CN="Midland UMC":MAILTO:midlandumc@gmail.com
GEO:43.1501599;-89.775204
X-APPLE-STRUCTURED-LOCATION;VALUE=URI;X-ADDRESS=Midland United Methodist Church 10235 County Rd KP Mazomanie WI 53560 United States;X-APPLE-RADIUS=500;X-TITLE=10235 County Rd KP:geo:-89.775204,43.1501599
END:VEVENT
BEGIN:VEVENT
DTSTART;TZID=America/Chicago:20221030T093000
DTEND;TZID=America/Chicago:20221030T103000
DTSTAMP:20260422T165220
CREATED:20220729T132447Z
LAST-MODIFIED:20221117T160039Z
UID:10000176-1667122200-1667125800@midlandunitedmethodist.com
SUMMARY:Worship
DESCRIPTION:A blended\, multi-sensory worship experience that offers a variety of music and worship elements such as drama\, which allows God’s Word to be heard in a way that relates to people today.
URL:https://midlandunitedmethodist.com/event/worship/2022-10-30/
LOCATION:Midland United Methodist Church\, 10235 County Rd KP\, Mazomanie\, WI\, 53560\, United States
CATEGORIES:Worship
GEO:43.1501599;-89.775204
X-APPLE-STRUCTURED-LOCATION;VALUE=URI;X-ADDRESS=Midland United Methodist Church 10235 County Rd KP Mazomanie WI 53560 United States;X-APPLE-RADIUS=500;X-TITLE=10235 County Rd KP:geo:-89.775204,43.1501599
END:VEVENT
BEGIN:VEVENT
DTSTART;TZID=America/Chicago:20221103T103000
DTEND;TZID=America/Chicago:20221103T113000
DTSTAMP:20260422T165220
CREATED:20221103T181406Z
LAST-MODIFIED:20221103T181824Z
UID:10000285-1667471400-1667475000@midlandunitedmethodist.com
SUMMARY:Charge Conference
DESCRIPTION:Midland UMC Charge Conference \nFollowing worship service and lead by Dianne Vielhuber. \nPotluck Lunch to follow.
URL:https://midlandunitedmethodist.com/event/charge-conference/
LOCATION:Midland United Methodist Church\, 10235 County Rd KP\, Mazomanie\, WI\, 53560\, United States
ORGANIZER;CN="Midland UMC":MAILTO:midlandumc@gmail.com
GEO:43.1501599;-89.775204
X-APPLE-STRUCTURED-LOCATION;VALUE=URI;X-ADDRESS=Midland United Methodist Church 10235 County Rd KP Mazomanie WI 53560 United States;X-APPLE-RADIUS=500;X-TITLE=10235 County Rd KP:geo:-89.775204,43.1501599
END:VEVENT
BEGIN:VEVENT
DTSTART;TZID=America/Chicago:20221103T183000
DTEND;TZID=America/Chicago:20221103T193000
DTSTAMP:20260422T165220
CREATED:20221103T181652Z
LAST-MODIFIED:20221103T181911Z
UID:10000135-1667500200-1667503800@midlandunitedmethodist.com
SUMMARY:UMW Meeting
DESCRIPTION:United Methodist Women Meeting \nLeader: Julie Oliver \nHostesses: Shirley Krueger & Janet Sylvester
URL:https://midlandunitedmethodist.com/event/umw-meeting-2/
LOCATION:Midland United Methodist Church\, 10235 County Rd KP\, Mazomanie\, WI\, 53560\, United States
ORGANIZER;CN="Midland UMC":MAILTO:midlandumc@gmail.com
GEO:43.1501599;-89.775204
X-APPLE-STRUCTURED-LOCATION;VALUE=URI;X-ADDRESS=Midland United Methodist Church 10235 County Rd KP Mazomanie WI 53560 United States;X-APPLE-RADIUS=500;X-TITLE=10235 County Rd KP:geo:-89.775204,43.1501599
END:VEVENT
BEGIN:VEVENT
DTSTART;TZID=America/Chicago:20221106T081500
DTEND;TZID=America/Chicago:20221106T093000
DTSTAMP:20260422T165220
CREATED:20220903T165049Z
LAST-MODIFIED:20220903T165049Z
UID:10000255-1667722500-1667727000@midlandunitedmethodist.com
SUMMARY:Adult Sunday School
DESCRIPTION:
URL:https://midlandunitedmethodist.com/event/adult-sunday-school/2022-11-06/
LOCATION:Midland United Methodist Church\, 10235 County Rd KP\, Mazomanie\, WI\, 53560\, United States
ORGANIZER;CN="Midland UMC":MAILTO:midlandumc@gmail.com
GEO:43.1501599;-89.775204
X-APPLE-STRUCTURED-LOCATION;VALUE=URI;X-ADDRESS=Midland United Methodist Church 10235 County Rd KP Mazomanie WI 53560 United States;X-APPLE-RADIUS=500;X-TITLE=10235 County Rd KP:geo:-89.775204,43.1501599
END:VEVENT
BEGIN:VEVENT
DTSTART;TZID=America/Chicago:20221106T093000
DTEND;TZID=America/Chicago:20221106T103000
DTSTAMP:20260422T165220
CREATED:20220729T132447Z
LAST-MODIFIED:20221117T160039Z
UID:10000177-1667727000-1667730600@midlandunitedmethodist.com
SUMMARY:Worship
DESCRIPTION:A blended\, multi-sensory worship experience that offers a variety of music and worship elements such as drama\, which allows God’s Word to be heard in a way that relates to people today.
URL:https://midlandunitedmethodist.com/event/worship/2022-11-06/
LOCATION:Midland United Methodist Church\, 10235 County Rd KP\, Mazomanie\, WI\, 53560\, United States
CATEGORIES:Worship
GEO:43.1501599;-89.775204
X-APPLE-STRUCTURED-LOCATION;VALUE=URI;X-ADDRESS=Midland United Methodist Church 10235 County Rd KP Mazomanie WI 53560 United States;X-APPLE-RADIUS=500;X-TITLE=10235 County Rd KP:geo:-89.775204,43.1501599
END:VEVENT
BEGIN:VEVENT
DTSTART;TZID=America/Chicago:20221113T081500
DTEND;TZID=America/Chicago:20221113T093000
DTSTAMP:20260422T165220
CREATED:20220903T165049Z
LAST-MODIFIED:20220903T165049Z
UID:10000256-1668327300-1668331800@midlandunitedmethodist.com
SUMMARY:Adult Sunday School
DESCRIPTION:
URL:https://midlandunitedmethodist.com/event/adult-sunday-school/2022-11-13/
LOCATION:Midland United Methodist Church\, 10235 County Rd KP\, Mazomanie\, WI\, 53560\, United States
ORGANIZER;CN="Midland UMC":MAILTO:midlandumc@gmail.com
GEO:43.1501599;-89.775204
X-APPLE-STRUCTURED-LOCATION;VALUE=URI;X-ADDRESS=Midland United Methodist Church 10235 County Rd KP Mazomanie WI 53560 United States;X-APPLE-RADIUS=500;X-TITLE=10235 County Rd KP:geo:-89.775204,43.1501599
END:VEVENT
BEGIN:VEVENT
DTSTART;TZID=America/Chicago:20221113T093000
DTEND;TZID=America/Chicago:20221113T103000
DTSTAMP:20260422T165220
CREATED:20220729T132447Z
LAST-MODIFIED:20221117T160039Z
UID:10000178-1668331800-1668335400@midlandunitedmethodist.com
SUMMARY:Worship
DESCRIPTION:A blended\, multi-sensory worship experience that offers a variety of music and worship elements such as drama\, which allows God’s Word to be heard in a way that relates to people today.
URL:https://midlandunitedmethodist.com/event/worship/2022-11-13/
LOCATION:Midland United Methodist Church\, 10235 County Rd KP\, Mazomanie\, WI\, 53560\, United States
CATEGORIES:Worship
GEO:43.1501599;-89.775204
X-APPLE-STRUCTURED-LOCATION;VALUE=URI;X-ADDRESS=Midland United Methodist Church 10235 County Rd KP Mazomanie WI 53560 United States;X-APPLE-RADIUS=500;X-TITLE=10235 County Rd KP:geo:-89.775204,43.1501599
END:VEVENT
BEGIN:VEVENT
DTSTART;TZID=America/Chicago:20221117T183000
DTEND;TZID=America/Chicago:20221117T200000
DTSTAMP:20260422T165220
CREATED:20220903T164409Z
LAST-MODIFIED:20220903T164409Z
UID:10000098-1668709800-1668715200@midlandunitedmethodist.com
SUMMARY:UMW Meeting
DESCRIPTION:Midland UMW meeting will be held at 6:30 p.m. in the Community Room at the Church on Thursday\, September 15th.  Program Leader is Marilyn DeWitt and Hostess is Linda Richter.
URL:https://midlandunitedmethodist.com/event/umw-meeting/2022-11-17/
LOCATION:Midland United Methodist Church\, 10235 County Rd KP\, Mazomanie\, WI\, 53560\, United States
ORGANIZER;CN="Midland UMC":MAILTO:midlandumc@gmail.com
GEO:43.1501599;-89.775204
X-APPLE-STRUCTURED-LOCATION;VALUE=URI;X-ADDRESS=Midland United Methodist Church 10235 County Rd KP Mazomanie WI 53560 United States;X-APPLE-RADIUS=500;X-TITLE=10235 County Rd KP:geo:-89.775204,43.1501599
END:VEVENT
BEGIN:VEVENT
DTSTART;TZID=America/Chicago:20221120T080000
DTEND;TZID=America/Chicago:20221120T100000
DTSTAMP:20260422T165220
CREATED:20221117T153441Z
LAST-MODIFIED:20221117T155923Z
UID:10000154-1668931200-1668938400@midlandunitedmethodist.com
SUMMARY:Operation Christmas Child Shoeboxes Due
DESCRIPTION:OCC Shoeboxes Due Today 11/20: Operation Christmas Child delivers great joy and the Good News of Jesus Christ to children in need around the world through gift-filled shoeboxes. Each box packed full of quality toys\, school supplies\, and personal care items becomes a tangible expression of God’s immense love for the child. For many\, it is their first gift ever! Delivered by our local church partners\, shoebox gifts provide an opportunity to present the Gospel to boys and girls in a clear\, child-friendly way. Click the website link below for more information on choosing items and backing your box.
URL:https://midlandunitedmethodist.com/event/operation-christmas-child-shoeboxes-due/
LOCATION:Midland United Methodist Church\, 10235 County Rd KP\, Mazomanie\, WI\, 53560\, United States
ORGANIZER;CN="Midland UMC":MAILTO:midlandumc@gmail.com
GEO:43.1501599;-89.775204
X-APPLE-STRUCTURED-LOCATION;VALUE=URI;X-ADDRESS=Midland United Methodist Church 10235 County Rd KP Mazomanie WI 53560 United States;X-APPLE-RADIUS=500;X-TITLE=10235 County Rd KP:geo:-89.775204,43.1501599
END:VEVENT
END:VCALENDAR