BEGIN:VCALENDAR
VERSION:2.0
PRODID:-//Midland United Methodist Church - ECPv6.15.20//NONSGML v1.0//EN
CALSCALE:GREGORIAN
METHOD:PUBLISH
X-WR-CALNAME:Midland United Methodist Church
X-ORIGINAL-URL:https://midlandunitedmethodist.com
X-WR-CALDESC:Events for Midland United Methodist Church
REFRESH-INTERVAL;VALUE=DURATION:PT1H
X-Robots-Tag:noindex
X-PUBLISHED-TTL:PT1H
BEGIN:VTIMEZONE
TZID:America/Chicago
BEGIN:DAYLIGHT
TZOFFSETFROM:-0600
TZOFFSETTO:-0500
TZNAME:CDT
DTSTART:20250309T080000
END:DAYLIGHT
BEGIN:STANDARD
TZOFFSETFROM:-0500
TZOFFSETTO:-0600
TZNAME:CST
DTSTART:20251102T070000
END:STANDARD
BEGIN:DAYLIGHT
TZOFFSETFROM:-0600
TZOFFSETTO:-0500
TZNAME:CDT
DTSTART:20260308T080000
END:DAYLIGHT
BEGIN:STANDARD
TZOFFSETFROM:-0500
TZOFFSETTO:-0600
TZNAME:CST
DTSTART:20261101T070000
END:STANDARD
BEGIN:DAYLIGHT
TZOFFSETFROM:-0600
TZOFFSETTO:-0500
TZNAME:CDT
DTSTART:20270314T080000
END:DAYLIGHT
BEGIN:STANDARD
TZOFFSETFROM:-0500
TZOFFSETTO:-0600
TZNAME:CST
DTSTART:20271107T070000
END:STANDARD
END:VTIMEZONE
BEGIN:VEVENT
DTSTART;TZID=America/Chicago:20260531T083000
DTEND;TZID=America/Chicago:20260531T213000
DTSTAMP:20260421T090233
CREATED:20250911T155614Z
LAST-MODIFIED:20250911T155614Z
UID:10029461-1780216200-1780263000@midlandunitedmethodist.com
SUMMARY:Adult Sunday School
DESCRIPTION:All are welcome to Midland’s Adult Sunday School.
URL:https://midlandunitedmethodist.com/event/adult-sunday-school-2/2026-05-31/
LOCATION:Midland United Methodist Church\, 10235 County Rd KP\, Mazomanie\, WI\, 53560\, United States
ORGANIZER;CN="Midland UMC":MAILTO:midlandumc@gmail.com
GEO:43.1501599;-89.775204
X-APPLE-STRUCTURED-LOCATION;VALUE=URI;X-ADDRESS=Midland United Methodist Church 10235 County Rd KP Mazomanie WI 53560 United States;X-APPLE-RADIUS=500;X-TITLE=10235 County Rd KP:geo:-89.775204,43.1501599
END:VEVENT
BEGIN:VEVENT
DTSTART;TZID=America/Chicago:20260524T083000
DTEND;TZID=America/Chicago:20260524T213000
DTSTAMP:20260421T090233
CREATED:20250911T155614Z
LAST-MODIFIED:20250911T155614Z
UID:10029460-1779611400-1779658200@midlandunitedmethodist.com
SUMMARY:Adult Sunday School
DESCRIPTION:All are welcome to Midland’s Adult Sunday School.
URL:https://midlandunitedmethodist.com/event/adult-sunday-school-2/2026-05-24/
LOCATION:Midland United Methodist Church\, 10235 County Rd KP\, Mazomanie\, WI\, 53560\, United States
ORGANIZER;CN="Midland UMC":MAILTO:midlandumc@gmail.com
GEO:43.1501599;-89.775204
X-APPLE-STRUCTURED-LOCATION;VALUE=URI;X-ADDRESS=Midland United Methodist Church 10235 County Rd KP Mazomanie WI 53560 United States;X-APPLE-RADIUS=500;X-TITLE=10235 County Rd KP:geo:-89.775204,43.1501599
END:VEVENT
BEGIN:VEVENT
DTSTART;TZID=America/Chicago:20260517T083000
DTEND;TZID=America/Chicago:20260517T213000
DTSTAMP:20260421T090233
CREATED:20250911T155614Z
LAST-MODIFIED:20250911T155614Z
UID:10029459-1779006600-1779053400@midlandunitedmethodist.com
SUMMARY:Adult Sunday School
DESCRIPTION:All are welcome to Midland’s Adult Sunday School.
URL:https://midlandunitedmethodist.com/event/adult-sunday-school-2/2026-05-17/
LOCATION:Midland United Methodist Church\, 10235 County Rd KP\, Mazomanie\, WI\, 53560\, United States
ORGANIZER;CN="Midland UMC":MAILTO:midlandumc@gmail.com
GEO:43.1501599;-89.775204
X-APPLE-STRUCTURED-LOCATION;VALUE=URI;X-ADDRESS=Midland United Methodist Church 10235 County Rd KP Mazomanie WI 53560 United States;X-APPLE-RADIUS=500;X-TITLE=10235 County Rd KP:geo:-89.775204,43.1501599
END:VEVENT
BEGIN:VEVENT
DTSTART;TZID=America/Chicago:20260512T170000
DTEND;TZID=America/Chicago:20260512T180000
DTSTAMP:20260421T090233
CREATED:20240811T154849Z
LAST-MODIFIED:20240811T154849Z
UID:10018165-1778605200-1778608800@midlandunitedmethodist.com
SUMMARY:Finance Committee Budget Meeting
DESCRIPTION:
URL:https://midlandunitedmethodist.com/event/finance-committee-meeting-2-2025-03-11-66/
LOCATION:Midland United Methodist Church\, 10235 County Rd KP\, Mazomanie\, WI\, 53560\, United States
ORGANIZER;CN="Midland UMC":MAILTO:midlandumc@gmail.com
GEO:43.1501599;-89.775204
X-APPLE-STRUCTURED-LOCATION;VALUE=URI;X-ADDRESS=Midland United Methodist Church 10235 County Rd KP Mazomanie WI 53560 United States;X-APPLE-RADIUS=500;X-TITLE=10235 County Rd KP:geo:-89.775204,43.1501599
END:VEVENT
BEGIN:VEVENT
DTSTART;TZID=America/Chicago:20260512T170000
DTEND;TZID=America/Chicago:20260512T180000
DTSTAMP:20260421T090233
CREATED:20240811T154849Z
LAST-MODIFIED:20240811T154849Z
UID:10002544-1778605200-1778608800@midlandunitedmethodist.com
SUMMARY:Finance Committee Budget Meeting
DESCRIPTION:
URL:https://midlandunitedmethodist.com/event/finance-committee-meeting-2-2025-09-09-2/
LOCATION:Midland United Methodist Church\, 10235 County Rd KP\, Mazomanie\, WI\, 53560\, United States
ORGANIZER;CN="Midland UMC":MAILTO:midlandumc@gmail.com
GEO:43.1501599;-89.775204
X-APPLE-STRUCTURED-LOCATION;VALUE=URI;X-ADDRESS=Midland United Methodist Church 10235 County Rd KP Mazomanie WI 53560 United States;X-APPLE-RADIUS=500;X-TITLE=10235 County Rd KP:geo:-89.775204,43.1501599
END:VEVENT
BEGIN:VEVENT
DTSTART;TZID=America/Chicago:20260512T170000
DTEND;TZID=America/Chicago:20260512T180000
DTSTAMP:20260421T090233
CREATED:20240811T154849Z
LAST-MODIFIED:20240811T154849Z
UID:10002600-1778605200-1778608800@midlandunitedmethodist.com
SUMMARY:Finance Committee Budget Meeting
DESCRIPTION:
URL:https://midlandunitedmethodist.com/event/finance-committee-meeting-2-2025-10-14-2/
LOCATION:Midland United Methodist Church\, 10235 County Rd KP\, Mazomanie\, WI\, 53560\, United States
ORGANIZER;CN="Midland UMC":MAILTO:midlandumc@gmail.com
GEO:43.1501599;-89.775204
X-APPLE-STRUCTURED-LOCATION;VALUE=URI;X-ADDRESS=Midland United Methodist Church 10235 County Rd KP Mazomanie WI 53560 United States;X-APPLE-RADIUS=500;X-TITLE=10235 County Rd KP:geo:-89.775204,43.1501599
END:VEVENT
BEGIN:VEVENT
DTSTART;TZID=America/Chicago:20260512T170000
DTEND;TZID=America/Chicago:20260512T180000
DTSTAMP:20260421T090233
CREATED:20240811T154849Z
LAST-MODIFIED:20240811T154849Z
UID:10018906-1778605200-1778608800@midlandunitedmethodist.com
SUMMARY:Finance Committee Budget Meeting
DESCRIPTION:
URL:https://midlandunitedmethodist.com/event/finance-committee-meeting-2-2026-04-14-56/
LOCATION:Midland United Methodist Church\, 10235 County Rd KP\, Mazomanie\, WI\, 53560\, United States
ORGANIZER;CN="Midland UMC":MAILTO:midlandumc@gmail.com
GEO:43.1501599;-89.775204
X-APPLE-STRUCTURED-LOCATION;VALUE=URI;X-ADDRESS=Midland United Methodist Church 10235 County Rd KP Mazomanie WI 53560 United States;X-APPLE-RADIUS=500;X-TITLE=10235 County Rd KP:geo:-89.775204,43.1501599
END:VEVENT
BEGIN:VEVENT
DTSTART;TZID=America/Chicago:20260512T170000
DTEND;TZID=America/Chicago:20260512T180000
DTSTAMP:20260421T090233
CREATED:20240811T154849Z
LAST-MODIFIED:20240811T154849Z
UID:10003354-1778605200-1778608800@midlandunitedmethodist.com
SUMMARY:Finance Committee Budget Meeting
DESCRIPTION:
URL:https://midlandunitedmethodist.com/event/finance-committee-meeting-2-2024-11-12-3/
LOCATION:Midland United Methodist Church\, 10235 County Rd KP\, Mazomanie\, WI\, 53560\, United States
ORGANIZER;CN="Midland UMC":MAILTO:midlandumc@gmail.com
GEO:43.1501599;-89.775204
X-APPLE-STRUCTURED-LOCATION;VALUE=URI;X-ADDRESS=Midland United Methodist Church 10235 County Rd KP Mazomanie WI 53560 United States;X-APPLE-RADIUS=500;X-TITLE=10235 County Rd KP:geo:-89.775204,43.1501599
END:VEVENT
BEGIN:VEVENT
DTSTART;TZID=America/Chicago:20260512T170000
DTEND;TZID=America/Chicago:20260512T180000
DTSTAMP:20260421T090233
CREATED:20240811T154849Z
LAST-MODIFIED:20240811T154849Z
UID:10019275-1778605200-1778608800@midlandunitedmethodist.com
SUMMARY:Finance Committee Budget Meeting
DESCRIPTION:
URL:https://midlandunitedmethodist.com/event/finance-committee-meeting-2-2025-03-11-67/
LOCATION:Midland United Methodist Church\, 10235 County Rd KP\, Mazomanie\, WI\, 53560\, United States
ORGANIZER;CN="Midland UMC":MAILTO:midlandumc@gmail.com
GEO:43.1501599;-89.775204
X-APPLE-STRUCTURED-LOCATION;VALUE=URI;X-ADDRESS=Midland United Methodist Church 10235 County Rd KP Mazomanie WI 53560 United States;X-APPLE-RADIUS=500;X-TITLE=10235 County Rd KP:geo:-89.775204,43.1501599
END:VEVENT
BEGIN:VEVENT
DTSTART;TZID=America/Chicago:20260512T170000
DTEND;TZID=America/Chicago:20260512T180000
DTSTAMP:20260421T090233
CREATED:20240811T154849Z
LAST-MODIFIED:20240811T154849Z
UID:10003674-1778605200-1778608800@midlandunitedmethodist.com
SUMMARY:Finance Committee Budget Meeting
DESCRIPTION:
URL:https://midlandunitedmethodist.com/event/finance-committee-meeting-2-2025-04-08-3/
LOCATION:Midland United Methodist Church\, 10235 County Rd KP\, Mazomanie\, WI\, 53560\, United States
ORGANIZER;CN="Midland UMC":MAILTO:midlandumc@gmail.com
GEO:43.1501599;-89.775204
X-APPLE-STRUCTURED-LOCATION;VALUE=URI;X-ADDRESS=Midland United Methodist Church 10235 County Rd KP Mazomanie WI 53560 United States;X-APPLE-RADIUS=500;X-TITLE=10235 County Rd KP:geo:-89.775204,43.1501599
END:VEVENT
BEGIN:VEVENT
DTSTART;TZID=America/Chicago:20260512T170000
DTEND;TZID=America/Chicago:20260512T180000
DTSTAMP:20260421T090233
CREATED:20240811T154849Z
LAST-MODIFIED:20240811T154849Z
UID:10020016-1778605200-1778608800@midlandunitedmethodist.com
SUMMARY:Finance Committee Budget Meeting
DESCRIPTION:
URL:https://midlandunitedmethodist.com/event/finance-committee-meeting-2-2026-04-14-57/
LOCATION:Midland United Methodist Church\, 10235 County Rd KP\, Mazomanie\, WI\, 53560\, United States
ORGANIZER;CN="Midland UMC":MAILTO:midlandumc@gmail.com
GEO:43.1501599;-89.775204
X-APPLE-STRUCTURED-LOCATION;VALUE=URI;X-ADDRESS=Midland United Methodist Church 10235 County Rd KP Mazomanie WI 53560 United States;X-APPLE-RADIUS=500;X-TITLE=10235 County Rd KP:geo:-89.775204,43.1501599
END:VEVENT
BEGIN:VEVENT
DTSTART;TZID=America/Chicago:20260512T170000
DTEND;TZID=America/Chicago:20260512T180000
DTSTAMP:20260421T090233
CREATED:20240811T154849Z
LAST-MODIFIED:20240811T154849Z
UID:10020385-1778605200-1778608800@midlandunitedmethodist.com
SUMMARY:Finance Committee Budget Meeting
DESCRIPTION:
URL:https://midlandunitedmethodist.com/event/finance-committee-meeting-2-2025-03-11-68/
LOCATION:Midland United Methodist Church\, 10235 County Rd KP\, Mazomanie\, WI\, 53560\, United States
ORGANIZER;CN="Midland UMC":MAILTO:midlandumc@gmail.com
GEO:43.1501599;-89.775204
X-APPLE-STRUCTURED-LOCATION;VALUE=URI;X-ADDRESS=Midland United Methodist Church 10235 County Rd KP Mazomanie WI 53560 United States;X-APPLE-RADIUS=500;X-TITLE=10235 County Rd KP:geo:-89.775204,43.1501599
END:VEVENT
BEGIN:VEVENT
DTSTART;TZID=America/Chicago:20260512T170000
DTEND;TZID=America/Chicago:20260512T180000
DTSTAMP:20260421T090233
CREATED:20240811T154849Z
LAST-MODIFIED:20240811T154849Z
UID:10004290-1778605200-1778608800@midlandunitedmethodist.com
SUMMARY:Finance Committee Budget Meeting
DESCRIPTION:
URL:https://midlandunitedmethodist.com/event/finance-committee-meeting-2-2026-03-10-3/
LOCATION:Midland United Methodist Church\, 10235 County Rd KP\, Mazomanie\, WI\, 53560\, United States
ORGANIZER;CN="Midland UMC":MAILTO:midlandumc@gmail.com
GEO:43.1501599;-89.775204
X-APPLE-STRUCTURED-LOCATION;VALUE=URI;X-ADDRESS=Midland United Methodist Church 10235 County Rd KP Mazomanie WI 53560 United States;X-APPLE-RADIUS=500;X-TITLE=10235 County Rd KP:geo:-89.775204,43.1501599
END:VEVENT
BEGIN:VEVENT
DTSTART;TZID=America/Chicago:20260512T170000
DTEND;TZID=America/Chicago:20260512T180000
DTSTAMP:20260421T090233
CREATED:20240811T154849Z
LAST-MODIFIED:20240811T154849Z
UID:10004644-1778605200-1778608800@midlandunitedmethodist.com
SUMMARY:Finance Committee Budget Meeting
DESCRIPTION:
URL:https://midlandunitedmethodist.com/event/finance-committee-meeting-2-2024-09-10-4/
LOCATION:Midland United Methodist Church\, 10235 County Rd KP\, Mazomanie\, WI\, 53560\, United States
ORGANIZER;CN="Midland UMC":MAILTO:midlandumc@gmail.com
GEO:43.1501599;-89.775204
X-APPLE-STRUCTURED-LOCATION;VALUE=URI;X-ADDRESS=Midland United Methodist Church 10235 County Rd KP Mazomanie WI 53560 United States;X-APPLE-RADIUS=500;X-TITLE=10235 County Rd KP:geo:-89.775204,43.1501599
END:VEVENT
BEGIN:VEVENT
DTSTART;TZID=America/Chicago:20260512T170000
DTEND;TZID=America/Chicago:20260512T180000
DTSTAMP:20260421T090233
CREATED:20240811T154849Z
LAST-MODIFIED:20240811T154849Z
UID:10021126-1778605200-1778608800@midlandunitedmethodist.com
SUMMARY:Finance Committee Budget Meeting
DESCRIPTION:
URL:https://midlandunitedmethodist.com/event/finance-committee-meeting-2-2026-04-14-58/
LOCATION:Midland United Methodist Church\, 10235 County Rd KP\, Mazomanie\, WI\, 53560\, United States
ORGANIZER;CN="Midland UMC":MAILTO:midlandumc@gmail.com
GEO:43.1501599;-89.775204
X-APPLE-STRUCTURED-LOCATION;VALUE=URI;X-ADDRESS=Midland United Methodist Church 10235 County Rd KP Mazomanie WI 53560 United States;X-APPLE-RADIUS=500;X-TITLE=10235 County Rd KP:geo:-89.775204,43.1501599
END:VEVENT
BEGIN:VEVENT
DTSTART;TZID=America/Chicago:20260512T170000
DTEND;TZID=America/Chicago:20260512T180000
DTSTAMP:20260421T090233
CREATED:20240811T154849Z
LAST-MODIFIED:20240811T154849Z
UID:10021495-1778605200-1778608800@midlandunitedmethodist.com
SUMMARY:Finance Committee Budget Meeting
DESCRIPTION:
URL:https://midlandunitedmethodist.com/event/finance-committee-meeting-2-2025-03-11-69/
LOCATION:Midland United Methodist Church\, 10235 County Rd KP\, Mazomanie\, WI\, 53560\, United States
ORGANIZER;CN="Midland UMC":MAILTO:midlandumc@gmail.com
GEO:43.1501599;-89.775204
X-APPLE-STRUCTURED-LOCATION;VALUE=URI;X-ADDRESS=Midland United Methodist Church 10235 County Rd KP Mazomanie WI 53560 United States;X-APPLE-RADIUS=500;X-TITLE=10235 County Rd KP:geo:-89.775204,43.1501599
END:VEVENT
BEGIN:VEVENT
DTSTART;TZID=America/Chicago:20260512T170000
DTEND;TZID=America/Chicago:20260512T180000
DTSTAMP:20260421T090233
CREATED:20240811T154849Z
LAST-MODIFIED:20240811T154849Z
UID:10005044-1778605200-1778608800@midlandunitedmethodist.com
SUMMARY:Finance Committee Budget Meeting
DESCRIPTION:
URL:https://midlandunitedmethodist.com/event/finance-committee-meeting-2-2025-03-11-4/
LOCATION:Midland United Methodist Church\, 10235 County Rd KP\, Mazomanie\, WI\, 53560\, United States
ORGANIZER;CN="Midland UMC":MAILTO:midlandumc@gmail.com
GEO:43.1501599;-89.775204
X-APPLE-STRUCTURED-LOCATION;VALUE=URI;X-ADDRESS=Midland United Methodist Church 10235 County Rd KP Mazomanie WI 53560 United States;X-APPLE-RADIUS=500;X-TITLE=10235 County Rd KP:geo:-89.775204,43.1501599
END:VEVENT
BEGIN:VEVENT
DTSTART;TZID=America/Chicago:20260512T170000
DTEND;TZID=America/Chicago:20260512T180000
DTSTAMP:20260421T090233
CREATED:20240811T154849Z
LAST-MODIFIED:20240811T154849Z
UID:10022236-1778605200-1778608800@midlandunitedmethodist.com
SUMMARY:Finance Committee Budget Meeting
DESCRIPTION:
URL:https://midlandunitedmethodist.com/event/finance-committee-meeting-2-2026-04-14-59/
LOCATION:Midland United Methodist Church\, 10235 County Rd KP\, Mazomanie\, WI\, 53560\, United States
ORGANIZER;CN="Midland UMC":MAILTO:midlandumc@gmail.com
GEO:43.1501599;-89.775204
X-APPLE-STRUCTURED-LOCATION;VALUE=URI;X-ADDRESS=Midland United Methodist Church 10235 County Rd KP Mazomanie WI 53560 United States;X-APPLE-RADIUS=500;X-TITLE=10235 County Rd KP:geo:-89.775204,43.1501599
END:VEVENT
BEGIN:VEVENT
DTSTART;TZID=America/Chicago:20260512T170000
DTEND;TZID=America/Chicago:20260512T180000
DTSTAMP:20260421T090233
CREATED:20240811T154849Z
LAST-MODIFIED:20240811T154849Z
UID:10005772-1778605200-1778608800@midlandunitedmethodist.com
SUMMARY:Finance Committee Budget Meeting
DESCRIPTION:
URL:https://midlandunitedmethodist.com/event/finance-committee-meeting-2-2026-04-14-4/
LOCATION:Midland United Methodist Church\, 10235 County Rd KP\, Mazomanie\, WI\, 53560\, United States
ORGANIZER;CN="Midland UMC":MAILTO:midlandumc@gmail.com
GEO:43.1501599;-89.775204
X-APPLE-STRUCTURED-LOCATION;VALUE=URI;X-ADDRESS=Midland United Methodist Church 10235 County Rd KP Mazomanie WI 53560 United States;X-APPLE-RADIUS=500;X-TITLE=10235 County Rd KP:geo:-89.775204,43.1501599
END:VEVENT
BEGIN:VEVENT
DTSTART;TZID=America/Chicago:20260512T170000
DTEND;TZID=America/Chicago:20260512T180000
DTSTAMP:20260421T090233
CREATED:20240811T154849Z
LAST-MODIFIED:20240811T154849Z
UID:10022605-1778605200-1778608800@midlandunitedmethodist.com
SUMMARY:Finance Committee Budget Meeting
DESCRIPTION:
URL:https://midlandunitedmethodist.com/event/finance-committee-meeting-2-2025-03-11-70/
LOCATION:Midland United Methodist Church\, 10235 County Rd KP\, Mazomanie\, WI\, 53560\, United States
ORGANIZER;CN="Midland UMC":MAILTO:midlandumc@gmail.com
GEO:43.1501599;-89.775204
X-APPLE-STRUCTURED-LOCATION;VALUE=URI;X-ADDRESS=Midland United Methodist Church 10235 County Rd KP Mazomanie WI 53560 United States;X-APPLE-RADIUS=500;X-TITLE=10235 County Rd KP:geo:-89.775204,43.1501599
END:VEVENT
BEGIN:VEVENT
DTSTART;TZID=America/Chicago:20260512T170000
DTEND;TZID=America/Chicago:20260512T180000
DTSTAMP:20260421T090233
CREATED:20240811T154849Z
LAST-MODIFIED:20240811T154849Z
UID:10006134-1778605200-1778608800@midlandunitedmethodist.com
SUMMARY:Finance Committee Budget Meeting
DESCRIPTION:
URL:https://midlandunitedmethodist.com/event/finance-committee-meeting-2-2025-03-11-5/
LOCATION:Midland United Methodist Church\, 10235 County Rd KP\, Mazomanie\, WI\, 53560\, United States
ORGANIZER;CN="Midland UMC":MAILTO:midlandumc@gmail.com
GEO:43.1501599;-89.775204
X-APPLE-STRUCTURED-LOCATION;VALUE=URI;X-ADDRESS=Midland United Methodist Church 10235 County Rd KP Mazomanie WI 53560 United States;X-APPLE-RADIUS=500;X-TITLE=10235 County Rd KP:geo:-89.775204,43.1501599
END:VEVENT
BEGIN:VEVENT
DTSTART;TZID=America/Chicago:20260512T170000
DTEND;TZID=America/Chicago:20260512T180000
DTSTAMP:20260421T090233
CREATED:20240811T154849Z
LAST-MODIFIED:20240811T154849Z
UID:10006862-1778605200-1778608800@midlandunitedmethodist.com
SUMMARY:Finance Committee Budget Meeting
DESCRIPTION:
URL:https://midlandunitedmethodist.com/event/finance-committee-meeting-2-2026-04-14-5/
LOCATION:Midland United Methodist Church\, 10235 County Rd KP\, Mazomanie\, WI\, 53560\, United States
ORGANIZER;CN="Midland UMC":MAILTO:midlandumc@gmail.com
GEO:43.1501599;-89.775204
X-APPLE-STRUCTURED-LOCATION;VALUE=URI;X-ADDRESS=Midland United Methodist Church 10235 County Rd KP Mazomanie WI 53560 United States;X-APPLE-RADIUS=500;X-TITLE=10235 County Rd KP:geo:-89.775204,43.1501599
END:VEVENT
BEGIN:VEVENT
DTSTART;TZID=America/Chicago:20260512T170000
DTEND;TZID=America/Chicago:20260512T180000
DTSTAMP:20260421T090233
CREATED:20240811T154849Z
LAST-MODIFIED:20240811T154849Z
UID:10023166-1778605200-1778608800@midlandunitedmethodist.com
SUMMARY:Finance Committee Budget Meeting
DESCRIPTION:
URL:https://midlandunitedmethodist.com/event/finance-committee-meeting-2-2025-07-08-73/
LOCATION:Midland United Methodist Church\, 10235 County Rd KP\, Mazomanie\, WI\, 53560\, United States
ORGANIZER;CN="Midland UMC":MAILTO:midlandumc@gmail.com
GEO:43.1501599;-89.775204
X-APPLE-STRUCTURED-LOCATION;VALUE=URI;X-ADDRESS=Midland United Methodist Church 10235 County Rd KP Mazomanie WI 53560 United States;X-APPLE-RADIUS=500;X-TITLE=10235 County Rd KP:geo:-89.775204,43.1501599
END:VEVENT
BEGIN:VEVENT
DTSTART;TZID=America/Chicago:20260512T170000
DTEND;TZID=America/Chicago:20260512T180000
DTSTAMP:20260421T090233
CREATED:20240811T154849Z
LAST-MODIFIED:20240811T154849Z
UID:10007224-1778605200-1778608800@midlandunitedmethodist.com
SUMMARY:Finance Committee Budget Meeting
DESCRIPTION:
URL:https://midlandunitedmethodist.com/event/finance-committee-meeting-2-2025-03-11-6/
LOCATION:Midland United Methodist Church\, 10235 County Rd KP\, Mazomanie\, WI\, 53560\, United States
ORGANIZER;CN="Midland UMC":MAILTO:midlandumc@gmail.com
GEO:43.1501599;-89.775204
X-APPLE-STRUCTURED-LOCATION;VALUE=URI;X-ADDRESS=Midland United Methodist Church 10235 County Rd KP Mazomanie WI 53560 United States;X-APPLE-RADIUS=500;X-TITLE=10235 County Rd KP:geo:-89.775204,43.1501599
END:VEVENT
BEGIN:VEVENT
DTSTART;TZID=America/Chicago:20260512T170000
DTEND;TZID=America/Chicago:20260512T180000
DTSTAMP:20260421T090233
CREATED:20240811T154849Z
LAST-MODIFIED:20240811T154849Z
UID:10023451-1778605200-1778608800@midlandunitedmethodist.com
SUMMARY:Finance Committee Budget Meeting
DESCRIPTION:
URL:https://midlandunitedmethodist.com/event/finance-committee-meeting-2-2025-12-09-62/
LOCATION:Midland United Methodist Church\, 10235 County Rd KP\, Mazomanie\, WI\, 53560\, United States
ORGANIZER;CN="Midland UMC":MAILTO:midlandumc@gmail.com
GEO:43.1501599;-89.775204
X-APPLE-STRUCTURED-LOCATION;VALUE=URI;X-ADDRESS=Midland United Methodist Church 10235 County Rd KP Mazomanie WI 53560 United States;X-APPLE-RADIUS=500;X-TITLE=10235 County Rd KP:geo:-89.775204,43.1501599
END:VEVENT
BEGIN:VEVENT
DTSTART;TZID=America/Chicago:20260512T170000
DTEND;TZID=America/Chicago:20260512T180000
DTSTAMP:20260421T090233
CREATED:20240811T154849Z
LAST-MODIFIED:20240811T154849Z
UID:10007952-1778605200-1778608800@midlandunitedmethodist.com
SUMMARY:Finance Committee Budget Meeting
DESCRIPTION:
URL:https://midlandunitedmethodist.com/event/finance-committee-meeting-2-2026-04-14-6/
LOCATION:Midland United Methodist Church\, 10235 County Rd KP\, Mazomanie\, WI\, 53560\, United States
ORGANIZER;CN="Midland UMC":MAILTO:midlandumc@gmail.com
GEO:43.1501599;-89.775204
X-APPLE-STRUCTURED-LOCATION;VALUE=URI;X-ADDRESS=Midland United Methodist Church 10235 County Rd KP Mazomanie WI 53560 United States;X-APPLE-RADIUS=500;X-TITLE=10235 County Rd KP:geo:-89.775204,43.1501599
END:VEVENT
BEGIN:VEVENT
DTSTART;TZID=America/Chicago:20260512T170000
DTEND;TZID=America/Chicago:20260512T180000
DTSTAMP:20260421T090233
CREATED:20240811T154849Z
LAST-MODIFIED:20240811T154849Z
UID:10008314-1778605200-1778608800@midlandunitedmethodist.com
SUMMARY:Finance Committee Budget Meeting
DESCRIPTION:
URL:https://midlandunitedmethodist.com/event/finance-committee-meeting-2-2025-03-11-7/
LOCATION:Midland United Methodist Church\, 10235 County Rd KP\, Mazomanie\, WI\, 53560\, United States
ORGANIZER;CN="Midland UMC":MAILTO:midlandumc@gmail.com
GEO:43.1501599;-89.775204
X-APPLE-STRUCTURED-LOCATION;VALUE=URI;X-ADDRESS=Midland United Methodist Church 10235 County Rd KP Mazomanie WI 53560 United States;X-APPLE-RADIUS=500;X-TITLE=10235 County Rd KP:geo:-89.775204,43.1501599
END:VEVENT
BEGIN:VEVENT
DTSTART;TZID=America/Chicago:20260512T170000
DTEND;TZID=America/Chicago:20260512T180000
DTSTAMP:20260421T090233
CREATED:20240811T154849Z
LAST-MODIFIED:20240811T154849Z
UID:10024715-1778605200-1778608800@midlandunitedmethodist.com
SUMMARY:Finance Committee Budget Meeting
DESCRIPTION:
URL:https://midlandunitedmethodist.com/event/finance-committee-meeting-2-2025-08-12-107/
LOCATION:Midland United Methodist Church\, 10235 County Rd KP\, Mazomanie\, WI\, 53560\, United States
ORGANIZER;CN="Midland UMC":MAILTO:midlandumc@gmail.com
GEO:43.1501599;-89.775204
X-APPLE-STRUCTURED-LOCATION;VALUE=URI;X-ADDRESS=Midland United Methodist Church 10235 County Rd KP Mazomanie WI 53560 United States;X-APPLE-RADIUS=500;X-TITLE=10235 County Rd KP:geo:-89.775204,43.1501599
END:VEVENT
BEGIN:VEVENT
DTSTART;TZID=America/Chicago:20260512T170000
DTEND;TZID=America/Chicago:20260512T180000
DTSTAMP:20260421T090233
CREATED:20240811T154849Z
LAST-MODIFIED:20240811T154849Z
UID:10024886-1778605200-1778608800@midlandunitedmethodist.com
SUMMARY:Finance Committee Budget Meeting
DESCRIPTION:
URL:https://midlandunitedmethodist.com/event/finance-committee-meeting-2-2025-11-11-107/
LOCATION:Midland United Methodist Church\, 10235 County Rd KP\, Mazomanie\, WI\, 53560\, United States
ORGANIZER;CN="Midland UMC":MAILTO:midlandumc@gmail.com
GEO:43.1501599;-89.775204
X-APPLE-STRUCTURED-LOCATION;VALUE=URI;X-ADDRESS=Midland United Methodist Church 10235 County Rd KP Mazomanie WI 53560 United States;X-APPLE-RADIUS=500;X-TITLE=10235 County Rd KP:geo:-89.775204,43.1501599
END:VEVENT
BEGIN:VEVENT
DTSTART;TZID=America/Chicago:20260512T170000
DTEND;TZID=America/Chicago:20260512T180000
DTSTAMP:20260421T090233
CREATED:20240811T154849Z
LAST-MODIFIED:20240811T154849Z
UID:10009042-1778605200-1778608800@midlandunitedmethodist.com
SUMMARY:Finance Committee Budget Meeting
DESCRIPTION:
URL:https://midlandunitedmethodist.com/event/finance-committee-meeting-2-2026-04-14-7/
LOCATION:Midland United Methodist Church\, 10235 County Rd KP\, Mazomanie\, WI\, 53560\, United States
ORGANIZER;CN="Midland UMC":MAILTO:midlandumc@gmail.com
GEO:43.1501599;-89.775204
X-APPLE-STRUCTURED-LOCATION;VALUE=URI;X-ADDRESS=Midland United Methodist Church 10235 County Rd KP Mazomanie WI 53560 United States;X-APPLE-RADIUS=500;X-TITLE=10235 County Rd KP:geo:-89.775204,43.1501599
END:VEVENT
END:VCALENDAR